BEGIN:VCALENDAR
VERSION:2.0
PRODID:IEEE vTools.Events//EN
CALSCALE:GREGORIAN
BEGIN:VTIMEZONE
TZID:America/New_York
BEGIN:DAYLIGHT
DTSTART:20240310T030000
TZOFFSETFROM:-0500
TZOFFSETTO:-0400
RRULE:FREQ=YEARLY;BYDAY=2SU;BYMONTH=3
TZNAME:EDT
END:DAYLIGHT
BEGIN:STANDARD
DTSTART:20231105T010000
TZOFFSETFROM:-0400
TZOFFSETTO:-0500
RRULE:FREQ=YEARLY;BYDAY=1SU;BYMONTH=11
TZNAME:EST
END:STANDARD
END:VTIMEZONE
BEGIN:VEVENT
DTSTAMP:20231201T215425Z
UID:8541E6D1-78C9-4873-9990-D2B7AF35B832
DTSTART;TZID=America/New_York:20231121T163000
DTEND;TZID=America/New_York:20231121T173000
DESCRIPTION:David G. Williams P.E. and substation services Senior Engineer 
 at FirstEnergy Corporation\, will be presenting a 1-hour webinar on a new 
 technology for Digital Substations\, the IEC 61850 suite of standards.\n\n
 A 1-hour PDH certificate will be provided to attendees for Professional En
 gineer Continuing Education.\n\nIEC 61850 is a grouping of standards defin
 ing engineering and communication protocols for [intelligent electronic de
 vices](https://en.wikipedia.org/wiki/Intelligent_electronic_device) at [el
 ectrical substations](https://en.wikipedia.org/wiki/Electrical_substation)
 . The abstract data models defined in IEC 61850 can be mapped to a number 
 of protocols. Current mappings in the standard are to [Manufacturing Messa
 ge Specification](https://en.wikipedia.org/wiki/Manufacturing_Message_Spec
 ification) (MMS)\, [GOOSE](https://en.wikipedia.org/wiki/GOOSE) (Generic O
 bject Oriented System Event)\, and SV (Sampled Values) / SMV (Sampled Meas
 ured Values). Precision Time Protocol (PTP) IEEE 1588 / IEC-61850-9-3 is o
 ne more protocol that provides time synchronization supporting SV. These p
 rotocols operate on [TCP/IP](https://en.wikipedia.org/wiki/TCP/IP) and nat
 ive switched [Ethernet](https://en.wikipedia.org/wiki/Ethernet) networks e
 xisting as substation [LANs](https://en.wikipedia.org/wiki/LAN) to obtain 
 the necessary response times below four milliseconds for protective relayi
 ng.\n\nFocus in the webinar will be on an overview of these protocols and 
 how they allow protective relaying installations to operate with far less 
 copper wiring while improving safety with electrical isolation.\n\nSpeaker
 (s): David\, \n\nVirtual: https://events.vtools.ieee.org/m/384017
LOCATION:Virtual: https://events.vtools.ieee.org/m/384017
ORGANIZER:agmorinec@firstenergycorp.com
SEQUENCE:10
SUMMARY:Digital Substations and the IEC 61850 Standard
URL;VALUE=URI:https://events.vtools.ieee.org/m/384017
X-ALT-DESC:Description: &lt;br /&gt;&lt;p&gt;David G. Williams P.E. and substation serv
 ices Senior Engineer at FirstEnergy Corporation\, will be presenting a 1-h
 our webinar on a new technology for Digital Substations\, the IEC 61850 su
 ite of standards.&lt;/p&gt;\n&lt;p&gt;A 1-hour PDH certificate will be provided to att
 endees for Professional Engineer Continuing Education.&lt;/p&gt;\n&lt;p&gt;IEC 61850&amp;n
 bsp\;is a grouping of standards defining engineering and communication pro
 tocols for&amp;nbsp\;&lt;a class=&quot;fui-Link ___10kug0w f3rmtva f1ewtqcl fyind8e f1
 k6fduh f1w7gpdv fk6fouc fjoy568 figsok6 f1hu3pq6 f11qmguv f19f4twv f1tyq0w
 e f1g0x7ka fhxju0i f1qch9an f1cnd47f fqv5qza f1vmzxwi f1o700av f13mvf36 f1
 cmlufx f9n3di6 f1ids18y f1tx3yz7 f1deo86v f1eh06m1 f1iescvh fhgqx19 f1olyr
 je f1p93eir f1nev41a f1h8hb77 f1lqvz6u f10aw75t fsle3fq f17ae5zn&quot; title=&quot;h
 ttps://en.wikipedia.org/wiki/intelligent_electronic_device&quot; href=&quot;https://
 en.wikipedia.org/wiki/Intelligent_electronic_device&quot; target=&quot;_blank&quot; rel=&quot;
 noreferrer noopener&quot; aria-label=&quot;Link intelligent electronic devices&quot;&gt;inte
 lligent electronic devices&lt;/a&gt;&amp;nbsp\;at&amp;nbsp\;&lt;a class=&quot;fui-Link ___10kug0
 w f3rmtva f1ewtqcl fyind8e f1k6fduh f1w7gpdv fk6fouc fjoy568 figsok6 f1hu3
 pq6 f11qmguv f19f4twv f1tyq0we f1g0x7ka fhxju0i f1qch9an f1cnd47f fqv5qza 
 f1vmzxwi f1o700av f13mvf36 f1cmlufx f9n3di6 f1ids18y f1tx3yz7 f1deo86v f1e
 h06m1 f1iescvh fhgqx19 f1olyrje f1p93eir f1nev41a f1h8hb77 f1lqvz6u f10aw7
 5t fsle3fq f17ae5zn&quot; title=&quot;https://en.wikipedia.org/wiki/electrical_subst
 ation&quot; href=&quot;https://en.wikipedia.org/wiki/Electrical_substation&quot; target=&quot;
 _blank&quot; rel=&quot;noreferrer noopener&quot; aria-label=&quot;Link electrical substations&quot;
 &gt;electrical substations&lt;/a&gt;. The abstract data models defined in IEC 61850
  can be mapped to a number of protocols. Current mappings in the standard 
 are to&amp;nbsp\;&lt;a class=&quot;fui-Link ___10kug0w f3rmtva f1ewtqcl fyind8e f1k6fd
 uh f1w7gpdv fk6fouc fjoy568 figsok6 f1hu3pq6 f11qmguv f19f4twv f1tyq0we f1
 g0x7ka fhxju0i f1qch9an f1cnd47f fqv5qza f1vmzxwi f1o700av f13mvf36 f1cmlu
 fx f9n3di6 f1ids18y f1tx3yz7 f1deo86v f1eh06m1 f1iescvh fhgqx19 f1olyrje f
 1p93eir f1nev41a f1h8hb77 f1lqvz6u f10aw75t fsle3fq f17ae5zn&quot; title=&quot;https
 ://en.wikipedia.org/wiki/manufacturing_message_specification&quot; href=&quot;https:
 //en.wikipedia.org/wiki/Manufacturing_Message_Specification&quot; target=&quot;_blan
 k&quot; rel=&quot;noreferrer noopener&quot; aria-label=&quot;Link Manufacturing Message Specif
 ication&quot;&gt;Manufacturing Message Specification&lt;/a&gt;&amp;nbsp\;(MMS)\,&amp;nbsp\;&lt;a cl
 ass=&quot;fui-Link ___10kug0w f3rmtva f1ewtqcl fyind8e f1k6fduh f1w7gpdv fk6fou
 c fjoy568 figsok6 f1hu3pq6 f11qmguv f19f4twv f1tyq0we f1g0x7ka fhxju0i f1q
 ch9an f1cnd47f fqv5qza f1vmzxwi f1o700av f13mvf36 f1cmlufx f9n3di6 f1ids18
 y f1tx3yz7 f1deo86v f1eh06m1 f1iescvh fhgqx19 f1olyrje f1p93eir f1nev41a f
 1h8hb77 f1lqvz6u f10aw75t fsle3fq f17ae5zn&quot; title=&quot;https://en.wikipedia.or
 g/wiki/goose&quot; href=&quot;https://en.wikipedia.org/wiki/GOOSE&quot; target=&quot;_blank&quot; r
 el=&quot;noreferrer noopener&quot; aria-label=&quot;Link GOOSE&quot;&gt;GOOSE&lt;/a&gt;&amp;nbsp\;(Generic 
 Object Oriented System Event)\, and SV (Sampled Values) / SMV (Sampled Mea
 sured Values). Precision Time Protocol (PTP) IEEE 1588 / IEC-61850-9-3 is 
 one more protocol that provides time synchronization supporting SV. These 
 protocols operate on &lt;a class=&quot;fui-Link ___10kug0w f3rmtva f1ewtqcl fyind8
 e f1k6fduh f1w7gpdv fk6fouc fjoy568 figsok6 f1hu3pq6 f11qmguv f19f4twv f1t
 yq0we f1g0x7ka fhxju0i f1qch9an f1cnd47f fqv5qza f1vmzxwi f1o700av f13mvf3
 6 f1cmlufx f9n3di6 f1ids18y f1tx3yz7 f1deo86v f1eh06m1 f1iescvh fhgqx19 f1
 olyrje f1p93eir f1nev41a f1h8hb77 f1lqvz6u f10aw75t fsle3fq f17ae5zn&quot; titl
 e=&quot;https://en.wikipedia.org/wiki/tcp/ip&quot; href=&quot;https://en.wikipedia.org/wi
 ki/TCP/IP&quot; target=&quot;_blank&quot; rel=&quot;noreferrer noopener&quot; aria-label=&quot;Link TCP/
 IP&quot;&gt;TCP/IP&lt;/a&gt;&amp;nbsp\;and native switched&amp;nbsp\;&lt;a class=&quot;fui-Link ___10kug
 0w f3rmtva f1ewtqcl fyind8e f1k6fduh f1w7gpdv fk6fouc fjoy568 figsok6 f1hu
 3pq6 f11qmguv f19f4twv f1tyq0we f1g0x7ka fhxju0i f1qch9an f1cnd47f fqv5qza
  f1vmzxwi f1o700av f13mvf36 f1cmlufx f9n3di6 f1ids18y f1tx3yz7 f1deo86v f1
 eh06m1 f1iescvh fhgqx19 f1olyrje f1p93eir f1nev41a f1h8hb77 f1lqvz6u f10aw
 75t fsle3fq f17ae5zn&quot; title=&quot;https://en.wikipedia.org/wiki/ethernet&quot; href=
 &quot;https://en.wikipedia.org/wiki/Ethernet&quot; target=&quot;_blank&quot; rel=&quot;noreferrer n
 oopener&quot; aria-label=&quot;Link Ethernet&quot;&gt;Ethernet&lt;/a&gt; networks existing as subs
 tation&amp;nbsp\;&lt;a class=&quot;fui-Link ___10kug0w f3rmtva f1ewtqcl fyind8e f1k6fd
 uh f1w7gpdv fk6fouc fjoy568 figsok6 f1hu3pq6 f11qmguv f19f4twv f1tyq0we f1
 g0x7ka fhxju0i f1qch9an f1cnd47f fqv5qza f1vmzxwi f1o700av f13mvf36 f1cmlu
 fx f9n3di6 f1ids18y f1tx3yz7 f1deo86v f1eh06m1 f1iescvh fhgqx19 f1olyrje f
 1p93eir f1nev41a f1h8hb77 f1lqvz6u f10aw75t fsle3fq f17ae5zn&quot; title=&quot;https
 ://en.wikipedia.org/wiki/lan&quot; href=&quot;https://en.wikipedia.org/wiki/LAN&quot; tar
 get=&quot;_blank&quot; rel=&quot;noreferrer noopener&quot; aria-label=&quot;Link LANs&quot;&gt;LANs&lt;/a&gt;&amp;nbs
 p\;to obtain the necessary response times below four milliseconds for prot
 ective relaying.&lt;/p&gt;\n&lt;p&gt;Focus in the webinar will be on an overview of th
 ese protocols and how they allow protective relaying installations to oper
 ate with far less copper wiring while improving safety with electrical iso
 lation.&lt;/p&gt;
END:VEVENT
END:VCALENDAR

