BEGIN:VCALENDAR
VERSION:2.0
PRODID:IEEE vTools.Events//EN
CALSCALE:GREGORIAN
BEGIN:VTIMEZONE
TZID:America/Lima
BEGIN:DAYLIGHT
DTSTART:20380118T221407
TZOFFSETFROM:-0500
TZOFFSETTO:-0500
RRULE:FREQ=YEARLY;BYDAY=3MO;BYMONTH=1
TZNAME:-05
END:DAYLIGHT
BEGIN:STANDARD
DTSTART:19940331T230000
TZOFFSETFROM:-0400
TZOFFSETTO:-0500
RRULE:FREQ=YEARLY;BYDAY=-1TH;BYMONTH=3
TZNAME:-05
END:STANDARD
END:VTIMEZONE
BEGIN:VEVENT
DTSTAMP:20231119T005221Z
UID:2F0E58EB-C352-423E-8759-585135E9E92A
DTSTART;TZID=America/Lima:20221208T110000
DTEND;TZID=America/Lima:20221208T130000
DESCRIPTION:Como ha cambiado últimamente la tecnología en el día de hoy 
 y como podemos aplicarlo en nuestro día.\n\nCo-sponsored by: Renovation I
 T\n\nSpeaker(s): Paola\, \n\nRoom: Facultad de sistemas piso 4\, Bldg: EPN
 \, Av. Ladrón de Guevara E11-253\, Quito\, Pichincha\, Ecuador\, 170525
LOCATION:Room: Facultad de sistemas piso 4\, Bldg: EPN\, Av. Ladrón de Gue
 vara E11-253\, Quito\, Pichincha\, Ecuador\, 170525
ORGANIZER:cisepnecu@ieee.org
SEQUENCE:19
SUMMARY:El Rumbo que ha Tomado la Tecnología
URL;VALUE=URI:https://events.vtools.ieee.org/m/384795
X-ALT-DESC:Description: &lt;br /&gt;&lt;p&gt;Como ha cambiado &amp;uacute\;ltimamente la te
 cnolog&amp;iacute\;a en el d&amp;iacute\;a de hoy y como podemos aplicarlo en nues
 tro d&amp;iacute\;a.&lt;/p&gt;
END:VEVENT
END:VCALENDAR

