BEGIN:VCALENDAR
VERSION:2.0
PRODID:IEEE vTools.Events//EN
CALSCALE:GREGORIAN
BEGIN:VTIMEZONE
TZID:Asia/Kolkata
BEGIN:STANDARD
DTSTART:19451014T230000
TZOFFSETFROM:+0630
TZOFFSETTO:+0530
TZNAME:IST
END:STANDARD
END:VTIMEZONE
BEGIN:VEVENT
DTSTAMP:20231121T043730Z
UID:26DB69EB-20A8-46A6-9FD6-7E171B831E91
DTSTART;TZID=Asia/Kolkata:20231117T093000
DTEND;TZID=Asia/Kolkata:20231117T160000
DESCRIPTION:Department of Electrical and Electronics Engineering\, Sri Sai 
 Ram Institute of Technology has conducted a Prototype Extravaganza ELECTRA
  2023 program in association with IEEE Power Electronics Society on 17th N
 ovember 2023 by\n\nCHIEF GUEST: Dr.J BALAMURUGAN\, FIE\, Chairman - IEI \,
  Thiruvallur Local Centre\,\n\nAssistant Executive Engineer\, TANGEDCO\, S
 enior Manager/TEDA\, Chennai.\n\nELECTRA 2023 A Prototype Extravaganza pro
 gram inaugurated on Friday 17th November 2023. The program is started at 9
 .30 am with a prayer song followed by project presentation of students fro
 m various colleges. Around 100 students of EEE department participated and
  65 students of other college students attended the program and they showc
 ase their Project ideas in front of judges. Different non-technical events
  also conducted after the Project presentation.\n\nThe Valedictory functio
 n and prize distribution started at 2pm in smart class room. The welcome a
 ddress given by Dr.G.Prakash\, HOD/EEE\, Sri Sai Ram Institute of Technolo
 gy and the presidential address given by Dr K Palanikumar\, Principal\, Sr
 i Sai Ram Institute of Technology. This was succeeded by a special talk ab
 out opportunities for Electrical engineering graduates by Dr.J Balamurugan
 \, FIE\, Assistant Executive Engineer/TANGEDCO.\n\nMr.K.M.S. Surya\, Chair
 man of Electra 2023 presented the vote of thanks. Cash prize awards given 
 to best project idea’s presented as well as participation certificates i
 ssued to all the other engineering college students.\n\nCo-sponsored by: S
 RI SAI RAM INSTITUTE OF TECHNOLOGY\n\nSpeaker(s): DR J BALAMURUGAN\, \n\nB
 ldg: Smart Class Room\, Sri Sai Ram Institute of Technology\, Department o
 f EEE\, Chennai \, Tamil Nadu\, India\, 600044
LOCATION:Bldg: Smart Class Room\, Sri Sai Ram Institute of Technology\, Dep
 artment of EEE\, Chennai \, Tamil Nadu\, India\, 600044
ORGANIZER:maheswari.eee@sairamit.edu.in
SEQUENCE:10
SUMMARY:ELECTRA 2023
URL;VALUE=URI:https://events.vtools.ieee.org/m/385140
X-ALT-DESC:Description: &lt;br /&gt;&lt;p&gt;&lt;strong&gt;Department of Electrical and Elect
 ronics Engineering\, Sri Sai Ram Institute of Technology has conducted a P
 rototype Extravaganza ELECTRA 2023 program in association with IEEE Power 
 Electronics Society on 17th November 2023 by &lt;/strong&gt;&lt;/p&gt;\n&lt;p&gt;&lt;strong&gt;CHI
 EF GUEST: Dr.J BALAMURUGAN\, FIE\, &lt;/strong&gt;Chairman - IEI \, Thiruvallur 
 Local Centre\,&lt;/p&gt;\n&lt;p&gt;Assistant Executive Engineer\, TANGEDCO\, Senior Ma
 nager/TEDA\, Chennai.&lt;/p&gt;\n&lt;p&gt;ELECTRA 2023 A Prototype Extravaganza progra
 m inaugurated on Friday 17th November 2023. The program is started at 9.30
  am with a prayer song followed by project presentation of students from v
 arious colleges. Around 100 students of EEE department participated and 65
  students of other college students attended the program and they showcase
  their Project ideas in front of judges. Different non-technical events al
 so conducted after the Project presentation.&lt;/p&gt;\n&lt;p&gt;The Valedictory funct
 ion and prize distribution started at 2pm in smart class room. The welcome
  address given by &lt;strong&gt;Dr.G.Prakash\, HOD/EEE&lt;/strong&gt;\, Sri Sai Ram In
 stitute of Technology and the presidential address given by &lt;strong&gt;Dr K P
 alanikumar\,&lt;/strong&gt; Principal\, Sri Sai Ram Institute of Technology. Thi
 s was succeeded by a special talk about opportunities for Electrical engin
 eering graduates by Dr.J&lt;strong&gt; Balamurugan\, FIE\,&lt;/strong&gt; Assistant Ex
 ecutive Engineer/TANGEDCO.&lt;/p&gt;\n&lt;p&gt;&amp;nbsp\; &lt;strong&gt;Mr.K.M.S. Surya\, Chair
 man of Electra 2023&lt;/strong&gt; presented the vote of thanks. Cash prize awar
 ds given to best project idea&amp;rsquo\;s presented as well as participation 
 certificates issued to all the other engineering college students.&lt;/p&gt;
END:VEVENT
END:VCALENDAR

