BEGIN:VCALENDAR
VERSION:2.0
PRODID:IEEE vTools.Events//EN
CALSCALE:GREGORIAN
BEGIN:VTIMEZONE
TZID:Asia/Kolkata
BEGIN:STANDARD
DTSTART:19451014T230000
TZOFFSETFROM:+0630
TZOFFSETTO:+0530
TZNAME:IST
END:STANDARD
END:VTIMEZONE
BEGIN:VEVENT
DTSTAMP:20231121T174225Z
UID:C79EF5EE-089F-432C-9B73-C9BCCD8F5E2F
DTSTART;TZID=Asia/Kolkata:20231118T110000
DTEND;TZID=Asia/Kolkata:20231119T130000
DESCRIPTION:Department of Electronics &amp; Communication Engineeing has organi
 zed invited Alumni Talk titled &quot;Career Behind your Engineeing Education&quot; b
 y inviting Mr.Shabrish Sasindaran Nair\, Global HR\, TEVA Pharma Pvt Ltd. 
 Bangalore on 18.11.2023\n\nSpeaker(s): Mr.Shabrish Sasindar Nair\, \n\nK R
 amakrishnan College of Technology\, Samayapuram\, Tiruchirappalli\, Tamil 
 Nadu\, India\, 621112
LOCATION:K Ramakrishnan College of Technology\, Samayapuram\, Tiruchirappal
 li\, Tamil Nadu\, India\, 621112
ORGANIZER:syedakbar.s@krct.ac.in
SEQUENCE:0
SUMMARY:Invite Alumni Talk on &quot;Career Behind your Engineering Education&quot;
URL;VALUE=URI:https://events.vtools.ieee.org/m/385597
X-ALT-DESC:Description: &lt;br /&gt;&lt;p&gt;Department of Electronics &amp;amp\; Communica
 tion Engineeing has organized invited Alumni Talk titled &quot;Career Behind yo
 ur Engineeing Education&quot; by inviting Mr.Shabrish Sasindaran Nair\, Global 
 HR\, TEVA Pharma Pvt Ltd. Bangalore on 18.11.2023&lt;/p&gt;
END:VEVENT
END:VCALENDAR

