BEGIN:VCALENDAR
VERSION:2.0
PRODID:IEEE vTools.Events//EN
CALSCALE:GREGORIAN
BEGIN:VTIMEZONE
TZID:America/New_York
BEGIN:DAYLIGHT
DTSTART:20240310T030000
TZOFFSETFROM:-0500
TZOFFSETTO:-0400
RRULE:FREQ=YEARLY;BYDAY=2SU;BYMONTH=3
TZNAME:EDT
END:DAYLIGHT
BEGIN:STANDARD
DTSTART:20231105T010000
TZOFFSETFROM:-0400
TZOFFSETTO:-0500
RRULE:FREQ=YEARLY;BYDAY=1SU;BYMONTH=11
TZNAME:EST
END:STANDARD
END:VTIMEZONE
BEGIN:VEVENT
DTSTAMP:20231203T234442Z
UID:77D77BDC-DF7D-4D2F-9A78-B49892BF1F9A
DTSTART;TZID=America/New_York:20231130T150000
DTEND;TZID=America/New_York:20231130T160000
DESCRIPTION:Officers&#39; Meeting\n\nVirtual: https://events.vtools.ieee.org/m/
 386126
LOCATION:Virtual: https://events.vtools.ieee.org/m/386126
ORGANIZER:reza.dibaj@ieee.org
SEQUENCE:10
SUMMARY:Officers&#39; Meeting
URL;VALUE=URI:https://events.vtools.ieee.org/m/386126
X-ALT-DESC:Description: &lt;br /&gt;&lt;p&gt;Officers&#39; Meeting&lt;/p&gt;
END:VEVENT
END:VCALENDAR

