BEGIN:VCALENDAR
VERSION:2.0
PRODID:IEEE vTools.Events//EN
CALSCALE:GREGORIAN
BEGIN:VTIMEZONE
TZID:Europe/Rome
BEGIN:DAYLIGHT
DTSTART:20240331T030000
TZOFFSETFROM:+0100
TZOFFSETTO:+0200
RRULE:FREQ=YEARLY;BYDAY=-1SU;BYMONTH=3
TZNAME:CEST
END:DAYLIGHT
BEGIN:STANDARD
DTSTART:20231029T020000
TZOFFSETFROM:+0200
TZOFFSETTO:+0100
RRULE:FREQ=YEARLY;BYDAY=-1SU;BYMONTH=10
TZNAME:CET
END:STANDARD
END:VTIMEZONE
BEGIN:VEVENT
DTSTAMP:20231204T160622Z
UID:9E102858-937D-47DA-AF8E-EBC0C3423649
DTSTART;TZID=Europe/Rome:20231204T100000
DTEND;TZID=Europe/Rome:20231204T111500
DESCRIPTION:Demand Side Management and Flexibility in Tomorrow&#39;s Power Syst
 ems\n\nContext\n\nGuarantee a constant balance between generation and load
  is the cardinal rule for power systems. Though in the initial years of th
 is industry\, generation was the main contributor to this balance\, adapti
 ng the load and Demand Side Management (DSM) have been present for decades
 . For instance\, through variable tariffs\, since the 1970’s\, domestic 
 customers were encouraged to switch on their water heating at night. The g
 eneral scene of power systems over the past years has strongly evolved due
  to two main major reasons: the increasing share of renewable intermittent
  energy sources\, and the increasing share of electricity in the energy mi
 x\, with dynamic load and progress in automation and control but also with
  the arrival of new stakeholders and market rules. Power grid operators co
 ntinue being neutral to all players whilst always guaranteeing system reli
 ability. This historic role has faced new challenges and with more to come
 .\n\nMain challenges\n\nWith the strong increase of electricity generation
  from intermittent energy sources\, what has been marginal becomes central
  to system operators. Famous examples include on how generation may peak w
 hen consumption is down: wind generation at night (and negative energy pri
 ces)\, or solar at noon (and the famous “duck curve”). Combined with l
 arge intermittent generation\, the development of Distributed Energy Resou
 rces (DER) at distribution level is growing\, and the case of roof-top pho
 to-voltaic (PV). For system operators which traditionally not only kept tr
 ack but could control what generation was connected to the grid\, the grea
 t unknown of what is “beyond the meter” is part of the great disruptor
 s.\n\nA variety of global solutions\n\nThe necessity of increased demand s
 ide management (DSM) and flexibility is widely shared amongst power grid o
 perators and electricity stakeholders in general. The existence of interna
 tional organizations such as GO15\, which gathers some of the world&#39;s larg
 est power grid operators\, enables to share experience in see which soluti
 ons are specific and which could be adopted or adapted to other systems. T
 his presentation will illustrate some examples of flexibility implemented 
 or being investigated amongst some of these global players\, with focus on
  Belgium (Elia)\, France (RTE) and South Korea (KPX).\n\nPerspectives\n\nB
 attery storage is growing fast in some systems\, like California. The spee
 d of new technology and possible drop in prices could turn them more compe
 titive and present. Likewise\, the strong push in electric vehicles (EV) i
 s opening a large window of opportunity and changes. The potential stress 
 for the system to charge EVs at specific moments -but who can forecast how
  the customers will behave depending on electricity tariffs? – will be c
 ombined with the prospect of Vehicle-to-Grid (V2G) to increase system reli
 ability and resilience.\n\nSpeaker(s): Dr Bruno Meyer\n\nAgenda: \nAgenda\
 n\n- 10:00 IEEE PES Italy Chapter Award 2023 ceremony (IEEE PES Italy Outs
 tanding Engineer Award 2023\, IEEE PES Italy Outstanding Chapter Volunteer
  Award 2023\, and the IEEE PES Italy Chapter Outstanding Engineer Award 20
 23).\n\n- 10:15 Distinguished Lecture by Dr. B. Meyer\n\nVirtual: https://
 events.vtools.ieee.org/m/386246
LOCATION:Virtual: https://events.vtools.ieee.org/m/386246
ORGANIZER:giuditta.pisano@ieee.org
SEQUENCE:37
SUMMARY:IEEE ITALY PES CHAPTER DISTINGUISHED LECTURE PROGRAM: Demand Side M
 anagement and Flexibility in Tomorrow&#39;s Power Systems
URL;VALUE=URI:https://events.vtools.ieee.org/m/386246
X-ALT-DESC:Description: &lt;br /&gt;&lt;p&gt;&lt;span style=&quot;font-size: 18pt\;&quot;&gt;&lt;em&gt;&lt;stron
 g&gt;Demand Side Management and Flexibility in Tomorrow&#39;s Power Systems&lt;/stro
 ng&gt;&lt;/em&gt;&lt;/span&gt;&lt;/p&gt;\n&lt;p style=&quot;font-weight: 400\;&quot;&gt;&lt;strong&gt;Context&lt;/strong
 &gt;&lt;/p&gt;\n&lt;p style=&quot;font-weight: 400\;&quot;&gt;Guarantee a constant balance between 
 generation and load is the cardinal rule for power systems. Though in the 
 initial years of this industry\, generation was the main contributor to th
 is balance\, adapting the load and Demand Side Management (DSM) have been 
 present for decades. For instance\, through variable tariffs\, since the 1
 970&amp;rsquo\;s\, domestic customers were encouraged to switch on their water
  heating at night. The general scene of power systems over the past years 
 has strongly evolved due to two main major reasons: the increasing share o
 f renewable intermittent energy sources\, and the increasing share of elec
 tricity in the energy mix\, with dynamic load and progress in automation a
 nd control but also with the arrival of new stakeholders and market rules.
  Power grid operators continue being neutral to all players whilst always 
 guaranteeing system reliability. This historic role has faced new challeng
 es and with more to come.&lt;/p&gt;\n&lt;p style=&quot;font-weight: 400\;&quot;&gt;&lt;strong&gt;Main 
 challenges&lt;/strong&gt;&lt;/p&gt;\n&lt;p style=&quot;font-weight: 400\;&quot;&gt;With the strong inc
 rease of electricity generation from intermittent energy sources\, what ha
 s been marginal becomes central to system operators. Famous examples inclu
 de on how generation may peak when consumption is down: wind generation at
  night (and negative energy prices)\, or solar at noon (and the famous &amp;ld
 quo\;duck curve&amp;rdquo\;). Combined with large intermittent generation\, th
 e development of Distributed Energy Resources (DER) at distribution level 
 is growing\, and the case of roof-top photo-voltaic (PV). For system opera
 tors which traditionally not only kept track but could control what genera
 tion was connected to the grid\, the great unknown of what is &amp;ldquo\;beyo
 nd the meter&amp;rdquo\; is part of the great disruptors.&lt;/p&gt;\n&lt;p style=&quot;font-
 weight: 400\;&quot;&gt;&lt;strong&gt;A variety of global solutions&lt;/strong&gt;&lt;/p&gt;\n&lt;p styl
 e=&quot;font-weight: 400\;&quot;&gt;The necessity of increased demand side management (
 DSM) and flexibility is widely shared amongst power grid operators and ele
 ctricity stakeholders in general. The existence of international organizat
 ions such as GO15\, which gathers some of the world&#39;s largest power grid o
 perators\, enables to share experience in see which solutions are specific
  and which could be adopted or adapted to other systems. This presentation
  will illustrate some examples of flexibility implemented or being investi
 gated amongst some of these global players\, with focus on Belgium (Elia)\
 , France (RTE) and South Korea (KPX).&lt;/p&gt;\n&lt;p style=&quot;font-weight: 400\;&quot;&gt;&lt;
 strong&gt;Perspectives&lt;/strong&gt;&lt;/p&gt;\n&lt;p style=&quot;font-weight: 400\;&quot;&gt;Battery st
 orage is growing fast in some systems\, like California. The speed of new 
 technology and possible drop in prices could turn them more competitive an
 d present. Likewise\, the strong push in electric vehicles (EV) is opening
  a large window of opportunity and changes. The potential stress for the s
 ystem to charge EVs at specific moments -but who can forecast how the cust
 omers will behave depending on electricity tariffs? &amp;ndash\; will be combi
 ned with the prospect of Vehicle-to-Grid (V2G) to increase system reliabil
 ity and resilience.&lt;/p&gt;\n&lt;p&gt;&lt;span style=&quot;font-size: 12pt\;&quot;&gt;&amp;nbsp\; &amp;nbsp\
 ;&lt;/span&gt;&lt;/p&gt;&lt;br /&gt;&lt;br /&gt;Agenda: &lt;br /&gt;&lt;p&gt;&lt;span style=&quot;font-size: 14pt\;&quot;&gt;&lt;
 strong&gt;Agenda&lt;/strong&gt;&lt;/span&gt;&lt;/p&gt;\n&lt;p&gt;- &lt;strong&gt;10:00&lt;/strong&gt; &lt;em&gt;IEEE PE
 S Italy Chapter Award 2023 ceremony&lt;/em&gt; (IEEE PES Italy Outstanding Engin
 eer Award 2023\, IEEE PES Italy Outstanding Chapter Volunteer Award 2023\,
  and the IEEE PES Italy Chapter Outstanding Engineer Award 2023).&lt;/p&gt;\n&lt;p&gt;
 - &lt;strong&gt;10:15&lt;/strong&gt; &lt;em&gt;Distinguished Lecture by Dr. B. Meyer&lt;/em&gt;&lt;/p
 &gt;
END:VEVENT
END:VCALENDAR

