BEGIN:VCALENDAR
VERSION:2.0
PRODID:IEEE vTools.Events//EN
CALSCALE:GREGORIAN
BEGIN:VTIMEZONE
TZID:America/New_York
BEGIN:DAYLIGHT
DTSTART:20240310T030000
TZOFFSETFROM:-0500
TZOFFSETTO:-0400
RRULE:FREQ=YEARLY;BYDAY=2SU;BYMONTH=3
TZNAME:EDT
END:DAYLIGHT
BEGIN:STANDARD
DTSTART:20231105T010000
TZOFFSETFROM:-0400
TZOFFSETTO:-0500
RRULE:FREQ=YEARLY;BYDAY=1SU;BYMONTH=11
TZNAME:EST
END:STANDARD
END:VTIMEZONE
BEGIN:VEVENT
DTSTAMP:20231201T220949Z
UID:FBF71C2A-8A5C-4FC4-915F-D976594500D8
DTSTART;TZID=America/New_York:20231201T130000
DTEND;TZID=America/New_York:20231201T140000
DESCRIPTION:With the Fall term coming to a close\, some of the group will b
 e starting to get deep into their research\, while others may need a refre
 sher on some best practices. In this meeting\, we will give a short presen
 tation on how to use Zotero\, a free citation manager\, and some informati
 on on scholarships offered to EM students which you may be interested in a
 pplying for. The rest of the time will be for socializing and catching up 
 with your fellow students\, which you may have been neglecting while you w
 ere studying this term!\n\nFood and drinks will be provided! Please send m
 e an email at stewart.pearson@mail.utoronto.ca if you have any dietary res
 trictions or preferences.\n\nWe look forward to seeing you there!\n\nRoom:
  BA1780\, Bldg: Bahen Centre for Information Technology\, 40 St George St.
  \, Toronto\, Ontario\, Canada\, M5S 2E4
LOCATION:Room: BA1780\, Bldg: Bahen Centre for Information Technology\, 40 
 St George St. \, Toronto\, Ontario\, Canada\, M5S 2E4
ORGANIZER:stewart.pearson@mail.utoronto.ca
SEQUENCE:39
SUMMARY:U of T IEEE AP-S Student Chapter Research Tips and Social Event
URL;VALUE=URI:https://events.vtools.ieee.org/m/386248
X-ALT-DESC:Description: &lt;br /&gt;&lt;p&gt;With the Fall term coming to a close\, som
 e of the group will be starting to get deep into their research\, while ot
 hers may need a refresher on some best practices. In this meeting\, we wil
 l give a short presentation on how to use Zotero\, a free citation manager
 \, and some information on scholarships offered to EM students which you m
 ay be interested in applying for. The rest of the time will be for sociali
 zing and catching up with your fellow students\, which you may have been n
 eglecting while you were studying this term!&lt;/p&gt;\n&lt;p&gt;&lt;strong&gt;Food and drin
 ks will be provided! &lt;/strong&gt;Please send me an email at stewart.pearson@m
 ail.utoronto.ca if you have any dietary restrictions or preferences.&amp;nbsp\
 ;&lt;/p&gt;\n&lt;p&gt;We look forward to seeing you there!&lt;/p&gt;
END:VEVENT
END:VCALENDAR

