BEGIN:VCALENDAR
VERSION:2.0
PRODID:IEEE vTools.Events//EN
CALSCALE:GREGORIAN
BEGIN:VTIMEZONE
TZID:Europe/Paris
BEGIN:DAYLIGHT
DTSTART:20240331T030000
TZOFFSETFROM:+0100
TZOFFSETTO:+0200
RRULE:FREQ=YEARLY;BYDAY=-1SU;BYMONTH=3
TZNAME:CEST
END:DAYLIGHT
BEGIN:STANDARD
DTSTART:20231029T020000
TZOFFSETFROM:+0200
TZOFFSETTO:+0100
RRULE:FREQ=YEARLY;BYDAY=-1SU;BYMONTH=10
TZNAME:CET
END:STANDARD
END:VTIMEZONE
BEGIN:VEVENT
DTSTAMP:20231129T202436Z
UID:35719C13-EFEC-45D5-826A-BDBD86C16EE6
DTSTART;TZID=Europe/Paris:20231128T090000
DTEND;TZID=Europe/Paris:20231128T150000
DESCRIPTION:In a collaborative effort\, the Women in Engineering (WIE) Affi
 nity Group IEEE ISET Bizerte SB\, together with the 4C Center at ISET Bize
 rte\, partnered with INJAZ Tunisia to organize an awareness program for st
 udents highlighting the importance of innovation within a business context
 .\n\nKey Program Elements:\n\n- Innovation Camp Workshops:\n\n- The progra
 m\, titled &quot;Innovation Camp&quot;\, featured intensive entrepreneurship worksho
 ps adopting a participative pedagogical approach known as &quot;Learning by Doi
 ng.&quot;\n- Students were immersed in hands-on sessions\, challenging them to 
 tackle economic or social challenges and propose innovative solutions for 
 a sustainable business.\n\n- Local Competition:\n\n- The program initiated
  with a local competition held at the institutional level. A one-day\, 5-h
 our intensive training session was conducted by a team of volunteers mobil
 ized by INJAZ.\n- Objectives:\n- Demonstrate the importance of innovation 
 in businesses to students.\n- Teach students to identify investment opport
 unities.\n- Guide students in establishing a consistent corporate identity
 .\n- Instruct students in modeling their project ideas in the form of a &quot;B
 usiness Model.&quot;\n- Provide students with the opportunity to develop skills
  such as teamwork\, time management\, stress and conflict management\, and
  public speaking.\n\n- Competition Structure:\n\n- The local competition u
 nfolded over five hours\, with key activities including ICE Break activiti
 es\, analysis of a given problem\, presentation of analyses\, formation of
  various companies&#39; identities\, creation of &quot;Business Models&quot; for these c
 ompanies\, final presentations\, and the selection of the winning team.\n-
  Each phase of the program incorporated presentations by the workshop faci
 litator and dedicated team working time.\n\nConclusion: The &quot;Innovation Ca
 mp&quot; organized by WIE Affinity Group IEEE ISET Bizerte SB\, IEEE WIE ISET B
 izerte\, and the 4C Center at ISET Bizerte\, in partnership with INJAZ Tun
 isia\, successfully engaged students in a dynamic program aimed at instill
 ing the importance of innovation. The hands-on approach and collaborative 
 learning environment not only fostered creativity but also equipped studen
 ts with essential skills for their professional journey.\n\nCampus univers
 itaire Manzel Abderrahmane\, BP n° 65\, Bizerte\, Bizerte\, Tunisia\, 703
 5
LOCATION:Campus universitaire Manzel Abderrahmane\, BP n° 65\, Bizerte\, B
 izerte\, Tunisia\, 7035
ORGANIZER:nourheneboukraiem@ieee.org
SEQUENCE:11
SUMMARY:INJAZ workshop: innovation camp 9th Edition 
URL;VALUE=URI:https://events.vtools.ieee.org/m/386449
X-ALT-DESC:Description: &lt;br /&gt;&lt;p&gt;In a collaborative effort\, the &lt;strong&gt;Wo
 men in Engineering (WIE) Affinity Group IEEE ISET Bizerte SB&lt;/strong&gt;\, to
 gether with the &lt;strong&gt;4C Center at ISET Bizerte&lt;/strong&gt;\, partnered wit
 h &lt;strong&gt;INJAZ Tunisia&lt;/strong&gt; to organize an awareness program for stud
 ents highlighting the importance of innovation within a business context.&lt;
 /p&gt;\n&lt;p&gt;&lt;strong&gt;Key Program Elements:&lt;/strong&gt;&lt;/p&gt;\n&lt;ol&gt;\n&lt;li&gt;&lt;strong&gt;Inno
 vation Camp Workshops:&lt;/strong&gt;&lt;/li&gt;\n&lt;/ol&gt;\n&lt;ul&gt;\n&lt;li&gt;The program\, title
 d &lt;strong&gt;&quot;Innovation Camp&quot;&lt;/strong&gt;\, featured intensive entrepreneurship
  workshops adopting a participative pedagogical approach known as &quot;Learnin
 g by Doing.&quot;&lt;/li&gt;\n&lt;li&gt;Students were immersed in hands-on sessions\, chall
 enging them to tackle economic or social challenges and propose innovative
  solutions for a sustainable business.&lt;/li&gt;\n&lt;/ul&gt;\n&lt;ol&gt;\n&lt;li&gt;&lt;strong&gt;Loca
 l Competition:&lt;/strong&gt;&lt;/li&gt;\n&lt;/ol&gt;\n&lt;ul&gt;\n&lt;li&gt;The program initiated with 
 a local competition held at the institutional level. A one-day\, 5-hour in
 tensive training session was conducted by a team of volunteers mobilized b
 y INJAZ.&lt;/li&gt;\n&lt;li&gt;&lt;strong&gt;Objectives:&lt;/strong&gt;\n&lt;ul&gt;\n&lt;li&gt;Demonstrate the
  importance of innovation in businesses to students.&lt;/li&gt;\n&lt;li&gt;Teach stude
 nts to identify investment opportunities.&lt;/li&gt;\n&lt;li&gt;Guide students in esta
 blishing a consistent corporate identity.&lt;/li&gt;\n&lt;li&gt;Instruct students in m
 odeling their project ideas in the form of a &quot;Business Model.&quot;&lt;/li&gt;\n&lt;li&gt;P
 rovide students with the opportunity to develop skills such as teamwork\, 
 time management\, stress and conflict management\, and public speaking.&lt;/l
 i&gt;\n&lt;/ul&gt;\n&lt;/li&gt;\n&lt;/ul&gt;\n&lt;ol&gt;\n&lt;li&gt;&lt;strong&gt;Competition Structure:&lt;/strong&gt;
 &lt;/li&gt;\n&lt;/ol&gt;\n&lt;ul&gt;\n&lt;li&gt;The local competition unfolded over five hours\, w
 ith key activities including ICE Break activities\, analysis of a given pr
 oblem\, presentation of analyses\, formation of various companies&#39; identit
 ies\, creation of &quot;Business Models&quot; for these companies\, final presentati
 ons\, and the selection of the winning team.&lt;/li&gt;\n&lt;li&gt;Each phase of the p
 rogram incorporated presentations by the workshop facilitator and dedicate
 d team working time.&lt;/li&gt;\n&lt;/ul&gt;\n&lt;p&gt;&lt;strong&gt;Conclusion:&lt;/strong&gt; The &quot;Inn
 ovation Camp&quot; organized by WIE Affinity Group IEEE ISET Bizerte SB\, IEEE 
 WIE ISET Bizerte\, and the 4C Center at ISET Bizerte\, in partnership with
  INJAZ Tunisia\, successfully engaged students in a dynamic program aimed 
 at instilling the importance of innovation. The hands-on approach and coll
 aborative learning environment not only fostered creativity but also equip
 ped students with essential skills for their professional journey.&lt;/p&gt;
END:VEVENT
END:VCALENDAR

