BEGIN:VCALENDAR
VERSION:2.0
PRODID:IEEE vTools.Events//EN
CALSCALE:GREGORIAN
BEGIN:VTIMEZONE
TZID:Asia/Riyadh
BEGIN:DAYLIGHT
DTSTART:20380119T061407
TZOFFSETFROM:+0300
TZOFFSETTO:+0300
RRULE:FREQ=YEARLY;BYDAY=3TU;BYMONTH=1
TZNAME:+03
END:DAYLIGHT
BEGIN:STANDARD
DTSTART:19470313T235308
TZOFFSETFROM:+0306
TZOFFSETTO:+0300
RRULE:FREQ=YEARLY;BYDAY=2TH;BYMONTH=3
TZNAME:+03
END:STANDARD
END:VTIMEZONE
BEGIN:VEVENT
DTSTAMP:20231230T224116Z
UID:100A43A1-92FE-49AD-AA74-72ABF4D24E2D
DTSTART;TZID=Asia/Riyadh:20231127T100000
DTEND;TZID=Asia/Riyadh:20231127T130000
DESCRIPTION:Poster Presentattion Competition -AI and Applications\n\nCo-spo
 nsored by: IEEE-PNU Student Branch\n\nBldg: 150\, Department Of Electrical
  Engineering\, College Of Engineering\, Princess Nourah Bint Abdulrahman U
 niversity\, Riyadh\, Ar Riyad\, Saudi Arabia\, 84428
LOCATION:Bldg: 150\, Department Of Electrical Engineering\, College Of Engi
 neering\, Princess Nourah Bint Abdulrahman University\, Riyadh\, Ar Riyad\
 , Saudi Arabia\, 84428
ORGANIZER:shabanaurooj@ieee.org
SEQUENCE:3
SUMMARY:AI and Applications : A Poster Presentation Interacting Session
URL;VALUE=URI:https://events.vtools.ieee.org/m/386834
X-ALT-DESC:Description: &lt;br /&gt;&lt;p&gt;Poster Presentattion Competition -AI and A
 pplications&lt;/p&gt;
END:VEVENT
END:VCALENDAR

