BEGIN:VCALENDAR
VERSION:2.0
PRODID:IEEE vTools.Events//EN
CALSCALE:GREGORIAN
BEGIN:VTIMEZONE
TZID:Europe/Paris
BEGIN:DAYLIGHT
DTSTART:20240331T030000
TZOFFSETFROM:+0100
TZOFFSETTO:+0200
RRULE:FREQ=YEARLY;BYDAY=-1SU;BYMONTH=3
TZNAME:CEST
END:DAYLIGHT
BEGIN:STANDARD
DTSTART:20231029T020000
TZOFFSETFROM:+0200
TZOFFSETTO:+0100
RRULE:FREQ=YEARLY;BYDAY=-1SU;BYMONTH=10
TZNAME:CET
END:STANDARD
END:VTIMEZONE
BEGIN:VEVENT
DTSTAMP:20240107T174105Z
UID:35A6FE4B-9AB6-4860-99E4-59DF391C0E18
DTSTART;TZID=Europe/Paris:20231206T130000
DTEND;TZID=Europe/Paris:20231210T180000
DESCRIPTION:TechX is an IEEE CS event designed for students and young profe
 ssionals. It focuses on new technologies and offers various sessions\, inc
 luding technical demonstrations\, talks on emerging technologies\, and int
 eractions with industry experts. TechX also emphasizes leadership developm
 ent and soft skills\, providing sessions to help students become effective
  leaders and prepare for interviews.\n\nThe IEEE ENIS CS SBC has applied f
 or the TechX initiative and has been accepted to organize the event under 
 the name of &quot;IEEE CS TechX Tunisia Section&quot;. The event will include variou
 s workshops with the crown jewel of the event being a hackathon to be disc
 overed the day of the event.\n\nThis event is a pride to the ENIS SB and i
 s a great last event for this year&#39;s ExCom. Only time will tell on what ex
 periences await you during TechX!\n\nSpeaker(s): Montassar Souifi\, Sneha 
 Hegde\, Ala Chahtour\, Khaldoun Taktak\, Mondher Louati\, Ahmed Lahyeni\, 
 Zaher Kammoun\, Adel M. Alimi\n\nAgenda: \nDecember 6th:\n\nUI/UX Workshop
  13:00 to 16:00\n\nDecember 9th &amp; 10th:\n\nCheck-in 1:00 - 2:00\n\nOpening
  Ceremony 2:00 - 4:00\n\nBlockchain Workshop 4:00 - 5:30\n\nCoffee break 5
 :30 - 6:00\n\nWorkshop on the Transition from Academia to Professional lif
 e 6:00- 7:30\n\nDinner and fun 7:30 - 9:00\n\nHACKATHON 9:00-11:00 (breakf
 ast served within the hackathon: 7:00)\n\nWorkshop for HR &amp; interviews 11:
 00 - 12:00\n\nLunch 12:00 - 13:00\n\nPitching 13:00 - 17:00\n\nWinner Anno
 uncement 17:00 - 17:30\n\nENIS\, Sfax\, Sfax\, Tunisia
LOCATION:ENIS\, Sfax\, Sfax\, Tunisia
ORGANIZER:mahdi.bradai21@ieee.org
SEQUENCE:92
SUMMARY:IEEE CS TechX Tunisia Section
URL;VALUE=URI:https://events.vtools.ieee.org/m/387746
X-ALT-DESC:Description: &lt;br /&gt;&lt;p&gt;TechX is an &lt;span style=&quot;color: #e67e23\;&quot;
 &gt;&lt;strong&gt;IEEE CS&lt;/strong&gt;&lt;/span&gt; event designed for students and young pro
 fessionals. It focuses on new technologies and offers various sessions\, i
 ncluding technical demonstrations\, talks on emerging technologies\, and i
 nteractions with industry experts. &lt;span style=&quot;color: #f1c40f\;&quot;&gt;&lt;strong&gt;
 TechX&lt;/strong&gt;&lt;/span&gt; also emphasizes leadership development and soft skil
 ls\, providing sessions to help students become effective leaders and prep
 are for interviews.&amp;nbsp\;&lt;br /&gt;&lt;br /&gt;The &lt;span style=&quot;color: #e67e23\;&quot;&gt;I
 EEE ENIS CS SBC&lt;/span&gt; has applied for the &lt;strong&gt;&lt;span style=&quot;color: #f1
 c40f\;&quot;&gt;TechX&lt;/span&gt;&lt;/strong&gt; initiative and has been accepted to organize
  the event under the name of &quot;&lt;strong&gt;IEEE CS TechX Tunisia Section&lt;/stron
 g&gt;&quot;. The event will include various workshops with the crown jewel of the 
 event being a hackathon to be discovered the day of the event.&lt;br /&gt;&lt;br /&gt;
 This event is a pride to the &lt;span style=&quot;color: #236fa1\;&quot;&gt;ENIS SB&lt;/span&gt;
  and is a great last event for this year&#39;s ExCom. Only time will tell on w
 hat experiences await you during &lt;span style=&quot;color: #f1c40f\;&quot;&gt;&lt;strong&gt;Te
 chX&lt;/strong&gt;&lt;/span&gt;!&lt;/p&gt;&lt;br /&gt;&lt;br /&gt;Agenda: &lt;br /&gt;&lt;p&gt;December 6th:&lt;/p&gt;\n&lt;p
 &gt;UI/UX Workshop 13:00 to 16:00&lt;/p&gt;\n&lt;p&gt;&amp;nbsp\;&lt;/p&gt;\n&lt;p&gt;December 9th &amp;amp\;
  10th:&lt;/p&gt;\n&lt;p&gt;&lt;span style=&quot;font-weight: 400\;&quot;&gt;Check-in 1:00 - 2:00&lt;/span
 &gt;&lt;/p&gt;\n&lt;p&gt;&lt;span style=&quot;font-weight: 400\;&quot;&gt;Opening Ceremony 2:00 - 4:00&amp;nb
 sp\;&lt;/span&gt;&lt;/p&gt;\n&lt;p&gt;&lt;span style=&quot;font-weight: 400\;&quot;&gt;Blockchain Workshop 4
 :00 - 5:30&lt;/span&gt;&lt;/p&gt;\n&lt;p&gt;&lt;span style=&quot;font-weight: 400\;&quot;&gt;Coffee break 5:
 30 - 6:00&lt;/span&gt;&lt;/p&gt;\n&lt;p&gt;&lt;span style=&quot;font-weight: 400\;&quot;&gt;Workshop on the 
 Transition from Academia to Professional life 6:00- 7:30&amp;nbsp\; &lt;br /&gt;&lt;/sp
 an&gt;&lt;/p&gt;\n&lt;p&gt;&lt;span style=&quot;font-weight: 400\;&quot;&gt;Dinner and fun 7:30 - 9:00&lt;/s
 pan&gt;&lt;/p&gt;\n&lt;p&gt;&lt;span style=&quot;font-weight: 400\;&quot;&gt;HACKATHON 9:00-11:00 (breakf
 ast served within the hackathon: 7:00)&lt;/span&gt;&lt;/p&gt;\n&lt;p&gt;&lt;span style=&quot;font-we
 ight: 400\;&quot;&gt;Workshop for HR &amp;amp\; interviews 11:00 - 12:00&lt;/span&gt;&lt;/p&gt;\n&lt;
 p&gt;&lt;span style=&quot;font-weight: 400\;&quot;&gt;Lunch 12:00 - 13:00&lt;/span&gt;&lt;/p&gt;\n&lt;p&gt;&lt;spa
 n style=&quot;font-weight: 400\;&quot;&gt;Pitching 13:00 - 17:00&lt;/span&gt;&lt;/p&gt;\n&lt;p&gt;&lt;span s
 tyle=&quot;font-weight: 400\;&quot;&gt;Winner Announcement 17:00 - 17:30&lt;/span&gt;&lt;/p&gt;
END:VEVENT
END:VCALENDAR

