BEGIN:VCALENDAR
VERSION:2.0
PRODID:IEEE vTools.Events//EN
CALSCALE:GREGORIAN
BEGIN:VTIMEZONE
TZID:US/Pacific
BEGIN:DAYLIGHT
DTSTART:20170312T030000
TZOFFSETFROM:-0800
TZOFFSETTO:-0700
RRULE:FREQ=YEARLY;BYDAY=2SU;BYMONTH=3
TZNAME:PDT
END:DAYLIGHT
BEGIN:STANDARD
DTSTART:20171105T010000
TZOFFSETFROM:-0700
TZOFFSETTO:-0800
RRULE:FREQ=YEARLY;BYDAY=1SU;BYMONTH=11
TZNAME:PST
END:STANDARD
END:VTIMEZONE
BEGIN:VEVENT
DTSTAMP:20180330T171949Z
UID:2C399D91-E1BE-11E5-A050-0050568D2FB3
DTSTART;TZID=US/Pacific:20170419T114500
DTEND;TZID=US/Pacific:20170419T130000
DESCRIPTION:Topic: Transient Recovery Voltage – Review\, Study and Modell
 ing\n\nSpeaker: Ali Daneshpooy\, Director\, Western Region Transmission\, 
 Quanta\, LLC\n\nThe presentation provides a preliminary insight into Trans
 ient Recovery Voltage (TRV) basics\, and will address the following import
 ant topics:\n\n- What is TRV?\n- Why is TRV important?\n- Short circuit cu
 rrent\n- Preliminary review of circuit breakers\n- Terminal fault\n- Short
  line fault\n- Load switching\n- Applicable standards\n\nLunch will be pro
 vided (includes vegetarian). There will be a $5 fee to IEEE Members and a 
 $10 fee to Non Members. Payments to be made in person (cash or check) at t
 he event.\n\nThe SF PES Chapter AdCom is mindful of our environment and fo
 od waste. As a courtesy\, please email our Secretary\, Rahul Anilkumar (ra
 nilkumar@quanta-technology.com) no later than the day before the event if 
 you absolutely need to cancel your reservation. Thank you!\n\nSpeaker(s): 
 Ali Daneshpooy\, Director\, Western Region Transmission\, \n\nRoom: Golden
  Gate Room\, Bldg: 505 Van Ness Avenue\, San Francisco\, California\, Unit
 ed States\, 94102
LOCATION:Room: Golden Gate Room\, Bldg: 505 Van Ness Avenue\, San Francisco
 \, California\, United States\, 94102
ORGANIZER:ranilkumar@quanta-technology.com
SEQUENCE:10
SUMMARY:SF Power and Energy Society Technical Presentation April 19 2017
URL;VALUE=URI:https://events.vtools.ieee.org/m/38788
X-ALT-DESC:Description: &lt;br /&gt;&lt;p&gt;&lt;span style=&quot;font-size: 12pt\;&quot;&gt;&lt;strong&gt;To
 pic:&amp;nbsp\;&lt;/strong&gt;&lt;strong&gt;&lt;strong&gt;Transient Recovery Voltage &amp;ndash\; Re
 view\, Study and Modelling&lt;br /&gt;&lt;/strong&gt;&lt;/strong&gt;&lt;/span&gt;&lt;/p&gt;\n&lt;p&gt;&lt;span st
 yle=&quot;font-size: 12pt\;&quot;&gt;&lt;strong&gt;Speaker:&amp;nbsp\;Ali Daneshpooy\, Director\,
  Western Region Transmission\, Quanta\, LLC&amp;nbsp\;&lt;/strong&gt;&lt;/span&gt;&lt;/p&gt;\n&lt;p
 &gt;&lt;span style=&quot;font-size: 12pt\;&quot;&gt;The presentation provides a preliminary i
 nsight into Transient Recovery Voltage (TRV) basics\, and will address the
  following important topics:&lt;/span&gt;&lt;/p&gt;\n&lt;ul&gt;\n&lt;li&gt;&lt;span style=&quot;font-size:
  12pt\;&quot;&gt;What is TRV?&lt;/span&gt;&lt;/li&gt;\n&lt;li&gt;&lt;span style=&quot;font-size: 12pt\;&quot;&gt;Why
  is TRV important?&lt;/span&gt;&lt;/li&gt;\n&lt;li&gt;&lt;span style=&quot;font-size: 12pt\;&quot;&gt;Short 
 circuit current&lt;/span&gt;&lt;/li&gt;\n&lt;li&gt;&lt;span style=&quot;font-size: 12pt\;&quot;&gt;Prelimina
 ry review of circuit breakers&lt;/span&gt;&lt;/li&gt;\n&lt;li&gt;&lt;span style=&quot;font-size: 12p
 t\;&quot;&gt;Terminal fault&lt;/span&gt;&lt;/li&gt;\n&lt;li&gt;&lt;span style=&quot;font-size: 12pt\;&quot;&gt;Short
  line fault&lt;/span&gt;&lt;/li&gt;\n&lt;li&gt;&lt;span style=&quot;font-size: 12pt\;&quot;&gt;Load switchin
 g&lt;/span&gt;&lt;/li&gt;\n&lt;li&gt;&lt;span style=&quot;font-size: 12pt\;&quot;&gt;Applicable standards&lt;/s
 pan&gt;&lt;/li&gt;\n&lt;/ul&gt;\n&lt;p class=&quot;yiv0956969325MsoNormal&quot;&gt;&lt;span style=&quot;color: #f
 f6600\;&quot;&gt;Lunch will be provided (includes vegetarian). There will be a $5 
 fee to IEEE Members and a $10 fee to Non Members. Payments to be made in p
 erson (cash or check) at the event.&lt;/span&gt;&lt;/p&gt;\n&lt;p class=&quot;yiv0956969325Mso
 Normal&quot;&gt;&lt;span style=&quot;color: #ff6600\;&quot;&gt;&lt;span style=&quot;color: #008000\;&quot;&gt;The 
 SF PES Chapter AdCom is mindful of our environment and food waste. &amp;nbsp\;
 As a courtesy\, please email our Secretary\, Rahul Anilkumar (ranilkumar@q
 uanta-technology.com) no later than the day before the event if you absolu
 tely need to cancel your reservation. &amp;nbsp\;Thank you!&amp;nbsp\;&lt;/span&gt;&amp;nbsp
 \;&lt;/span&gt;&lt;/p&gt;
END:VEVENT
END:VCALENDAR

