BEGIN:VCALENDAR
VERSION:2.0
PRODID:IEEE vTools.Events//EN
CALSCALE:GREGORIAN
BEGIN:VTIMEZONE
TZID:Europe/Paris
BEGIN:DAYLIGHT
DTSTART:20240331T030000
TZOFFSETFROM:+0100
TZOFFSETTO:+0200
RRULE:FREQ=YEARLY;BYDAY=-1SU;BYMONTH=3
TZNAME:CEST
END:DAYLIGHT
BEGIN:STANDARD
DTSTART:20231029T020000
TZOFFSETFROM:+0200
TZOFFSETTO:+0100
RRULE:FREQ=YEARLY;BYDAY=-1SU;BYMONTH=10
TZNAME:CET
END:STANDARD
END:VTIMEZONE
BEGIN:VEVENT
DTSTAMP:20231201T223748Z
UID:FD4CAD76-EEFB-4D51-9B37-666ED241962D
DTSTART;TZID=Europe/Paris:20231118T150000
DTEND;TZID=Europe/Paris:20231118T190000
DESCRIPTION:Our ISGIS Student Branch recently hosted a dynamic and invigora
 ting Team Building Day\, where the essence of togetherness and camaraderie
  took center stage. This event was a testament to the significance of unit
 y within our dynamic team\, fostering a collaborative spirit that propels 
 us towards shared goals.\n\nThe day kicked off with a series of engaging a
 ctivities designed to challenge and strengthen our teamwork. Through colla
 borative problem-solving and team-oriented challenges\, we not only showca
 sed our individual strengths but also discovered the incredible power that
  arises when we work cohesively as a unit. These activities served as a re
 minder that our collective synergy is the driving force behind our success
 .\n\nAmidst the team-building exercises\, we took a moment to reflect on o
 ur journey so far and articulate our aspirations for the future. Discussio
 ns ranged from innovative project ideas to strategies for enhancing our im
 pact within the community. The Team Building Day provided a unique platfor
 m for open dialogue\, enabling us to align our visions and set a clear tra
 jectory for the upcoming months.\n\nWorkshops were a pivotal component of 
 the day\, delving into skill development\, leadership strategies\, and eff
 ective communication techniques. By investing time in these workshops\, we
  aimed to equip ourselves with the tools necessary to navigate the challen
 ges ahead and emerge as a stronger\, more cohesive team.\n\nAs we celebrat
 ed the spirit of togetherness\, the day also served as a warm welcome to n
 ew additions to our team. New members were introduced\, and their unique p
 erspectives and talents were acknowledged. The event marked the beginning 
 of their exciting journey within the ISGIS Student Branch\, fostering a se
 nse of belonging and community right from the start.\n\nIn essence\, the T
 eam Building Day was a resounding success\, emphasizing the importance of 
 unity\, communication\, and collaboration in achieving our collective goal
 s. It was a day filled with laughter\, learning\, and the forging of meani
 ngful connections\, setting the stage for a future brimming with shared su
 ccesses and accomplishments.\n\nsfax\, Sfax\, Tunisia
LOCATION:sfax\, Sfax\, Tunisia
ORGANIZER:ieee.isgis.sb@gmail.com
SEQUENCE:42
SUMMARY:Team building day
URL;VALUE=URI:https://events.vtools.ieee.org/m/388071
X-ALT-DESC:Description: &lt;br /&gt;&lt;p&gt;Our ISGIS Student Branch recently hosted a
  dynamic and invigorating Team Building Day\, where the essence of togethe
 rness and camaraderie took center stage. This event was a testament to the
  significance of unity within our dynamic team\, fostering a collaborative
  spirit that propels us towards shared goals.&lt;/p&gt;\n&lt;p&gt;The day kicked off w
 ith a series of engaging activities designed to challenge and strengthen o
 ur teamwork. Through collaborative problem-solving and team-oriented chall
 enges\, we not only showcased our individual strengths but also discovered
  the incredible power that arises when we work cohesively as a unit. These
  activities served as a reminder that our collective synergy is the drivin
 g force behind our success.&lt;/p&gt;\n&lt;p&gt;Amidst the team-building exercises\, w
 e took a moment to reflect on our journey so far and articulate our aspira
 tions for the future. Discussions ranged from innovative project ideas to 
 strategies for enhancing our impact within the community. The Team Buildin
 g Day provided a unique platform for open dialogue\, enabling us to align 
 our visions and set a clear trajectory for the upcoming months.&lt;/p&gt;\n&lt;p&gt;Wo
 rkshops were a pivotal component of the day\, delving into skill developme
 nt\, leadership strategies\, and effective communication techniques. By in
 vesting time in these workshops\, we aimed to equip ourselves with the too
 ls necessary to navigate the challenges ahead and emerge as a stronger\, m
 ore cohesive team.&lt;/p&gt;\n&lt;p&gt;As we celebrated the spirit of togetherness\, t
 he day also served as a warm welcome to new additions to our team. New mem
 bers were introduced\, and their unique perspectives and talents were ackn
 owledged. The event marked the beginning of their exciting journey within 
 the ISGIS Student Branch\, fostering a sense of belonging and community ri
 ght from the start.&lt;/p&gt;\n&lt;p&gt;In essence\, the Team Building Day was a resou
 nding success\, emphasizing the importance of unity\, communication\, and 
 collaboration in achieving our collective goals. It was a day filled with 
 laughter\, learning\, and the forging of meaningful connections\, setting 
 the stage for a future brimming with shared successes and accomplishments.
 &lt;/p&gt;
END:VEVENT
END:VCALENDAR

