BEGIN:VCALENDAR
VERSION:2.0
PRODID:IEEE vTools.Events//EN
CALSCALE:GREGORIAN
BEGIN:VTIMEZONE
TZID:Asia/Kolkata
BEGIN:STANDARD
DTSTART:19451014T230000
TZOFFSETFROM:+0630
TZOFFSETTO:+0530
TZNAME:IST
END:STANDARD
END:VTIMEZONE
BEGIN:VEVENT
DTSTAMP:20231212T050426Z
UID:D6535AEB-5C79-424D-9801-B11CA9591FF4
DTSTART;TZID=Asia/Kolkata:20231211T100000
DTEND;TZID=Asia/Kolkata:20231211T120000
DESCRIPTION:The POSH Act is a legislation enacted by the Government of Indi
 a in 2013 to address the issue of sexual harassment faced by men &amp; women. 
 The Act aims to create a safe and conducive environment for protection aga
 inst sexual harassment. The POSH act is of prevention\, prohibition &amp; redr
 essal\, which aims to educate the youth especially about their legal right
 s.\nDATE OF THE EVENT: 04.12.2023\nLAST DATE FOR REGISTRATION: 30.11.2023\
 nPLACE: SRI SAIRAM ENGINEERING COLLEGE\, CHENNAI\nVENUE : SMART CLASSROOM 
 2\nTIMING : 2 TO 4 PM\nDIGITAL E CERTIFICATE WILL BE PROVIDED BY POSH FOR 
 ALL THE PARTICIPANTS\n\nCo-sponsored by: Sri Sairam Engineering College Wo
 WWW cell\n\nSpeaker(s): Shreyaas\, PP Shreyaas\n\nRoom: Smart Class room 2
 \, Bldg: Sai Leo Nagar\, Sri Sai Ram Engineering College\, West Tambaram\,
  Chennai\, Tamil Nadu\, India\, 600044
LOCATION:Room: Smart Class room 2\, Bldg: Sai Leo Nagar\, Sri Sai Ram Engin
 eering College\, West Tambaram\, Chennai\, Tamil Nadu\, India\, 600044
ORGANIZER:drbmeenakshi@ieee.org
SEQUENCE:25
SUMMARY:A workshop on POSH
URL;VALUE=URI:https://events.vtools.ieee.org/m/388150
X-ALT-DESC:Description: &lt;br /&gt;&lt;p&gt;&amp;nbsp\;The POSH Act is a legislation enact
 ed by the Government of India in 2013 to address the issue of sexual haras
 sment faced by men &amp;amp\; women. The Act aims to create a safe and conduci
 ve environment for protection against sexual harassment. The POSH act is o
 f prevention\, prohibition &amp;amp\; redressal\, which aims to educate the yo
 uth especially about their legal rights.&amp;nbsp\;&amp;nbsp\;&lt;/p&gt;\n&lt;div&gt;DATE OF T
 HE EVENT: 04.12.2023&lt;/div&gt;\n&lt;div&gt;LAST DATE FOR REGISTRATION:&amp;nbsp\; 30.11.
 2023&lt;br /&gt;PLACE: SRI SAIRAM ENGINEERING COLLEGE\, CHENNAI&lt;/div&gt;\n&lt;div&gt;VENU
 E : SMART CLASSROOM 2&lt;/div&gt;\n&lt;div&gt;TIMING : 2 TO 4 PM&lt;/div&gt;\n&lt;div&gt;DIGITAL E
  CERTIFICATE WILL BE PROVIDED BY POSH FOR ALL THE PARTICIPANTS&lt;/div&gt;
END:VEVENT
END:VCALENDAR

