BEGIN:VCALENDAR
VERSION:2.0
PRODID:IEEE vTools.Events//EN
CALSCALE:GREGORIAN
BEGIN:VTIMEZONE
TZID:Europe/Prague
BEGIN:DAYLIGHT
DTSTART:20240331T030000
TZOFFSETFROM:+0100
TZOFFSETTO:+0200
RRULE:FREQ=YEARLY;BYDAY=-1SU;BYMONTH=3
TZNAME:CEST
END:DAYLIGHT
BEGIN:STANDARD
DTSTART:20241027T020000
TZOFFSETFROM:+0200
TZOFFSETTO:+0100
RRULE:FREQ=YEARLY;BYDAY=-1SU;BYMONTH=10
TZNAME:CET
END:STANDARD
END:VTIMEZONE
BEGIN:VEVENT
DTSTAMP:20240908T120106Z
UID:742DBBDB-41D6-4AEE-8340-9AF1279C7DFA
DTSTART;TZID=Europe/Prague:20240903T130000
DTEND;TZID=Europe/Prague:20240905T180000
DESCRIPTION:Diagnostika (CDEE) is a traditional scientific conference organ
 ized by the Faculty of Electrical Engineering\, University of West Bohemia
  in Pilsen. The purpose of this biennial conference\, founded in 1993 by p
 rof. Mentlík\, is to share the latest events and developments in the fiel
 d of diagnostics. Next event will be the sixteenth meeting of scientists a
 nd experts involved in electrical engineering diagnostics. As usual\, ever
 yone interested in electrical engineering\, structure of materials\, their
  features and applications in electrical systems will have an opportunity 
 for the professional exchange of knowledge and research results.\n\nIMPORT
 ANT DATES/DEADLINES\n\n15. 12. 2023 Abstract submission\n\n15. 1. 2024 Abs
 tract acceptance notification\n\n15. 4. 2024 Full paper submission\n\n31. 
 5. 2024 Review\n\n15. 6. 2024 Registration start and conference fee\n\n30.
  6. 2024 Final paper submission\n\n3. 9. 2024 Conference opening\n\nCo-spo
 nsored by: Faculty of Electrical Engineering\, University of West Bohemia\
 , Univerzitni 2732/8\, 301 00 Pilsen\, Czech Republic\, Europe\n\nAgenda: 
 \nThe conference is structure to oral and poster sessions.\n\nLaboratory M
 ethods of Diagnostics\n\nOn-Site Testing of Electrical Appliances\n\nElect
 rical Insulation Properties and Structural Changes\n\nOther Diagnostic Met
 hods\n\nTheories\, Methods and Models\n\nCondition Monitoring\n\nElectric 
 Machines and Devices\n\nBldg: Congress Center Parkhotel Plzen\, U Borskeho
  parku 2791\, Pilsen\, Czech Republic\, Czech Republic\, 32004
LOCATION:Bldg: Congress Center Parkhotel Plzen\, U Borskeho parku 2791\, Pi
 lsen\, Czech Republic\, Czech Republic\, 32004
ORGANIZER:mionge@fel.zcu.cz
SEQUENCE:21
SUMMARY:2024 International Conference on Diagnostics in Electrical Engineer
 ing (Diagnostika)
URL;VALUE=URI:https://events.vtools.ieee.org/m/388619
X-ALT-DESC:Description: &lt;br /&gt;&lt;p&gt;Diagnostika (CDEE) is a traditional scient
 ific conference organized by the Faculty of Electrical Engineering\, Unive
 rsity of West Bohemia in Pilsen. The purpose of this biennial conference\,
  founded in 1993 by prof. Mentl&amp;iacute\;k\, is to share the latest events 
 and developments in the field of diagnostics. Next event will be the sixte
 enth meeting of scientists and experts involved in electrical engineering 
 diagnostics. As usual\, everyone interested in electrical engineering\, st
 ructure of materials\, their features and applications in electrical syste
 ms will have an opportunity for the professional exchange of knowledge and
  research results.&amp;nbsp\;&lt;/p&gt;\n&lt;div class=&quot;row topictitle&quot;&gt;\n&lt;h2&gt;&amp;nbsp\;&lt;/
 h2&gt;\n&lt;h2&gt;IMPORTANT DATES/DEADLINES&lt;/h2&gt;\n&lt;/div&gt;\n&lt;div class=&quot;line-dec&quot;&gt;&amp;nb
 sp\;&lt;/div&gt;\n&lt;div class=&quot;line-dec&quot;&gt;15. 12. 2023 Abstract submission&lt;/div&gt;\n
 &lt;div class=&quot;row deadlines&quot;&gt;\n&lt;div class=&quot;column col-12&quot;&gt;\n&lt;p class=&quot;&quot;&gt;15. 
 1. 2024 Abstract acceptance notification&lt;/p&gt;\n&lt;p class=&quot;&quot;&gt;15. 4. 2024 Full
  paper submission&lt;/p&gt;\n&lt;p class=&quot;&quot;&gt;31. 5. 2024 Review&lt;/p&gt;\n&lt;p class=&quot;&quot;&gt;15.
  6. 2024 Registration start and conference fee&lt;/p&gt;\n&lt;p class=&quot;&quot;&gt;30. 6. 202
 4 Final paper submission&lt;/p&gt;\n&lt;p class=&quot;&quot;&gt;&lt;span class=&quot;&quot;&gt;3. 9. 2024 Confer
 ence opening&lt;/span&gt;&lt;/p&gt;\n&lt;/div&gt;\n&lt;/div&gt;&lt;br /&gt;&lt;br /&gt;Agenda: &lt;br /&gt;&lt;div clas
 s=&quot;row topicsmall&quot;&gt;\n&lt;div class=&quot;column col-12&quot;&gt;\n&lt;p&gt;The conference is str
 ucture to oral and poster sessions.&lt;/p&gt;\n&lt;/div&gt;\n&lt;/div&gt;\n&lt;div class=&quot;row t
 opiclist&quot;&gt;\n&lt;div class=&quot;column col-12 col-md-6&quot;&gt;\n&lt;p&gt;&amp;nbsp\;Laboratory Met
 hods of Diagnostics&lt;/p&gt;\n&lt;p&gt;&amp;nbsp\;On-Site Testing of Electrical Appliance
 s&lt;/p&gt;\n&lt;p&gt;&amp;nbsp\;Electrical Insulation Properties and Structural Changes&lt;/
 p&gt;\n&lt;p&gt;&amp;nbsp\;Other Diagnostic Methods&lt;/p&gt;\n&lt;/div&gt;\n&lt;div class=&quot;column col
 -12 col-md-6&quot;&gt;\n&lt;p&gt;&amp;nbsp\;Theories\, Methods and Models&lt;/p&gt;\n&lt;p&gt;&amp;nbsp\;Con
 dition Monitoring&lt;/p&gt;\n&lt;p&gt;&amp;nbsp\;Electric Machines and Devices&lt;/p&gt;\n&lt;/div&gt;
 \n&lt;/div&gt;
END:VEVENT
END:VCALENDAR

