BEGIN:VCALENDAR
VERSION:2.0
PRODID:IEEE vTools.Events//EN
CALSCALE:GREGORIAN
BEGIN:VTIMEZONE
TZID:America/Chicago
BEGIN:DAYLIGHT
DTSTART:20240310T030000
TZOFFSETFROM:-0600
TZOFFSETTO:-0500
RRULE:FREQ=YEARLY;BYDAY=2SU;BYMONTH=3
TZNAME:CDT
END:DAYLIGHT
BEGIN:STANDARD
DTSTART:20231105T010000
TZOFFSETFROM:-0500
TZOFFSETTO:-0600
RRULE:FREQ=YEARLY;BYDAY=1SU;BYMONTH=11
TZNAME:CST
END:STANDARD
END:VTIMEZONE
BEGIN:VEVENT
DTSTAMP:20240112T182223Z
UID:EF349662-C20A-42FE-BA00-B653025C509A
DTSTART;TZID=America/Chicago:20240112T100000
DTEND;TZID=America/Chicago:20240112T103000
DESCRIPTION:Artificial intelligence as a concept has been around for a long
  time\, but recently research and application as well as its presence in t
 he media has risen exponentially. Less noticeable\, the impact on our acti
 vities has grown just as fast. Every time we deal with commercial\, financ
 ial\, government or we engage in web-based activities there is a good chan
 ce that we come in contact with AI or its products. AI has developed its o
 wn language to describe the many forms it takes. Today\, we will take a no
 n-technical look at AI history\, the terminology used to describe its many
  incarnations\, the positive and negative impacts\, and the concerns by in
 dustry and government with developing guardrails and processes to reap the
  benefits while limiting the downside.\n\nSpeaker(s): MOURO\, \n\nVirtual:
  https://events.vtools.ieee.org/m/388628
LOCATION:Virtual: https://events.vtools.ieee.org/m/388628
ORGANIZER:ztaqvi@gmail.com
SEQUENCE:43
SUMMARY:&quot;Artificial Intelligence: A Cursory Look” 
URL;VALUE=URI:https://events.vtools.ieee.org/m/388628
X-ALT-DESC:Description: &lt;br /&gt;&lt;p&gt;Artificial intelligence as a concept has b
 een around for a long time\, but recently research and application as well
  as its presence in the media has risen exponentially. Less noticeable\, t
 he impact on our activities has grown just as fast. Every time we deal wit
 h commercial\, financial\, government or we engage in web-based activities
  there is a good chance that we come in contact with AI or its products. A
 I has developed its own language to describe the many forms it takes. Toda
 y\, we will take a non-technical look at AI history\, the terminology used
  to describe its many incarnations\, the positive and negative impacts\, a
 nd the concerns by industry and government with developing guardrails and 
 processes to reap the benefits while limiting the downside.&lt;/p&gt;
END:VEVENT
END:VCALENDAR

