BEGIN:VCALENDAR
VERSION:2.0
PRODID:IEEE vTools.Events//EN
CALSCALE:GREGORIAN
BEGIN:VTIMEZONE
TZID:America/Bogota
BEGIN:DAYLIGHT
DTSTART:20380118T221407
TZOFFSETFROM:-0500
TZOFFSETTO:-0500
RRULE:FREQ=YEARLY;BYDAY=3MO;BYMONTH=1
TZNAME:-05
END:DAYLIGHT
BEGIN:STANDARD
DTSTART:19930206T230000
TZOFFSETFROM:-0400
TZOFFSETTO:-0500
RRULE:FREQ=YEARLY;BYDAY=1SA;BYMONTH=2
TZNAME:-05
END:STANDARD
END:VTIMEZONE
BEGIN:VEVENT
DTSTAMP:20231229T212934Z
UID:67992F77-D98C-4FDF-92F8-EA68CBBE58DE
DTSTART;TZID=America/Bogota:20231204T040000
DTEND;TZID=America/Bogota:20231204T050000
DESCRIPTION:Reunión de Planificacion del Actividades PRofesionales con los
  Capítulos de la Seccion.\n\nVirtual: https://events.vtools.ieee.org/m/38
 8629
LOCATION:Virtual: https://events.vtools.ieee.org/m/388629
ORGANIZER:hecter@ieee.org
SEQUENCE:3
SUMMARY:Reunión de Planificacion del Actividades Profesionales con los Cap
 ítulos de la Seccion.
URL;VALUE=URI:https://events.vtools.ieee.org/m/388629
X-ALT-DESC:Description: &lt;br /&gt;&lt;p&gt;Reuni&amp;oacute\;n de Planificacion del Activ
 idades PRofesionales con los Cap&amp;iacute\;tulos de la Seccion.&lt;/p&gt;
END:VEVENT
END:VCALENDAR

