BEGIN:VCALENDAR
VERSION:2.0
PRODID:IEEE vTools.Events//EN
CALSCALE:GREGORIAN
BEGIN:VTIMEZONE
TZID:America/Indiana/Indianapolis
BEGIN:DAYLIGHT
DTSTART:20240310T030000
TZOFFSETFROM:-0500
TZOFFSETTO:-0400
RRULE:FREQ=YEARLY;BYDAY=2SU;BYMONTH=3
TZNAME:EDT
END:DAYLIGHT
BEGIN:STANDARD
DTSTART:20231105T010000
TZOFFSETFROM:-0400
TZOFFSETTO:-0500
RRULE:FREQ=YEARLY;BYDAY=1SU;BYMONTH=11
TZNAME:EST
END:STANDARD
END:VTIMEZONE
BEGIN:VEVENT
DTSTAMP:20231213T062501Z
UID:430C8CC9-6DBC-49AD-88B1-C84CDCDCEDCE
DTSTART;TZID=America/Indiana/Indianapolis:20231209T190000
DTEND;TZID=America/Indiana/Indianapolis:20231209T200000
DESCRIPTION:Hey there! [🌈][✨] Get ready for an empowering evening with
  IEEE WIE MHSSCE Students Branch and IEEE WIE Sri Lanka Section! [🚀] Jo
 in us for a captivating discussion panel on &quot;Empowering Women in the Digit
 al Age&quot; [🌐][💼]\n\n[🗓] Date: 9th December\n[🕖] Time: 7:00 PM IS
 T\n[📍] Virtual Mode/Online\n\n•At the end\, we&#39;re spicing things up w
 ith a quiz on the topic! [🧠][🔥]\n•Ready to test your knowledge?\n\
 n[📌] Secure your spot by registering here: https://docs.google.com/form
 s/d/e/1FAIpQLSc6kkW0tjvRoqPzOrPPhpjkPN78oKwM0n7xEPEwTltppXB3sA/viewform?fb
 zx=-7281405326810574929\n\nThe link for the event will be shared with you 
 soon. Stay tuned for an unforgettable experience!\n\nDon&#39;t miss out on ins
 ights\, inspiration\, and a bit of friendly competition! [🚀][💬] See 
 you there!\n\n#WomenInTech #IEEEEvent #DigitalEmpowerment #QuizTime [🎉]
 [👩‍💻]\n\nCo-sponsored by: R10 WIE\n\nVirtual: https://events.vtool
 s.ieee.org/m/389401
LOCATION:Virtual: https://events.vtools.ieee.org/m/389401
ORGANIZER:rushalirthakkar@gmail.com
SEQUENCE:19
SUMMARY:Panel disscusion - Empowering Women in the Digital Age
URL;VALUE=URI:https://events.vtools.ieee.org/m/389401
X-ALT-DESC:Description: &lt;br /&gt;&lt;div dir=&quot;auto&quot;&gt;&amp;nbsp\;Hey there!&amp;nbsp\;&lt;img 
 class=&quot;an1 CToWUd&quot; src=&quot;https://fonts.gstatic.com/s/e/notoemoji/15.0/1f308
 /32.png&quot; alt=&quot;🌈&quot; loading=&quot;lazy&quot; data-emoji=&quot;🌈&quot; aria-label=&quot;🌈&quot; dat
 a-bit=&quot;iit&quot; /&gt;&lt;img class=&quot;an1 CToWUd&quot; src=&quot;https://fonts.gstatic.com/s/e/n
 otoemoji/15.0/2728/32.png&quot; alt=&quot;✨&quot; loading=&quot;lazy&quot; data-emoji=&quot;✨&quot; aria-
 label=&quot;✨&quot; data-bit=&quot;iit&quot; /&gt;&amp;nbsp\;Get ready for an empowering evening wi
 th IEEE WIE MHSSCE Students Branch and IEEE WIE Sri Lanka Section!&amp;nbsp\;&lt;
 img class=&quot;an1 CToWUd&quot; src=&quot;https://fonts.gstatic.com/s/e/notoemoji/15.0/1
 f680/32.png&quot; alt=&quot;🚀&quot; loading=&quot;lazy&quot; data-emoji=&quot;🚀&quot; aria-label=&quot;🚀&quot;
  data-bit=&quot;iit&quot; /&gt;&amp;nbsp\;Join us for a captivating discussion panel on &quot;Em
 powering Women in the Digital Age&quot;&amp;nbsp\;&lt;img class=&quot;an1 CToWUd&quot; src=&quot;http
 s://fonts.gstatic.com/s/e/notoemoji/15.0/1f310/32.png&quot; alt=&quot;🌐&quot; loading=
 &quot;lazy&quot; data-emoji=&quot;🌐&quot; aria-label=&quot;🌐&quot; data-bit=&quot;iit&quot; /&gt;&lt;img class=&quot;an
 1 CToWUd&quot; src=&quot;https://fonts.gstatic.com/s/e/notoemoji/15.0/1f4bc/32.png&quot; 
 alt=&quot;💼&quot; loading=&quot;lazy&quot; data-emoji=&quot;💼&quot; aria-label=&quot;💼&quot; data-bit=&quot;ii
 t&quot; /&gt;&amp;nbsp\;&lt;/div&gt;\n&lt;div dir=&quot;auto&quot;&gt;&amp;nbsp\;&lt;/div&gt;\n&lt;div dir=&quot;auto&quot;&gt;&amp;nbsp\;
 &lt;img class=&quot;an1 CToWUd&quot; src=&quot;https://fonts.gstatic.com/s/e/notoemoji/15.0/
 1f5d3/32.png&quot; alt=&quot;🗓&quot; loading=&quot;lazy&quot; data-emoji=&quot;🗓&quot; aria-label=&quot;🗓
 &quot; data-bit=&quot;iit&quot; /&gt;&amp;nbsp\;Date: 9th December&amp;nbsp\;&lt;/div&gt;\n&lt;div dir=&quot;auto&quot;
 &gt;&lt;img class=&quot;an1 CToWUd&quot; src=&quot;https://fonts.gstatic.com/s/e/notoemoji/15.0
 /1f556/32.png&quot; alt=&quot;🕖&quot; loading=&quot;lazy&quot; data-emoji=&quot;🕖&quot; aria-label=&quot;
 🕖&quot; data-bit=&quot;iit&quot; /&gt;&amp;nbsp\;Time: 7:00 PM IST&lt;/div&gt;\n&lt;div dir=&quot;auto&quot;&gt;&amp;nb
 sp\;&lt;img class=&quot;an1 CToWUd&quot; src=&quot;https://fonts.gstatic.com/s/e/notoemoji/1
 5.0/1f4cd/32.png&quot; alt=&quot;📍&quot; loading=&quot;lazy&quot; data-emoji=&quot;📍&quot; aria-label=&quot;
 📍&quot; data-bit=&quot;iit&quot; /&gt;&amp;nbsp\;Virtual Mode/Online&amp;nbsp\;&lt;/div&gt;\n&lt;div dir=&quot;
 auto&quot;&gt;&amp;nbsp\;&lt;/div&gt;\n&lt;div dir=&quot;auto&quot;&gt;&amp;nbsp\;&amp;bull\;At the end\, we&#39;re spic
 ing things up with a quiz on the topic!&amp;nbsp\;&lt;img class=&quot;an1 CToWUd&quot; src=
 &quot;https://fonts.gstatic.com/s/e/notoemoji/15.0/1f9e0/32.png&quot; alt=&quot;🧠&quot; loa
 ding=&quot;lazy&quot; data-emoji=&quot;🧠&quot; aria-label=&quot;🧠&quot; data-bit=&quot;iit&quot; /&gt;&lt;img clas
 s=&quot;an1 CToWUd&quot; src=&quot;https://fonts.gstatic.com/s/e/notoemoji/15.0/1f525/32.
 png&quot; alt=&quot;🔥&quot; loading=&quot;lazy&quot; data-emoji=&quot;🔥&quot; aria-label=&quot;🔥&quot; data-bi
 t=&quot;iit&quot; /&gt;&lt;/div&gt;\n&lt;div dir=&quot;auto&quot;&gt;&amp;nbsp\;&amp;bull\;Ready to test your knowled
 ge?&amp;nbsp\;&lt;/div&gt;\n&lt;div dir=&quot;auto&quot;&gt;&amp;nbsp\;&lt;/div&gt;\n&lt;div dir=&quot;auto&quot;&gt;&amp;nbsp\;&lt;i
 mg class=&quot;an1 CToWUd&quot; src=&quot;https://fonts.gstatic.com/s/e/notoemoji/15.0/1f
 4cc/32.png&quot; alt=&quot;📌&quot; loading=&quot;lazy&quot; data-emoji=&quot;📌&quot; aria-label=&quot;📌&quot; 
 data-bit=&quot;iit&quot; /&gt;&amp;nbsp\;Secure your spot by registering here:&amp;nbsp\;&lt;a hre
 f=&quot;https://docs.google.com/forms/d/e/1FAIpQLSc6kkW0tjvRoqPzOrPPhpjkPN78oKw
 M0n7xEPEwTltppXB3sA/viewform?fbzx=-7281405326810574929&quot; target=&quot;_blank&quot; re
 l=&quot;noopener&quot; data-saferedirecturl=&quot;https://www.google.com/url?q=https://do
 cs.google.com/forms/d/e/1FAIpQLSc6kkW0tjvRoqPzOrPPhpjkPN78oKwM0n7xEPEwTltp
 pXB3sA/viewform?fbzx%3D-7281405326810574929&amp;amp\;source=gmail&amp;amp\;ust=170
 2127333078000&amp;amp\;usg=AOvVaw2u3xM-ZBbDR874E1uo0OZ2&quot;&gt;https://docs.google.c
 om/forms/&lt;wbr /&gt;d/e/&lt;wbr /&gt;1FAIpQLSc6kkW0tjvRoqPzOrPPhpjk&lt;wbr /&gt;PN78oKwM0n
 7xEPEwTltppXB3sA/&lt;wbr /&gt;viewform?fbzx=-&lt;wbr /&gt;7281405326810574929&lt;/a&gt;&amp;nbsp
 \;&lt;/div&gt;\n&lt;div dir=&quot;auto&quot;&gt;&amp;nbsp\;&lt;/div&gt;\n&lt;div dir=&quot;auto&quot;&gt;The link for the 
 event will be shared with you soon. Stay tuned for an unforgettable experi
 ence!&amp;nbsp\;&lt;/div&gt;\n&lt;div dir=&quot;auto&quot;&gt;&amp;nbsp\;&lt;/div&gt;\n&lt;div dir=&quot;auto&quot;&gt;Don&#39;t m
 iss out on insights\, inspiration\, and a bit of friendly competition!&amp;nbs
 p\;&lt;img class=&quot;an1 CToWUd&quot; src=&quot;https://fonts.gstatic.com/s/e/notoemoji/15
 .0/1f680/32.png&quot; alt=&quot;🚀&quot; loading=&quot;lazy&quot; data-emoji=&quot;🚀&quot; aria-label=&quot;
 🚀&quot; data-bit=&quot;iit&quot; /&gt;&lt;img class=&quot;an1 CToWUd&quot; src=&quot;https://fonts.gstatic.
 com/s/e/notoemoji/15.0/1f4ac/32.png&quot; alt=&quot;💬&quot; loading=&quot;lazy&quot; data-emoji=
 &quot;💬&quot; aria-label=&quot;💬&quot; data-bit=&quot;iit&quot; /&gt;&amp;nbsp\;See you there!&amp;nbsp\;&lt;/di
 v&gt;\n&lt;div dir=&quot;auto&quot;&gt;&amp;nbsp\;&lt;/div&gt;\n&lt;div dir=&quot;auto&quot;&gt;&amp;nbsp\;#WomenInTech #IE
 EEEvent #DigitalEmpowerment #QuizTime&amp;nbsp\;&lt;img class=&quot;an1 CToWUd&quot; src=&quot;h
 ttps://fonts.gstatic.com/s/e/notoemoji/15.0/1f389/32.png&quot; alt=&quot;🎉&quot; loadi
 ng=&quot;lazy&quot; data-emoji=&quot;🎉&quot; aria-label=&quot;🎉&quot; data-bit=&quot;iit&quot; /&gt;&lt;img class=
 &quot;an1 CToWUd&quot; src=&quot;https://fonts.gstatic.com/s/e/notoemoji/15.0/1f469_200d_
 1f4bb/32.png&quot; alt=&quot;👩&amp;zwj\;💻&quot; loading=&quot;lazy&quot; data-emoji=&quot;👩&amp;zwj\;
 💻&quot; aria-label=&quot;👩&amp;zwj\;💻&quot; data-bit=&quot;iit&quot; /&gt;&lt;/div&gt;
END:VEVENT
END:VCALENDAR

