BEGIN:VCALENDAR
VERSION:2.0
PRODID:IEEE vTools.Events//EN
CALSCALE:GREGORIAN
BEGIN:VTIMEZONE
TZID:Asia/Kolkata
BEGIN:STANDARD
DTSTART:19451014T230000
TZOFFSETFROM:+0630
TZOFFSETTO:+0530
TZNAME:IST
END:STANDARD
END:VTIMEZONE
BEGIN:VEVENT
DTSTAMP:20231213T062232Z
UID:874B02E2-7CAB-4A1F-9B93-7BD74BCDA82A
DTSTART;TZID=Asia/Kolkata:20231201T140000
DTEND;TZID=Asia/Kolkata:20231201T160000
DESCRIPTION:Event: Plug into Safety: Unveiling the best practices in ELECTR
 ICAL AWARENESS\n\nDate: 1-12-2023\n\nTime: 2:00pm-3:00pm\n\nVenue: Enginee
 ring Practice Laboratory\, Sri Sairam Engineering College\n\nSPEAKERS: Dr.
  L. Kurinjimalar \, Dr. B. Meenakshi\n\nChennai\, Tamil Nadu\, India
LOCATION:Chennai\, Tamil Nadu\, India
ORGANIZER: kurinjimalar@ieee.org
SEQUENCE:25
SUMMARY:PLUG INTO SAFETY: UNVEILING THE BEST PRACTICES IN ELECTRICAL AWAREN
 ESS
URL;VALUE=URI:https://events.vtools.ieee.org/m/389503
X-ALT-DESC:Description: &lt;br /&gt;&lt;p&gt;&lt;strong&gt;Event: &lt;/strong&gt;&lt;span style=&quot;font-
 weight: 400\;&quot;&gt;Plug into Safety: Unveiling the best practices in ELECTRICA
 L AWARENESS&lt;/span&gt;&lt;/p&gt;\n&lt;p&gt;&lt;strong&gt;Date:&lt;/strong&gt;&lt;strong&gt; &lt;/strong&gt;&lt;span s
 tyle=&quot;font-weight: 400\;&quot;&gt;1-12-2023&lt;/span&gt;&lt;/p&gt;\n&lt;p&gt;&lt;strong&gt;Time:&lt;/strong&gt;&lt;
 strong&gt; &lt;/strong&gt;&lt;span style=&quot;font-weight: 400\;&quot;&gt;2:00pm-3:00pm&lt;/span&gt;&lt;/p&gt;
 \n&lt;p&gt;&lt;strong&gt;Venue:&lt;/strong&gt;&lt;span style=&quot;font-weight: 400\;&quot;&gt; &lt;/span&gt;&lt;span
  style=&quot;font-weight: 400\;&quot;&gt;Engineering Practice Laboratory\, Sri Sairam E
 ngineering College&lt;/span&gt;&lt;/p&gt;\n&lt;p&gt;&lt;strong&gt;SPEAKERS:&lt;/strong&gt;&lt;strong&gt; &lt;/str
 ong&gt;&lt;span style=&quot;font-weight: 400\;&quot;&gt;Dr. L. Kurinjimalar \, Dr. B. Meenaks
 hi&lt;/span&gt;&lt;/p&gt;
END:VEVENT
END:VCALENDAR

