BEGIN:VCALENDAR
VERSION:2.0
PRODID:IEEE vTools.Events//EN
CALSCALE:GREGORIAN
BEGIN:VTIMEZONE
TZID:Asia/Kolkata
BEGIN:STANDARD
DTSTART:19451014T230000
TZOFFSETFROM:+0630
TZOFFSETTO:+0530
TZNAME:IST
END:STANDARD
END:VTIMEZONE
BEGIN:VEVENT
DTSTAMP:20231210T134305Z
UID:356D7CA4-5642-44E8-8074-43B7B92160F3
DTSTART;TZID=Asia/Kolkata:20231208T080000
DTEND;TZID=Asia/Kolkata:20231208T101400
DESCRIPTION:IEEE BIT is thrilled to have been a part of the exhilarating Wa
 lkathon organized by Bangalore Institute of Technology at KR Road\, VV Pur
 am\, Bangalore 560004\, in celebration of our much-anticipated Sports Day!
 \n\nThe campus came alive with the spirit of fitness and camaraderie as st
 udents\, faculty\, and staff joined forces to promote a healthier lifestyl
 e. Walking together\, we not only covered kilometers but also forged lasti
 ng connections and shared moments of joy and achievement.\n\nThe event sho
 wcased the vibrant sports culture at BIT and underscored the institute&#39;s c
 ommitment to holistic well-being. Kudos to the organizing team for seamles
 sly orchestrating an event that embodied unity\, health\, and the undeniab
 le BIT spirit.\n\nA big thank you to everyone who participated\, supported
 \, and cheered for this fantastic initiative. Let&#39;s continue to stride tow
 ards excellence\, both on and off the field\, embodying the true spirit of
  sportsmanship and wellness.\n\nBangalore Institute Of Technology\, Depart
 ment Of Electronics And Communication\,  Kr Road\, Vv Pura\, Bangalore\, K
 arnataka\, India\, 560004
LOCATION:Bangalore Institute Of Technology\, Department Of Electronics And 
 Communication\,  Kr Road\, Vv Pura\, Bangalore\, Karnataka\, India\, 56000
 4
ORGANIZER:jalajas@ieee.org
SEQUENCE:3
SUMMARY:IEEE BIT Walkthon 2023
URL;VALUE=URI:https://events.vtools.ieee.org/m/389895
X-ALT-DESC:Description: &lt;br /&gt;&lt;p&gt;IEEE BIT is thrilled to have been a part o
 f the exhilarating Walkathon organized by Bangalore Institute of Technolog
 y at KR Road\, VV Puram\, Bangalore 560004\, in celebration of our much-an
 ticipated Sports Day!&lt;br /&gt;&lt;br /&gt;The campus came alive with the spirit of 
 fitness and camaraderie as students\, faculty\, and staff joined forces to
  promote a healthier lifestyle. Walking together\, we not only covered kil
 ometers but also forged lasting connections and shared moments of joy and 
 achievement.&lt;br /&gt;&lt;br /&gt;The event showcased the vibrant sports culture at 
 BIT and underscored the institute&#39;s commitment to holistic well-being. Kud
 os to the organizing team for seamlessly orchestrating an event that embod
 ied unity\, health\, and the undeniable BIT spirit.&lt;br /&gt;&lt;br /&gt;A big thank
  you to everyone who participated\, supported\, and cheered for this fanta
 stic initiative. Let&#39;s continue to stride towards excellence\, both on and
  off the field\, embodying the true spirit of sportsmanship and wellness.&lt;
 /p&gt;
END:VEVENT
END:VCALENDAR

