BEGIN:VCALENDAR
VERSION:2.0
PRODID:IEEE vTools.Events//EN
CALSCALE:GREGORIAN
BEGIN:VTIMEZONE
TZID:America/Los_Angeles
BEGIN:DAYLIGHT
DTSTART:20240310T030000
TZOFFSETFROM:-0800
TZOFFSETTO:-0700
RRULE:FREQ=YEARLY;BYDAY=2SU;BYMONTH=3
TZNAME:PDT
END:DAYLIGHT
BEGIN:STANDARD
DTSTART:20231105T010000
TZOFFSETFROM:-0700
TZOFFSETTO:-0800
RRULE:FREQ=YEARLY;BYDAY=1SU;BYMONTH=11
TZNAME:PST
END:STANDARD
END:VTIMEZONE
BEGIN:VEVENT
DTSTAMP:20240209T231545Z
UID:6FA08B3E-E6D4-4754-8AFA-FA8716E49C0E
DTSTART;TZID=America/Los_Angeles:20240209T060000
DTEND;TZID=America/Los_Angeles:20240209T100000
DESCRIPTION:Join us for the IEEE Financial Summit on Green Energy. Fusion -
  unlimited clean energy. Find out about new investments in the green\, sus
 tainable economy. What are the latest trends in solar\, wind\, fuel cells\
 , and batteries? Find out why young professionals are investing in these c
 ommodities. Hear talks on intellectual property\, trademark protections\, 
 patents for new renewables\, Space Capital and &#39;Does the transmission grid
  need insurance&#39;? Find out who are the key players in this financial green
  space? Who should you call to insure your home solar panels and battery e
 nergy storge system? Is there a potential for fire\, arcing and/or overhea
 ting? What are the Green Energy updates to AI Artificial Intelligence. Sho
 uld I be investing in AI and/or Payloads into zero Gs? Also covers oil &amp; g
 as and carbon capture sequestration.\n\nCo-sponsored by: IEEE Power and En
 ergy Society\n\nAgenda: \nIEEE Financial Summit – February 9\, 2024\, 6 
 am\n\nSpeaker Line up\n\n6:00 am PST IEEE Announcements\n6:05 am PST IEEE 
 Introduction of all speakers\n6:10 am PST Honghai Song\, CEO and Founder a
 t Canyon Magnet Energy\, HTS REBCO Magnet\n7:00 am PST Nick Knutzen\, Seni
 or Account Executive\, Cloud AI/ML Partnerships IO Connect Services\n7:25 
 am PST Craig Dickens\, Merit Investment Bank\, Mergers and Acquisitions\n7
 :50 am PST Kyle Gillette\, Helping Business Owners Be More\, Blue Shirt Co
 aching\n8:15 am PST Ali A. Criss-Kemp\, CFP CEO\, ‘Employee Retention Ke
 y Employees&#39;\, Financial Insight\n8:40 am PST Bryce Yonker\, Executive Dir
 ector\, Grid Forward\; various advanced energy and grid technology\n9:05 a
 m PST Daniel Robles\, ‘Virtuous Circle Concept’\, owner\, director\, C
 o-Engineers\, LLC\n9:30 am PST Salute to our Speakers\n9:35 am PST IEEE Pr
 ize Pack Giveaway\n\nWelcome our speakers:\nHonghai Song\, CEO and Founder
  at Canyon Magnet Energy\, HTS REBCO Magnet\nBryce Yonker\, Executive Dire
 ctor\, Grid Forward\; various advanced energy and grid technology endeavor
 s\nKyle Gillette\, Helping Business Owners Be More\, Blue Shirt Coaching\n
 Ali A. Criss-Kemp\, CFP CEO\, &#39;Employee Retention Key Employees: Retiremen
 t Benefits&#39;\, Financial Insight\nNick Knutzen\, Senior Account Executive\,
  Cloud AI/ML Partnerships IO Connect Services\nDaniel Robles\, ‘Virtuous
  Circle Concept’\, owner\, director\, Co-Engineers\, LLC\nCraig Dickens\
 , Merit Investment Bank\, Mergers and Acquisitions\n\n[PROGRAM](https://60
 c89b22-fa84-4f7f-9915-ca0ea9310154.usrfiles.com/ugd/60c89b_51f12c741f7b4e5
 b9347294414c6c1e1.pdf) [Speaker Lineup](https://60c89b22-fa84-4f7f-9915-ca
 0ea9310154.usrfiles.com/ugd/60c89b_b6b5d83bbd3d4b2eaa362e1b76c143b4.pdf)\n
 \n[Salute to Speakers](https://youtu.be/_9jnQLf0n2M?t=11)\n\nWe thank our 
 sponsors:\nIEEE Consultant Network Seattle\n\nVirtual: https://events.vtoo
 ls.ieee.org/m/390421
LOCATION:Virtual: https://events.vtools.ieee.org/m/390421
ORGANIZER:mike.brisbois@ieee.org
SEQUENCE:33
SUMMARY:IEEE Financial Summit Green Energy
URL;VALUE=URI:https://events.vtools.ieee.org/m/390421
X-ALT-DESC:Description: &lt;br /&gt;&lt;p&gt;Join us for the IEEE Financial Summit on G
 reen Energy. Fusion - unlimited clean energy. Find out about new investmen
 ts in the green\, sustainable economy. What are the latest trends in solar
 \, wind\, fuel cells\, and batteries? Find out why young professionals are
  investing in these commodities. Hear talks on intellectual property\, tra
 demark protections\, patents for new renewables\, Space Capital and &#39;Does 
 the transmission grid need insurance&#39;? Find out who are the key players in
  this financial green space? Who should you call to insure your home solar
  panels and battery energy storge system? Is there a potential for fire\, 
 arcing and/or overheating? What are the Green Energy updates to AI Artific
 ial Intelligence. Should I be investing in AI and/or Payloads into zero Gs
 ? Also covers oil &amp;amp\; gas and carbon capture sequestration.&lt;/p&gt;&lt;br /&gt;&lt;b
 r /&gt;Agenda: &lt;br /&gt;&lt;p&gt;IEEE Financial Summit &amp;ndash\; February 9\, 2024\, 6 
 am &lt;br /&gt;&lt;br /&gt;Speaker Line up&lt;br /&gt;&lt;br /&gt;6:00 am PST IEEE Announcements&lt;b
 r /&gt;6:05 am PST IEEE Introduction of all speakers&lt;br /&gt;6:10 am PST Honghai
  Song\, CEO and Founder at Canyon Magnet Energy\, HTS REBCO Magnet&amp;nbsp\;&lt;
 br /&gt;7:00 am PST Nick Knutzen\, Senior Account Executive\, Cloud AI/ML Par
 tnerships IO Connect Services&lt;br /&gt;7:25 am PST Craig&amp;nbsp\; Dickens\, Meri
 t Investment Bank\, Mergers and Acquisitions&lt;br /&gt;7:50 am PST Kyle Gillett
 e\, Helping Business Owners Be More\, Blue Shirt Coaching&lt;br /&gt;8:15 am PST
  Ali A. Criss-Kemp\, CFP CEO\, &amp;lsquo\;Employee Retention Key Employees&#39;\,
  Financial Insight&lt;br /&gt;8:40 am PST Bryce Yonker\, Executive Director\, Gr
 id Forward\; various advanced energy and grid technology &lt;br /&gt;9:05 am PST
  Daniel Robles\, &amp;lsquo\;Virtuous Circle Concept&amp;rsquo\;\, owner\, directo
 r\, Co-Engineers\, LLC&lt;br /&gt;9:30 am PST Salute to our Speakers&lt;br /&gt;9:35 a
 m PST IEEE Prize Pack Giveaway&lt;br /&gt;&lt;br /&gt;&lt;u&gt;Welcome our speakers:&lt;/u&gt;&lt;br 
 /&gt;Honghai Song\, CEO and Founder at Canyon Magnet Energy\, HTS REBCO Magne
 t&amp;nbsp\;&lt;br /&gt;Bryce Yonker\, Executive Director\, Grid Forward\; various a
 dvanced energy and grid technology endeavors&lt;br /&gt;Kyle Gillette\, Helping 
 Business Owners Be More\, Blue Shirt Coaching&lt;br /&gt;Ali A. Criss-Kemp\, CFP
  CEO\, &#39;Employee Retention Key Employees: Retirement Benefits&#39;\, Financial
  Insight&lt;br /&gt;Nick Knutzen\, Senior Account Executive\, Cloud AI/ML Partne
 rships IO Connect Services&lt;br /&gt;Daniel Robles\, &amp;lsquo\;Virtuous Circle Co
 ncept&amp;rsquo\;\, owner\, director\, Co-Engineers\, LLC&lt;br /&gt;Craig&amp;nbsp\; Di
 ckens\, Merit Investment Bank\, Mergers and Acquisitions&lt;br /&gt;&lt;br /&gt;&lt;a hre
 f=&quot;https://60c89b22-fa84-4f7f-9915-ca0ea9310154.usrfiles.com/ugd/60c89b_51
 f12c741f7b4e5b9347294414c6c1e1.pdf&quot;&gt;PROGRAM&lt;/a&gt;&amp;nbsp\;&amp;nbsp\;&amp;nbsp\;&lt;a hre
 f=&quot;https://60c89b22-fa84-4f7f-9915-ca0ea9310154.usrfiles.com/ugd/60c89b_b6
 b5d83bbd3d4b2eaa362e1b76c143b4.pdf&quot;&gt;Speaker Lineup&lt;/a&gt;&lt;br /&gt;&lt;br /&gt;&lt;a href=
 &quot;https://youtu.be/_9jnQLf0n2M?t=11&quot;&gt;Salute to Speakers&lt;/a&gt;&lt;br /&gt;&lt;br /&gt;We t
 hank our sponsors:&lt;br /&gt;IEEE Consultant Network Seattle&lt;/p&gt;
END:VEVENT
END:VCALENDAR

