BEGIN:VCALENDAR
VERSION:2.0
PRODID:IEEE vTools.Events//EN
CALSCALE:GREGORIAN
BEGIN:VTIMEZONE
TZID:Asia/Singapore
BEGIN:DAYLIGHT
DTSTART:20380119T111407
TZOFFSETFROM:+0800
TZOFFSETTO:+0800
RRULE:FREQ=YEARLY;BYDAY=3TU;BYMONTH=1
TZNAME:+08
END:DAYLIGHT
BEGIN:STANDARD
DTSTART:19820101T000000
TZOFFSETFROM:+0730
TZOFFSETTO:+0800
RRULE:FREQ=YEARLY;BYDAY=1FR;BYMONTH=1
TZNAME:+08
END:STANDARD
END:VTIMEZONE
BEGIN:VEVENT
DTSTAMP:20231222T005825Z
UID:12A91A1F-F7D6-4A71-9F15-DDE5A28EC1F5
DTSTART;TZID=Asia/Singapore:20231221T183000
DTEND;TZID=Asia/Singapore:20231221T193000
DESCRIPTION:Meeting with WiE committee members to discuss a possible mentor
 ship activity with a life member over a dinner.\n\nCo-sponsored by: Dr Shi
 lpa Manandhar\, WiE IEEE Singapore\n\nRoom: Meeting Room 23\, Level 8\, Bl
 dg: Innovis Building\, Fusionopolis 2\, Singapore\, Singapore\, Singapore\
 , 138634
LOCATION:Room: Meeting Room 23\, Level 8\, Bldg: Innovis Building\, Fusiono
 polis 2\, Singapore\, Singapore\, Singapore\, 138634
ORGANIZER:ehbgooi@ntu.edu.sg
SEQUENCE:1
SUMMARY:Meeting with WiE to discuss a possible mentorship activity with a l
 ife member 
URL;VALUE=URI:https://events.vtools.ieee.org/m/390551
X-ALT-DESC:Description: &lt;br /&gt;&lt;p&gt;Meeting with WiE committee members to disc
 uss a possible mentorship activity with a life member over a dinner.&amp;nbsp\
 ;&lt;/p&gt;
END:VEVENT
END:VCALENDAR

