BEGIN:VCALENDAR
VERSION:2.0
PRODID:IEEE vTools.Events//EN
CALSCALE:GREGORIAN
BEGIN:VTIMEZONE
TZID:America/Argentina/Buenos_Aires
BEGIN:DAYLIGHT
DTSTART:20380119T001407
TZOFFSETFROM:-0300
TZOFFSETTO:-0300
RRULE:FREQ=YEARLY;BYDAY=3TU;BYMONTH=1
TZNAME:-03
END:DAYLIGHT
BEGIN:STANDARD
DTSTART:20090314T230000
TZOFFSETFROM:-0200
TZOFFSETTO:-0300
RRULE:FREQ=YEARLY;BYDAY=2SA;BYMONTH=3
TZNAME:-03
END:STANDARD
END:VTIMEZONE
BEGIN:VEVENT
DTSTAMP:20231215T215350Z
UID:E84EA682-4A7B-4A21-AA8A-C340AA8FFE3B
DTSTART;TZID=America/Argentina/Buenos_Aires:20231214T130000
DTEND;TZID=America/Argentina/Buenos_Aires:20231214T160000
DESCRIPTION:El jueves 14 de diciembre de 2023\, de 13:00 a 16:00 AR (GMT-3)
 \, IEEE AR LMAG (Life Members Affinity Group) realizó un Almuerzo de Cama
 radería en el Restaurante &quot;Croque Madame Palacio Paz&quot;\, Avda. Santa Fe 75
 0\, CABA.\nAl mismo asistieron 6 miembros del Grupo.\n\nAgenda: \nJueves 1
 4 de diciembre de 2023\, 13:00 AR (GMT-3)\n\nRestaurante &quot;Croque Madame Pa
 lacio Paz&quot;\n\nAvda. Santa Fe 750\, CABA\n\nRoom: Planta Baja\, Bldg: Resta
 urante &quot;Croque Madame Palacio Paz&quot;\, Avda. Santa Fe 750\, CABA\, Distrito 
 Federal\, Argentina
LOCATION:Room: Planta Baja\, Bldg: Restaurante &quot;Croque Madame Palacio Paz&quot;\
 , Avda. Santa Fe 750\, CABA\, Distrito Federal\, Argentina
ORGANIZER:info@ieee.org.ar
SEQUENCE:7
SUMMARY:IEEE AR LMAG - Almuerzo de camaradería - Jueves 14 de diciembre de
  2023
URL;VALUE=URI:https://events.vtools.ieee.org/m/391118
X-ALT-DESC:Description: &lt;br /&gt;&lt;p&gt;El jueves 14 de diciembre de 2023\, de 13:
 00 a 16:00 AR (GMT-3)\, &lt;strong&gt;IEEE AR LMAG (Life Members Affinity Group)
  realiz&amp;oacute\; un Almuerzo de Camarader&amp;iacute\;a&lt;/strong&gt; en el Restaur
 ante &quot;&lt;em&gt;Croque Madame Palacio Paz&lt;/em&gt;&quot;\, Avda. Santa Fe 750\, CABA.&lt;br 
 /&gt;Al mismo asistieron 6 miembros del Grupo.&amp;nbsp\;&lt;/p&gt;&lt;br /&gt;&lt;br /&gt;Agenda: 
 &lt;br /&gt;&lt;p&gt;Jueves 14 de diciembre de 2023\, 13:00 AR (GMT-3)&lt;/p&gt;\n&lt;p&gt;Restaur
 ante &quot;Croque Madame Palacio Paz&quot;&lt;/p&gt;\n&lt;p&gt;Avda. Santa Fe 750\, CABA&lt;/p&gt;
END:VEVENT
END:VCALENDAR

