BEGIN:VCALENDAR
VERSION:2.0
PRODID:IEEE vTools.Events//EN
CALSCALE:GREGORIAN
BEGIN:VTIMEZONE
TZID:Asia/Kolkata
BEGIN:STANDARD
DTSTART:19451014T230000
TZOFFSETFROM:+0630
TZOFFSETTO:+0530
TZNAME:IST
END:STANDARD
END:VTIMEZONE
BEGIN:VEVENT
DTSTAMP:20231216T170117Z
UID:8B754F7A-0B9D-4838-85EF-74B02134571F
DTSTART;TZID=Asia/Kolkata:20231216T193000
DTEND;TZID=Asia/Kolkata:20231216T203000
DESCRIPTION:On Saturday\, December 16th\, 2023\, the IEEE Computational Int
 elligence Society SB at Sri Sairam Institute of Technology hosted an engag
 ing online event titled &quot;Computational Intelligence Chronicles - Day 1: In
 troduction to Computational Intelligence.&quot; The event was coordinated by Sh
 anthosh Kumar B\, and the insightful presentation was delivered by Swetha 
 G R S\, the IEEE CIS SB SIT Secretary. The event aimed at providing an int
 roduction to Computational Intelligence\, catering to the target audience 
 of IEEE Members and Students.\n\nSpeaker(s): Swetha G R S\n\nVirtual: http
 s://events.vtools.ieee.org/m/391277
LOCATION:Virtual: https://events.vtools.ieee.org/m/391277
ORGANIZER:aravindhantulsi@ieee.org
SEQUENCE:0
SUMMARY:Computational Intelligence Chronicles - Day 1 - Introduction to Com
 putational Intelligence
URL;VALUE=URI:https://events.vtools.ieee.org/m/391277
X-ALT-DESC:Description: &lt;br /&gt;&lt;p&gt;&lt;span style=&quot;font-weight: 400\;&quot;&gt;On Saturd
 ay\, December 16th\, 2023\, the IEEE Computational Intelligence Society SB
  at Sri Sairam Institute of Technology hosted an engaging online event tit
 led &quot;Computational Intelligence Chronicles - Day 1: Introduction to Comput
 ational Intelligence.&quot; The event was coordinated by Shanthosh Kumar B\, an
 d the insightful presentation was delivered by Swetha G R S\, the IEEE CIS
  SB SIT Secretary. &lt;/span&gt;&lt;span style=&quot;font-weight: 400\;&quot;&gt;The event aimed
  at providing an introduction to Computational Intelligence\, catering to 
 the target audience of IEEE Members and Students.&lt;/span&gt;&lt;/p&gt;
END:VEVENT
END:VCALENDAR

