BEGIN:VCALENDAR
VERSION:2.0
PRODID:IEEE vTools.Events//EN
CALSCALE:GREGORIAN
BEGIN:VTIMEZONE
TZID:Africa/Algiers
BEGIN:STANDARD
DTSTART:19810501T010000
TZOFFSETFROM:+0000
TZOFFSETTO:+0100
TZNAME:CET
END:STANDARD
END:VTIMEZONE
BEGIN:VEVENT
DTSTAMP:20231217T193724Z
UID:8FF00E00-4D98-4E4F-9A58-FAF41D84D24B
DTSTART;TZID=Africa/Algiers:20231217T143000
DTEND;TZID=Africa/Algiers:20231217T183000
DESCRIPTION:We are gearing up to fine-tune our STAR Program presentation du
 ring TSYP 11. As a team\, we will collaboratively prepare and refine our p
 itch\, ensuring that we effectively communicate the impact and significanc
 e of the STAR program. Let&#39;s work together to showcase our achievements an
 d highlight the essence of our initiatives at this upcoming event.\n\nHigh
 er School of Communication of Tunis\, Higher School of Communication of Tu
 nis\, El Ghazella\, Ariana\, Tunisia\, 2080
LOCATION:Higher School of Communication of Tunis\, Higher School of Communi
 cation of Tunis\, El Ghazella\, Ariana\, Tunisia\, 2080
ORGANIZER:aziz.boussarsar@ieee.org
SEQUENCE:9
SUMMARY:STAR Program pitch preparation
URL;VALUE=URI:https://events.vtools.ieee.org/m/391385
X-ALT-DESC:Description: &lt;br /&gt;&lt;p&gt;We are gearing up to fine-tune our STAR Pr
 ogram presentation during TSYP 11. As a team\, we will collaboratively pre
 pare and refine our pitch\, ensuring that we effectively communicate the i
 mpact and significance of the STAR program. Let&#39;s work together to showcas
 e our achievements and highlight the essence of our initiatives at this up
 coming event.&lt;/p&gt;
END:VEVENT
END:VCALENDAR

