BEGIN:VCALENDAR
VERSION:2.0
PRODID:IEEE vTools.Events//EN
CALSCALE:GREGORIAN
BEGIN:VTIMEZONE
TZID:America/Denver
BEGIN:DAYLIGHT
DTSTART:20240310T030000
TZOFFSETFROM:-0700
TZOFFSETTO:-0600
RRULE:FREQ=YEARLY;BYDAY=2SU;BYMONTH=3
TZNAME:MDT
END:DAYLIGHT
BEGIN:STANDARD
DTSTART:20231105T010000
TZOFFSETFROM:-0600
TZOFFSETTO:-0700
RRULE:FREQ=YEARLY;BYDAY=1SU;BYMONTH=11
TZNAME:MST
END:STANDARD
END:VTIMEZONE
BEGIN:VEVENT
DTSTAMP:20240131T061604Z
UID:A60D14DC-ED46-40C1-9FE3-EB064C7332F0
DTSTART;TZID=America/Denver:20231221T090000
DTEND;TZID=America/Denver:20231221T100000
DESCRIPTION:Speaker: Prof. Mehmet Kurum\, The University of Georgia\, USA\n
 \nThursday\, December 21\, 2023 [11 AM Eastern Time](https://www.timeandda
 te.com/worldclock/fixedtime.html?msg=Unveiling+the+Potential+of+GNSS+Trans
 missometry+%28GNSS-T%29+for+Remote+Sensing+of+Forest+Canopy+Water+C&amp;iso=20
 231221T11&amp;p1=43&amp;ah=1)\n\nThe GNSS-T method uses stationary or mobile GNSS 
 receivers under the forest canopy\, accompanied by an additional unit in t
 he open area as reference. This webinar will provide the theoretical and e
 xperimental foundations to explain how the GNSS-T method provides informat
 ion about the characteristics of Vegetation Optical Depth (VOD ) and Veget
 ation Water Content (VWC) measurements which could transform forest VWC mo
 nitoring studies.\n\nCo-sponsored by: CH05226 - Denver/High Plains Section
  Jt. Chapter\, GRS\n\nSpeaker(s): Prof. Mehmet Kurum\, \n\nAgenda: \nThere
  is significant evidence that vegetation water content\, known as VWC\, ca
 n serve as a useful measure of water status as it is directly linked to th
 e moisture content of living fuel. Improved temporal and spatial quantific
 ation of VWC variations is expected to aid in the improved evaluation of h
 ow forests respond to drought\, including tree mortality and wildfire risk
 . Direct measurement of VWC dynamics remotely can also be crucial for unde
 rstanding and modeling hydrological and ecological processes. Presently\, 
 only coarse spatial resolution (25 – 50 km) vegetation optical depth (VO
 D) is globally observed by satellites. These observations are mainly deriv
 ed from opportunistic analyses of measurements that were initially intende
 d for other scientific purposes. In addition\, validating spaceborne VOD p
 oses a significant challenge due to lack of systematic ground-based VOD ob
 servations at the moment. Recently a new methodology called the Global Nav
 igation Satellite System (GNSS) Transmissometry (GNSS-T) technique has gai
 ned attention to monitoring VWC directly. The method uses stationary or mo
 bile GNSS receivers under the forest canopy\, accompanied by an additional
  unit in the open area as reference. The logarithmic difference between th
 e two measurements yields information on forest transmissivity (water cont
 ent). This relatively new remote sensing (non-intrusive) approach could tr
 ansform forest VWC monitoring studies. Its optimal interpretation\, use\, 
 and relation to VWC have yet to be comprehensively explored.\n\nVirtual: h
 ttps://events.vtools.ieee.org/m/391721
LOCATION:Virtual: https://events.vtools.ieee.org/m/391721
ORGANIZER:w.neill.kefauver@lmco.com
SEQUENCE:3
SUMMARY:GRSS Webinar: Unveiling the Potential of GNSS Transmissometry (GNSS
 -T) for Remote Sensing of Forest Canopy Water Content: Challenges and Path
 ways to &#39;Radio Realistic&#39; Forest Scene Generation
URL;VALUE=URI:https://events.vtools.ieee.org/m/391721
X-ALT-DESC:Description: &lt;br /&gt;&lt;p&gt;Speaker: &lt;strong&gt;Prof. Mehmet Kurum\,&amp;nbsp
 \;&lt;/strong&gt;The University of Georgia\, USA&lt;/p&gt;\n&lt;p&gt;Thursday\, December 21\
 , 2023 &lt;a href=&quot;https://www.timeanddate.com/worldclock/fixedtime.html?msg=
 Unveiling+the+Potential+of+GNSS+Transmissometry+%28GNSS-T%29+for+Remote+Se
 nsing+of+Forest+Canopy+Water+C&amp;amp\;iso=20231221T11&amp;amp\;p1=43&amp;amp\;ah=1&quot;&gt;
 11 AM Eastern Time&lt;/a&gt;&lt;/p&gt;\n&lt;p&gt;The GNSS-T&amp;nbsp\;method&amp;nbsp\;uses stationa
 ry or mobile GNSS receivers under the forest canopy\, accompanied by an ad
 ditional unit in the open area as reference. This&amp;nbsp\;webinar will provi
 de the theoretical and experimental foundations to explain how the GNSS-T 
 method provides information about the characteristics of&amp;nbsp\;Vegetation 
 Optical Depth (VOD&amp;nbsp\;)&amp;nbsp\;and&amp;nbsp\;Vegetation Water Content (VWC)&amp;
 nbsp\;measurements&amp;nbsp\;which&amp;nbsp\;could transform forest VWC monitoring
  studies.&lt;/p&gt;&lt;br /&gt;&lt;br /&gt;Agenda: &lt;br /&gt;&lt;p&gt;There is significant evidence th
 at vegetation water content\, known as VWC\, can serve as a useful measure
  of water status as it is directly linked to the moisture content of livin
 g fuel. Improved temporal and spatial quantification of VWC variations is 
 expected to aid in the improved evaluation of how forests respond to droug
 ht\, including tree mortality and wildfire risk. Direct measurement of VWC
  dynamics remotely can also be crucial for understanding and modeling hydr
 ological and ecological processes.&amp;nbsp\;Presently\, only coarse spatial r
 esolution (25 &amp;ndash\; 50 km) vegetation optical depth (VOD) is globally o
 bserved by satellites. These observations are mainly derived from opportun
 istic analyses of measurements that were initially intended for other scie
 ntific purposes. In addition\, validating spaceborne VOD poses a significa
 nt challenge due to lack of systematic ground-based VOD observations at th
 e moment. Recently a new methodology called the Global Navigation Satellit
 e System (GNSS) Transmissometry (GNSS-T) technique has gained attention to
  monitoring VWC directly. The method uses stationary or mobile GNSS receiv
 ers under the forest canopy\, accompanied by an additional unit in the ope
 n area as reference. The logarithmic difference between the two measuremen
 ts yields information on forest transmissivity (water content). This relat
 ively new remote sensing (non-intrusive) approach could transform forest V
 WC monitoring studies. Its optimal interpretation\, use\, and relation to 
 VWC have yet to be comprehensively explored.&lt;/p&gt;
END:VEVENT
END:VCALENDAR

