BEGIN:VCALENDAR
VERSION:2.0
PRODID:IEEE vTools.Events//EN
CALSCALE:GREGORIAN
BEGIN:VTIMEZONE
TZID:Asia/Kolkata
BEGIN:STANDARD
DTSTART:19451014T230000
TZOFFSETFROM:+0630
TZOFFSETTO:+0530
TZNAME:IST
END:STANDARD
END:VTIMEZONE
BEGIN:VEVENT
DTSTAMP:20231218T165358Z
UID:BB057613-8207-4E78-A5BA-AF54B8614221
DTSTART;TZID=Asia/Kolkata:20231124T090000
DTEND;TZID=Asia/Kolkata:20231124T143000
DESCRIPTION:A scholarship program for girls to pursue technical education h
 as been introduced by Hitachi Energy India Ltd. By fostering a supportive 
 atmosphere for them in their families and communities and giving them the 
 freedom to make decisions based on their interests\, this initiative seeks
  to inspire young girls from rural India to pursue careers in engineering.
  Hitachi Energy will continue to provide four years of academic support to
  female students under this program\, including mentoring and training in 
 soft and technical skills. Additionally\, Sikshana Foundation oversaw the 
 coordination of this Women in Engineering initiative. Our team members off
 er financial assistance as well as their knowledge through training in sof
 t skills and mentoring.\n\nFive students from Assam joined online\, while 
 ten students in person from NIT Delhi\, JC Bose University\, Faridabad\, a
 nd Netaji Subhas University of Technology\, Delhi joined this program. We 
 invited these kids to participate in the multi-year CSR program.\n\nTwo fa
 culty members Dr. Rashmi Agarwal (Chair -IEEE WIE Chapter)\, Dr. Anuradha 
 Tomar (IEEE EC Member: PES - IAS Delhi Chapter &amp; WIE Chapter) also joined 
 these discussions.\n\nThe Event started with highly motivating and interac
 tive sessions with eminent Hitachi Energy Professionals: including Mr. Ven
 u Nuguri\, MD &amp; CEO - India &amp; South Asia\, and Member of Executive Team\; 
 Vice Chairman CII Karnataka\; Mr. Saji S\, Senior Vice President\, HVDC Ma
 nager India\; Mr. Saroj Burman\, Project Director\; &amp; Mr. Sanjay Khurana\,
  Deputy Zonal Sales Director at Hitachi Energy\; Mr. Mohan Kakde\, Vice Pr
 esident-Demerger &amp; CSR\; and Dr. Shivani Sharma\, Principal Technical Cons
 ultant (IEEE EC Member: PES - IAS Delhi Chapter &amp; WIE Chapter). A brief in
 troduction of the Program\, the organization and technologies were being b
 riefed. Students enthusiastically had discussions on Advanced Technologies
 \, Sustainability\, Future Career options\, etc. with all the Experts. Aft
 er this\, the laptop kits were being distributed to the 10 Students by Mr.
  Venu Nuguri.\n\nDr. Shivani Sharma led a number of training sessions aime
 d at improving soft skills on:\n\n- Power of Planning: This module covered
  many aspects like Balancing Micro-Planning and Spontaneity\, Optimizing t
 he Resources\, The Power of Planning and Priorities\, Women in Technology:
  Specific Characteristics\, Career Planning\, etc.\n- Effective Time Manag
 ement: This module elaborated on perspectives like Daily Dilemmas- The Pat
 terns &amp; underlying factors\, Myths about Time Management\, Time: always un
 ique &amp; changing\, Time Management: Tools &amp; Techniques like the Pomodoro Te
 chnique\, The Pareto Principle\, The ABCD Method\, Time blocking\, Effecti
 ve Time Management Tips\, etc.\n- Many inspiring illustrations from Practi
 cal Life were being shared in both these Modules and there were highly ins
 piring interactions with Students query resolution.\n\nMotivational remark
 s from Mr. Saroj Burman and Mr. Mohan Kakde completed the training. All of
  the participants found this event to be incredibly inspirational and well
 -received\; it will help them develop skill sets that will prepare them fo
 r the future.\n\nFew Photographs from the Event:\n\nBldg: Plot No. 58\, 4t
 h and 5th floor\, Hitachi Energy India Ltd.\, Sector 44 \, Gurugram\, Hary
 ana\, India\, 122003
LOCATION:Bldg: Plot No. 58\, 4th and 5th floor\, Hitachi Energy India Ltd.\
 , Sector 44 \, Gurugram\, Haryana\, India\, 122003
ORGANIZER:ieee@nsut.ac.in
SEQUENCE:15
SUMMARY:Scholarship Program Promoting Women in Engineering CSR event.
URL;VALUE=URI:https://events.vtools.ieee.org/m/391867
X-ALT-DESC:Description: &lt;br /&gt;&lt;p&gt;&lt;span style=&quot;font-weight: 400\;&quot;&gt;A scholar
 ship program for girls to pursue technical education has been introduced b
 y Hitachi Energy India Ltd. By fostering a supportive atmosphere for them 
 in their families and communities and giving them the freedom to make deci
 sions based on their interests\, this initiative seeks to inspire young gi
 rls from rural India to pursue careers in engineering. Hitachi Energy will
  continue to provide four years of academic support to female students und
 er this program\, including mentoring and training in soft and technical s
 kills. Additionally\, Sikshana Foundation oversaw the coordination of this
  Women in Engineering initiative. Our team members offer financial assista
 nce as well as their knowledge through training in soft skills and mentori
 ng&lt;/span&gt;&lt;strong&gt;.&lt;/strong&gt;&lt;/p&gt;\n&lt;p&gt;&amp;nbsp\;&lt;/p&gt;\n&lt;p&gt;&lt;span style=&quot;font-weig
 ht: 400\;&quot;&gt;Five students from Assam joined online\, while ten students in 
 person from NIT Delhi\, JC Bose University\, Faridabad\, and Netaji Subhas
  University of Technology\, Delhi joined this program. We invited these ki
 ds to participate in the multi-year CSR program&lt;/span&gt;&lt;strong&gt;.&lt;/strong&gt;&lt;/
 p&gt;\n&lt;p&gt;&amp;nbsp\;&lt;/p&gt;\n&lt;p&gt;&lt;span style=&quot;font-weight: 400\;&quot;&gt;Two faculty member
 s Dr. Rashmi Agarwal (Chair -IEEE WIE Chapter)\, Dr. Anuradha Tomar (IEEE 
 EC Member: PES - IAS Delhi Chapter &amp;amp\; WIE Chapter) also joined these d
 iscussions&lt;/span&gt;&lt;span style=&quot;font-weight: 400\;&quot;&gt;.&amp;nbsp\;&lt;/span&gt;&lt;/p&gt;\n&lt;p&gt;
 &amp;nbsp\;&lt;/p&gt;\n&lt;p&gt;&lt;span style=&quot;font-weight: 400\;&quot;&gt;The Event started with hi
 ghly motivating and interactive sessions with eminent Hitachi Energy Profe
 ssionals: including Mr. Venu Nuguri\, MD &amp;amp\; CEO - India &amp;amp\; South A
 sia\, and Member of Executive Team\; Vice Chairman CII Karnataka\;&amp;nbsp\; 
 Mr. Saji S\, Senior Vice President\, HVDC Manager India\; Mr. Saroj Burman
 \, Project Director\; &amp;amp\; Mr. Sanjay Khurana\, Deputy Zonal Sales Direc
 tor at Hitachi Energy\; Mr. Mohan Kakde\, Vice President-Demerger &amp;amp\; C
 SR\; and Dr. Shivani Sharma\, Principal Technical Consultant (IEEE EC Memb
 er: PES - IAS Delhi Chapter &amp;amp\; WIE Chapter). A brief introduction of t
 he Program\, the organization and technologies were being briefed. Student
 s enthusiastically had discussions on Advanced Technologies\, Sustainabili
 ty\, Future Career options\, etc. with all the Experts. After this\, the l
 aptop kits were being distributed to the 10 Students by Mr. Venu Nuguri&lt;/s
 pan&gt;&lt;span style=&quot;font-weight: 400\;&quot;&gt;.&lt;/span&gt;&lt;/p&gt;\n&lt;p&gt;&amp;nbsp\;&lt;/p&gt;\n&lt;p&gt;&lt;spa
 n style=&quot;font-weight: 400\;&quot;&gt;Dr. Shivani Sharma led a number of training s
 essions aimed at improving soft skills on:&lt;/span&gt;&lt;/p&gt;\n&lt;p&gt;&amp;nbsp\;&lt;/p&gt;\n&lt;ul
 &gt;\n&lt;li style=&quot;font-weight: 400\;&quot; aria-level=&quot;1&quot;&gt;&lt;span style=&quot;font-weight:
  400\;&quot;&gt;Power of Planning: This module covered many aspects like Balancing
  Micro-Planning and Spontaneity\, Optimizing the Resources\, The Power of 
 Planning and Priorities\, Women in Technology: Specific Characteristics\, 
 Career Planning\, etc.&amp;nbsp\;&lt;/span&gt;&lt;/li&gt;\n&lt;li style=&quot;font-weight: 400\;&quot; 
 aria-level=&quot;1&quot;&gt;&lt;span style=&quot;font-weight: 400\;&quot;&gt;Effective Time Management:
  This module elaborated on perspectives like Daily Dilemmas- The Patterns 
 &amp;amp\; underlying factors\, Myths about Time Management\,&lt;/span&gt;&lt;span styl
 e=&quot;font-weight: 400\;&quot;&gt; &lt;/span&gt;&lt;span style=&quot;font-weight: 400\;&quot;&gt;Time: alwa
 ys unique &amp;amp\; changing\, Time Management: Tools &amp;amp\; Techniques like 
 the Pomodoro Technique\, The Pareto Principle\, The ABCD Method\, Time blo
 cking\, Effective Time Management Tips\, etc&lt;/span&gt;&lt;span style=&quot;font-weigh
 t: 400\;&quot;&gt;.&lt;/span&gt;&lt;/li&gt;\n&lt;li style=&quot;font-weight: 400\;&quot; aria-level=&quot;1&quot;&gt;&lt;sp
 an style=&quot;font-weight: 400\;&quot;&gt;Many inspiring illustrations from Practical 
 Life were being shared in both these Modules and there were highly inspiri
 ng interactions with Students query resolution&lt;/span&gt;&lt;span style=&quot;font-wei
 ght: 400\;&quot;&gt;.&amp;nbsp\;&lt;/span&gt;&lt;/li&gt;\n&lt;/ul&gt;\n&lt;p&gt;&amp;nbsp\;&lt;/p&gt;\n&lt;p&gt;&lt;span style=&quot;f
 ont-weight: 400\;&quot;&gt;Motivational remarks from Mr. Saroj Burman and Mr. Moha
 n Kakde completed the training. All of the participants found this event t
 o be incredibly inspirational and well-received\; it will help them develo
 p skill sets that will prepare them for the future.&lt;/span&gt;&lt;/p&gt;\n&lt;p&gt;&amp;nbsp\;
 &lt;/p&gt;\n&lt;p&gt;&lt;span style=&quot;font-weight: 400\;&quot;&gt;Few Photographs from the Event:&lt;
 /span&gt;&lt;/p&gt;\n&lt;p&gt;&lt;br /&gt;&lt;br /&gt;&lt;br /&gt;&lt;br /&gt;&lt;br /&gt;&lt;br /&gt;&lt;br /&gt;&lt;br /&gt;&lt;br /&gt;&lt;/p&gt;
END:VEVENT
END:VCALENDAR

