BEGIN:VCALENDAR
VERSION:2.0
PRODID:IEEE vTools.Events//EN
CALSCALE:GREGORIAN
BEGIN:VTIMEZONE
TZID:US/Eastern
BEGIN:DAYLIGHT
DTSTART:20240310T030000
TZOFFSETFROM:-0500
TZOFFSETTO:-0400
RRULE:FREQ=YEARLY;BYDAY=2SU;BYMONTH=3
TZNAME:EDT
END:DAYLIGHT
BEGIN:STANDARD
DTSTART:20231105T010000
TZOFFSETFROM:-0400
TZOFFSETTO:-0500
RRULE:FREQ=YEARLY;BYDAY=1SU;BYMONTH=11
TZNAME:EST
END:STANDARD
END:VTIMEZONE
BEGIN:VEVENT
DTSTAMP:20241210T235852Z
UID:4E3B0A95-BAE4-4D77-9BE7-FA1803369F3A
DTSTART;TZID=US/Eastern:20240122T153000
DTEND;TZID=US/Eastern:20240122T170000
DESCRIPTION:Program: Part 2\n\nThis presentation provides an overview of fo
 llowing:\n\n- Inverter topologies\, operating principles and control for v
 arious forms of inverter-based resources including grid-forming and grid f
 ollowing inverters\n- Power system dynamic modelling and analysis\n- Grid 
 connection processes and lessons learned\n\nSpeaker(s): Babak Badrzadeh\, 
 \n\nVirtual: https://events.vtools.ieee.org/m/391962
LOCATION:Virtual: https://events.vtools.ieee.org/m/391962
ORGANIZER:atlantapes31@gmail.com
SEQUENCE:9
SUMMARY:IEEE Atlanta PES Technical Talk: PART 2 &quot;Power system modelling and
  analysis in networks with high share of inverter-based resources&quot; 
URL;VALUE=URI:https://events.vtools.ieee.org/m/391962
X-ALT-DESC:Description: &lt;br /&gt;&lt;p&gt;&lt;strong&gt;Program:&lt;/strong&gt; Part 2&lt;/p&gt;\n&lt;p&gt;T
 his presentation provides an overview of following:&lt;/p&gt;\n&lt;p&gt;&lt;br /&gt;- Invert
 er topologies\, operating principles and control for various forms of inve
 rter-based resources including grid-forming and grid following inverters&lt;b
 r /&gt;- Power system dynamic modelling and analysis&lt;br /&gt;- Grid connection p
 rocesses and lessons learned&lt;/p&gt;\n&lt;p&gt;&amp;nbsp\;&lt;/p&gt;
END:VEVENT
END:VCALENDAR

