BEGIN:VCALENDAR
VERSION:2.0
PRODID:IEEE vTools.Events//EN
CALSCALE:GREGORIAN
BEGIN:VTIMEZONE
TZID:America/Bogota
BEGIN:DAYLIGHT
DTSTART:20380118T221407
TZOFFSETFROM:-0500
TZOFFSETTO:-0500
RRULE:FREQ=YEARLY;BYDAY=3MO;BYMONTH=1
TZNAME:-05
END:DAYLIGHT
BEGIN:STANDARD
DTSTART:19930206T230000
TZOFFSETFROM:-0400
TZOFFSETTO:-0500
RRULE:FREQ=YEARLY;BYDAY=1SA;BYMONTH=2
TZNAME:-05
END:STANDARD
END:VTIMEZONE
BEGIN:VEVENT
DTSTAMP:20231222T023623Z
UID:8C49279C-166F-479B-8816-1659F0E56D09
DTSTART;TZID=America/Bogota:20230504T203000
DTEND;TZID=America/Bogota:20230505T173000
DESCRIPTION:Recorrido guiado por los centros de invesigacion adscritos a la
  facultad de ingenieria\n\nBldg: Facultad de Ingeniería\, Universidad del
  Quindío\, Instituto Interdisciplinario de la Ciencia\, Armenia\, Quindio
 \, Colombia\, 630004
LOCATION:Bldg: Facultad de Ingeniería\, Universidad del Quindío\, Institu
 to Interdisciplinario de la Ciencia\, Armenia\, Quindio\, Colombia\, 63000
 4
ORGANIZER:ieee@uniquindio.edu.co
SEQUENCE:18
SUMMARY:Jornada de Innovación y Tecnología 2023 (JIT2023)
URL;VALUE=URI:https://events.vtools.ieee.org/m/392960
X-ALT-DESC:Description: &lt;br /&gt;&lt;p&gt;Recorrido guiado por los centros de invesi
 gacion adscritos a la facultad de ingenieria&lt;/p&gt;
END:VEVENT
END:VCALENDAR

