BEGIN:VCALENDAR
VERSION:2.0
PRODID:IEEE vTools.Events//EN
CALSCALE:GREGORIAN
BEGIN:VTIMEZONE
TZID:Europe/Rome
BEGIN:DAYLIGHT
DTSTART:20240331T030000
TZOFFSETFROM:+0100
TZOFFSETTO:+0200
RRULE:FREQ=YEARLY;BYDAY=-1SU;BYMONTH=3
TZNAME:CEST
END:DAYLIGHT
BEGIN:STANDARD
DTSTART:20231029T020000
TZOFFSETFROM:+0200
TZOFFSETTO:+0100
RRULE:FREQ=YEARLY;BYDAY=-1SU;BYMONTH=10
TZNAME:CET
END:STANDARD
END:VTIMEZONE
BEGIN:VEVENT
DTSTAMP:20231222T105026Z
UID:F365E828-2BF7-4425-8C4C-812F1CB52DDC
DTSTART;TZID=Europe/Rome:20231220T140000
DTEND;TZID=Europe/Rome:20231220T160000
DESCRIPTION:Air traffic has consistently grown since 2003 and it is now boo
 sting up in 2023\, prompting a need for aviation authorities to upgrade th
 eir ATC systems. Thales group developed comprehensive solutions for busy a
 irports\, covering various flight phases. After a quick introduction to Th
 ales Group\, its activities in Italy and the conventional navigational aid
 s (Navaids) business for which Gorgonzola (MI) site is a center of excelle
 nce for the Group\, the speakers will finally focus on the design of pulse
 d power amplifiers that achieve stringent spectral requirements\, discussi
 ng both squared pulse modulation scheme and envelop tracking.\n\nSpeaker(s
 ): Ing. Massimo Di Fabrizio\, Ph.D.\, Ing. Luigi Maggi\, Ph.D.\n\nPavia\, 
 Lombardia\, Italy\, 27100
LOCATION:Pavia\, Lombardia\, Italy\, 27100
ORGANIZER:sb.unipv@ieee.org
SEQUENCE:12
SUMMARY:DISTINGUISHED TALKS - An Overview On The Design Of Pulsed Power Amp
 lifiers For Conventional Navigational Aids Systems- Ing. Massimo Di Fabriz
 io\, PhD and Ing. Luigi Maggi\, PhD
URL;VALUE=URI:https://events.vtools.ieee.org/m/393073
X-ALT-DESC:Description: &lt;br /&gt;&lt;p&gt;Air traffic has consistently grown since 2
 003 and it is now boosting up in 2023\, prompting a need for aviation auth
 orities to upgrade their ATC systems. Thales group developed comprehensive
  solutions for busy airports\, covering various flight phases. After a qui
 ck introduction to Thales Group\, its activities in Italy and the conventi
 onal navigational aids (Navaids) business for which Gorgonzola (MI) site i
 s a center of excellence for the Group\, the speakers will finally focus o
 n the design of pulsed power amplifiers that achieve stringent spectral re
 quirements\, discussing both squared pulse modulation scheme and envelop t
 racking.&lt;/p&gt;
END:VEVENT
END:VCALENDAR

