BEGIN:VCALENDAR
VERSION:2.0
PRODID:IEEE vTools.Events//EN
CALSCALE:GREGORIAN
BEGIN:VTIMEZONE
TZID:Asia/Kolkata
BEGIN:STANDARD
DTSTART:19451014T230000
TZOFFSETFROM:+0630
TZOFFSETTO:+0530
TZNAME:IST
END:STANDARD
END:VTIMEZONE
BEGIN:VEVENT
DTSTAMP:20231222T163354Z
UID:126BD2F4-982C-47D8-B1F2-414CA0432FCD
DTSTART;TZID=Asia/Kolkata:20230924T200000
DTEND;TZID=Asia/Kolkata:20230924T210000
DESCRIPTION:Bugbash was an online Debugging Competition conducted by IEEE S
 B RIT\, IEEE SB CEK and IEEE SB Mangalam in collaboration with IEEE Comput
 er Society Kerala Chapter as part of Informatyka 3.0. The event was held o
 n 24 September 2023 from 8:00 to 9:00 PM in online mode. The competition p
 rovided an exciting platform for participants to test and improve their de
 bugging skills in a virtual environment. It was arranged in a platform cal
 led Hackerrank for easier user experience and consisted of the most essent
 ial debugging questions carefully curated for the competition.\n\nThe comp
 etition featured a series of programming challenges\, each containing diff
 erent types of bugs\, from basic syntax errors to intricate logic issues. 
 Participants received source code to debug. The competition had multiple r
 ounds where the challenges grew progressively more complex\,\nand this off
 ered a gradual learning curve for participants.\n\nThe event served as a v
 aluable learning opportunity for the participants\, providing them insight
 s into real-world debugging scenarios and strategies. Also being a team ev
 ent\, Bugbash promoted collaboration and knowledge sharing among the parti
 cipants further enhancing their experience.\nThe competition was received 
 well by the students. A large part of the participants completed the tasks
  successfully of which the faster ones were awarded the prize. The event w
 as a success\, offering participants a valuable platform to enhance their 
 debugging skills\, collaborate and learn.\n\nVirtual: https://events.vtool
 s.ieee.org/m/393146
LOCATION:Virtual: https://events.vtools.ieee.org/m/393146
ORGANIZER:kalyaninambiar12@ieee.org
SEQUENCE:12
SUMMARY:Bugbash
URL;VALUE=URI:https://events.vtools.ieee.org/m/393146
X-ALT-DESC:Description: &lt;br /&gt;&lt;p&gt;&lt;em&gt;Bugbash was an online Debugging Compet
 ition conducted by IEEE SB RIT\, IEEE SB CEK and IEEE SB Mangalam in colla
 boration with IEEE Computer Society Kerala Chapter as part of Informatyka 
 3.0. The event was held on 24 September 2023 from 8:00 to 9:00 PM in onlin
 e mode. The competition provided an exciting platform for participants to 
 test and improve their debugging skills in a virtual environment. It was a
 rranged in a platform called Hackerrank for easier user experience and con
 sisted of the most essential debugging questions carefully curated for the
  &lt;/em&gt;&lt;em&gt;competition.&lt;/em&gt;&lt;/p&gt;\n&lt;p&gt;&lt;em&gt;The competition featured a series 
 of programming challenges\, each containing different types of bugs\, from
  basic syntax errors to intricate logic issues. Participants received sour
 ce code to debug. The competition had multiple rounds where the challenges
  grew progressively more complex\,&lt;/em&gt;&lt;br /&gt;&lt;em&gt;and this offered a gradua
 l learning curve for participants.&lt;/em&gt;&lt;/p&gt;\n&lt;p&gt;&lt;em&gt;The event served as a 
 valuable learning opportunity for the participants\, providing them insigh
 ts into real-world debugging scenarios and strategies. Also being a team e
 vent\, Bugbash promoted collaboration and knowledge sharing among the part
 icipants further enhancing their experience.&lt;/em&gt;&lt;br /&gt;&lt;em&gt;The competition
  was received well by the students. A large part of the participants compl
 eted the tasks successfully of which the faster ones were awarded the priz
 e. The event was a success\, offering participants a valuable platform to 
 enhance their debugging skills\, collaborate and learn.&amp;nbsp\;&lt;/em&gt;&lt;/p&gt;
END:VEVENT
END:VCALENDAR

