BEGIN:VCALENDAR
VERSION:2.0
PRODID:IEEE vTools.Events//EN
CALSCALE:GREGORIAN
BEGIN:VTIMEZONE
TZID:Asia/Kolkata
BEGIN:STANDARD
DTSTART:19451014T230000
TZOFFSETFROM:+0630
TZOFFSETTO:+0530
TZNAME:IST
END:STANDARD
END:VTIMEZONE
BEGIN:VEVENT
DTSTAMP:20231231T042633Z
UID:CB7C1097-9059-43A0-B739-13F56DA1D38A
DTSTART;TZID=Asia/Kolkata:20231227T113000
DTEND;TZID=Asia/Kolkata:20231227T130000
DESCRIPTION:IEEE WIE STUDENT BRANCH AFFINITY GROUP Bansal institute of engi
 neering and technology\, Lucknow was organised a seminar on &quot;An initiative
  on safety\, physical\, economic security and political security of girls&quot;
  in collaboration with IEEE SB BIET Lucknow. Women security means financia
 l security and autonomy. Less dependence on men helps women take informed 
 decisions and become less vulnerable to all forms of family violence. Wome
 n&#39;s safety includes self-respect. Safe homes recognize rights\, give due r
 espect and love and empower their women.\n\nWomen&#39;s safety includes strate
 gies and policies that are adopted to prevent crime or harassment before v
 iolence occurs.\nIt is mandatory for companies/factories and any other est
 ablishment to ensure protection and penalties against sexual harassment\, 
 lack of proper facilities and hygiene.\n\nSpeaker(s): Ms. Usha Vishwakarma
 \, \n\nBldg: BIET Building\, NH-24 Sitapur road Behind Sewa hospital\, Luc
 know\, Lucknow\, Uttar Pradesh\, India
LOCATION:Bldg: BIET Building\, NH-24 Sitapur road Behind Sewa hospital\, Lu
 cknow\, Lucknow\, Uttar Pradesh\, India
ORGANIZER:anjalikaneriya@ieee.org
SEQUENCE:21
SUMMARY:SEMINAR on An initiative on safety\, physical\, economic security a
 nd political security of girls.
URL;VALUE=URI:https://events.vtools.ieee.org/m/393389
X-ALT-DESC:Description: &lt;br /&gt;&lt;p&gt;IEEE WIE STUDENT BRANCH AFFINITY GROUP Ban
 sal institute of engineering and technology\, Lucknow was organised a semi
 nar on &quot;An initiative on safety\, physical\, economic security and politic
 al security of girls&quot; in collaboration with IEEE SB BIET Lucknow. Women se
 curity means financial security and autonomy. Less dependence on men helps
  women take informed decisions and become less vulnerable to all forms of 
 family violence. Women&#39;s safety includes self-respect. Safe homes recogniz
 e rights\, give due respect and love and empower their women.&lt;/p&gt;\n&lt;p&gt;Wome
 n&#39;s safety includes strategies and policies that are adopted to prevent cr
 ime or harassment before violence occurs.&lt;br /&gt;It is mandatory for compani
 es/factories and any other establishment to ensure protection and penaltie
 s against sexual harassment\, lack of proper facilities and hygiene.&lt;/p&gt;
END:VEVENT
END:VCALENDAR

