BEGIN:VCALENDAR
VERSION:2.0
PRODID:IEEE vTools.Events//EN
CALSCALE:GREGORIAN
BEGIN:VTIMEZONE
TZID:America/Mexico_City
BEGIN:STANDARD
DTSTART:20221030T010000
TZOFFSETFROM:-0500
TZOFFSETTO:-0600
TZNAME:CST
END:STANDARD
END:VTIMEZONE
BEGIN:VEVENT
DTSTAMP:20231229T054754Z
UID:8D4BB5FC-9AC6-4B9E-903D-07228E1AD2DA
DTSTART;TZID=America/Mexico_City:20230330T080000
DTEND;TZID=America/Mexico_City:20230330T090000
DESCRIPTION:Foro para hablar sobre la carrera de Ing Telemática\, se expus
 ieron experiencias de una estudiante\, de un egresado y un profesor\n\nCDM
 X\, Distrito Federal\, Mexico
LOCATION:CDMX\, Distrito Federal\, Mexico
ORGANIZER:icabreramx@ieee.org
SEQUENCE:7
SUMMARY:Foro de Carreras: Ingeniería Telemática
URL;VALUE=URI:https://events.vtools.ieee.org/m/395524
X-ALT-DESC:Description: &lt;br /&gt;&lt;p&gt;Foro para hablar sobre la carrera de Ing T
 elem&amp;aacute\;tica\, se expusieron experiencias de una estudiante\, de un e
 gresado y un profesor&lt;/p&gt;
END:VEVENT
END:VCALENDAR

