BEGIN:VCALENDAR
VERSION:2.0
PRODID:IEEE vTools.Events//EN
CALSCALE:GREGORIAN
BEGIN:VTIMEZONE
TZID:Asia/Kolkata
BEGIN:STANDARD
DTSTART:19451014T230000
TZOFFSETFROM:+0630
TZOFFSETTO:+0530
TZNAME:IST
END:STANDARD
END:VTIMEZONE
BEGIN:VEVENT
DTSTAMP:20240131T184424Z
UID:EFDDC10A-1125-4835-B221-77B6C1124E10
DTSTART;TZID=Asia/Kolkata:20231201T123000
DTEND;TZID=Asia/Kolkata:20231201T160000
DESCRIPTION:IEEE PES SBC JECC is proud to present a recap of our recent eve
 nt\, &quot;Patent for Engineers\,&quot; held on December 1st in the seminar hall. Th
 is engaging seminar brought together engineers\, researchers\, and innovat
 ors eager to unravel the complexities of patents and intellectual property
  within the realm of innovation. This wonderful session was conducted by a
  professor Jarin T. who holds a Ph.D. in this field. Most of the IEEE memb
 ers joined this session and gained new knowledge about the topic. After th
 e session\, he was presented with a memento for the wonderful presentation
 .\n\nAgenda: \n1. Comprehensive Exploration of Intellectual Property\n\n2.
  In-Depth Understanding of Patent Strategies\n\n3. Practical Insights into
  the Patent Application Process\n\n4. Success Stories and Case Studies\n\n
 5. Interactive Q&amp;A Session\n\nJyothi Engineering College\, Jyothi Hills\, 
 Panjal Road\, Vettikattiri PO\, Cheruthuruthy\, Thrissur\, Kerala\, Kerala
 \, India\, 679531
LOCATION:Jyothi Engineering College\, Jyothi Hills\, Panjal Road\, Vettikat
 tiri PO\, Cheruthuruthy\, Thrissur\, Kerala\, Kerala\, India\, 679531
ORGANIZER:edwinjaison30@ieee.org
SEQUENCE:121
SUMMARY:PATENT FOR ENGINEERS
URL;VALUE=URI:https://events.vtools.ieee.org/m/395612
X-ALT-DESC:Description: &lt;br /&gt;&lt;p&gt;IEEE PES SBC JECC is proud to present a re
 cap of our recent event\, &quot;Patent for Engineers\,&quot; held on December 1st in
  the seminar hall. This engaging seminar brought together engineers\, rese
 archers\, and innovators eager to unravel the complexities of patents and 
 intellectual property within the realm of innovation. This wonderful sessi
 on was conducted by a professor Jarin T. who holds a Ph.D. in this field. 
 Most of the IEEE members joined this session and gained new knowledge abou
 t the topic. After the session\, he was presented with a memento for the w
 onderful presentation.&lt;/p&gt;&lt;br /&gt;&lt;br /&gt;Agenda: &lt;br /&gt;&lt;p&gt;1. Comprehensive Ex
 ploration of Intellectual Property&lt;/p&gt;\n&lt;p&gt;2. In-Depth Understanding of Pa
 tent Strategies&lt;/p&gt;\n&lt;p&gt;3. Practical Insights into the Patent Application 
 Process&lt;/p&gt;\n&lt;p&gt;4. Success Stories and Case Studies&lt;/p&gt;\n&lt;p&gt;5. Interactive
  Q&amp;amp\;A Session&lt;/p&gt;
END:VEVENT
END:VCALENDAR

