BEGIN:VCALENDAR
VERSION:2.0
PRODID:IEEE vTools.Events//EN
CALSCALE:GREGORIAN
BEGIN:VTIMEZONE
TZID:Europe/Zurich
BEGIN:DAYLIGHT
DTSTART:20240331T030000
TZOFFSETFROM:+0100
TZOFFSETTO:+0200
RRULE:FREQ=YEARLY;BYDAY=-1SU;BYMONTH=3
TZNAME:CEST
END:DAYLIGHT
BEGIN:STANDARD
DTSTART:20231029T020000
TZOFFSETFROM:+0200
TZOFFSETTO:+0100
RRULE:FREQ=YEARLY;BYDAY=-1SU;BYMONTH=10
TZNAME:CET
END:STANDARD
END:VTIMEZONE
BEGIN:VEVENT
DTSTAMP:20231229T202423Z
UID:665CBA73-BE01-4F20-9BD2-063B5404FEAA
DTSTART;TZID=Europe/Zurich:20231209T163000
DTEND;TZID=Europe/Zurich:20231209T233000
DESCRIPTION:End of the year summary and commong strategy for the next year 
 for Young Professionals and Student Branches at the EPFL and ETHZ were the
  main topics of this meeting. Beside of that\, the meeting was a great cha
 nce to integrate the three groups and welcome the new volunteers\, set up 
 collaborations\, and discuss future roles.\n\nZurich\, Switzerland\, Switz
 erland
LOCATION:Zurich\, Switzerland\, Switzerland
ORGANIZER:a.zago@ieee.org
SEQUENCE:19
SUMMARY:End of the year Student Branch and Young Professionals gathering 
URL;VALUE=URI:https://events.vtools.ieee.org/m/396026
X-ALT-DESC:Description: &lt;br /&gt;&lt;p&gt;End of the year summary and commong strate
 gy for the next year for Young Professionals and Student Branches at the E
 PFL and ETHZ were the main topics of this meeting. Beside of that\, the me
 eting was a great chance to integrate the three groups and welcome the new
  volunteers\, set up collaborations\, and discuss future roles.&amp;nbsp\;&lt;/p&gt;
END:VEVENT
END:VCALENDAR

