BEGIN:VCALENDAR
VERSION:2.0
PRODID:IEEE vTools.Events//EN
CALSCALE:GREGORIAN
BEGIN:VTIMEZONE
TZID:Asia/Kolkata
BEGIN:STANDARD
DTSTART:19451014T230000
TZOFFSETFROM:+0630
TZOFFSETTO:+0530
TZNAME:IST
END:STANDARD
END:VTIMEZONE
BEGIN:VEVENT
DTSTAMP:20231230T152701Z
UID:29E5DBA3-674C-4684-B1AB-534AACBB2C9B
DTSTART;TZID=Asia/Kolkata:20231006T130000
DTEND;TZID=Asia/Kolkata:20241005T133000
DESCRIPTION:The IEEE Student Branch at Kallooppara organized a engaging and
  interactive event titled\n&quot;How Much Do You Know About WhatsApp?&quot; as part 
 of the IEEE Day celebration on October\n6\, 2023. The event aimed to blend
  knowledge and enjoyment through a fun-filled quiz\nsession based on Whats
 App\, a widely used messaging platform.\nThe &quot;How Much Do You Know About W
 hatsApp?&quot; event was designed to celebrate\nIEEE Day with an entertaining t
 wist\, engaging participants in a quiz format that tested their\nknowledge
  about various features\, updates\, and interesting facts related to the p
 opular\nmessaging application\, WhatsApp. The event aimed to promote camar
 aderie and learning in\na relaxed environment.\nEVENT OBJECTIVE\nThe objec
 tive of the &quot;How Much Do You Know About WhatsApp?&quot; event was to celebrate 
 IEEE\nDay by creating a lively and enjoyable learning environment through 
 a quiz format. The event aimed\nto test participants&#39; knowledge of WhatsAp
 p features\, updates\, and trivia while fostering a sense of\ncommunity an
 d engagement within the IEEE Student Branch at Kallooppara. Ultimately\, t
 he goal was\nto promote IEEE Day celebration as a blend of educational enr
 ichment and shared enjoyment among\nthe members.\nEVENT OUTCOME\nThe &quot;How 
 Much Do You Know About WhatsApp?&quot; event yielded positive outcomes as parti
 cipants\nactively engaged in the quiz\, showcasing their knowledge and ent
 husiasm. The interactive format\nfostered a sense of camaraderie among IEE
 E Student Branch members during the IEEE Day\ncelebration. The event succe
 ssfully achieved its goal of combining fun\, learning\, and community\nbui
 lding within the IEEE community at Kallooppara.\n\nBldg: Old Block Seminar
  Hall\, College of Engineering\, Kallooppara\, Kalloopara\, Kerala\, India
LOCATION:Bldg: Old Block Seminar Hall\, College of Engineering\, Kallooppar
 a\, Kalloopara\, Kerala\, India
ORGANIZER:
SEQUENCE:6
SUMMARY:How Much Do You Know About WhatsApp?
URL;VALUE=URI:https://events.vtools.ieee.org/m/396468
X-ALT-DESC:Description: &lt;br /&gt;&lt;p&gt;The IEEE Student Branch at Kallooppara org
 anized a engaging and interactive event titled&lt;br /&gt;&quot;How Much Do You Know 
 About WhatsApp?&quot; as part of the IEEE Day celebration on October&lt;br /&gt;6\, 2
 023. The event aimed to blend knowledge and enjoyment through a fun-filled
  quiz&lt;br /&gt;session based on WhatsApp\, a widely used messaging platform.&lt;b
 r /&gt;The &quot;How Much Do You Know About WhatsApp?&quot; event was designed to celeb
 rate&lt;br /&gt;IEEE Day with an entertaining twist\, engaging participants in a
  quiz format that tested their&lt;br /&gt;knowledge about various features\, upd
 ates\, and interesting facts related to the popular&lt;br /&gt;messaging applica
 tion\, WhatsApp. The event aimed to promote camaraderie and learning in&lt;br
  /&gt;a relaxed environment.&lt;br /&gt;EVENT OBJECTIVE&lt;br /&gt;The objective of the &quot;
 How Much Do You Know About WhatsApp?&quot; event was to celebrate IEEE&lt;br /&gt;Day
  by creating a lively and enjoyable learning environment through a quiz fo
 rmat. The event aimed&lt;br /&gt;to test participants&#39; knowledge of WhatsApp fea
 tures\, updates\, and trivia while fostering a sense of&lt;br /&gt;community and
  engagement within the IEEE Student Branch at Kallooppara. Ultimately\, th
 e goal was&lt;br /&gt;to promote IEEE Day celebration as a blend of educational 
 enrichment and shared enjoyment among&lt;br /&gt;the members.&lt;br /&gt;EVENT OUTCOME
 &lt;br /&gt;The &quot;How Much Do You Know About WhatsApp?&quot; event yielded positive ou
 tcomes as participants&lt;br /&gt;actively engaged in the quiz\, showcasing thei
 r knowledge and enthusiasm. The interactive format&lt;br /&gt;fostered a sense o
 f camaraderie among IEEE Student Branch members during the IEEE Day&lt;br /&gt;c
 elebration. The event successfully achieved its goal of combining fun\, le
 arning\, and community&lt;br /&gt;building within the IEEE community at Kalloopp
 ara.&lt;/p&gt;
END:VEVENT
END:VCALENDAR

