BEGIN:VCALENDAR
VERSION:2.0
PRODID:IEEE vTools.Events//EN
CALSCALE:GREGORIAN
BEGIN:VTIMEZONE
TZID:America/Bogota
BEGIN:DAYLIGHT
DTSTART:20380118T221407
TZOFFSETFROM:-0500
TZOFFSETTO:-0500
RRULE:FREQ=YEARLY;BYDAY=3MO;BYMONTH=1
TZNAME:-05
END:DAYLIGHT
BEGIN:STANDARD
DTSTART:19930206T230000
TZOFFSETFROM:-0400
TZOFFSETTO:-0500
RRULE:FREQ=YEARLY;BYDAY=1SA;BYMONTH=2
TZNAME:-05
END:STANDARD
END:VTIMEZONE
BEGIN:VEVENT
DTSTAMP:20240126T020541Z
UID:21495E75-E615-422F-BCC8-9A968E01BC66
DTSTART;TZID=America/Bogota:20230812T090000
DTEND;TZID=America/Bogota:20230812T110000
DESCRIPTION:Actividad de celebración del día del Ingeniero\nen las instal
 aciones de la universidad.\n\ncartagena\, Bolivar\, Colombia
LOCATION:cartagena\, Bolivar\, Colombia
ORGANIZER:angellodiazlopez@gmail.com
SEQUENCE:2
SUMMARY:Día del Ingeniero
URL;VALUE=URI:https://events.vtools.ieee.org/m/398105
X-ALT-DESC:Description: &lt;br /&gt;&lt;p&gt;Actividad de celebraci&amp;oacute\;n del d&amp;iac
 ute\;a del Ingeniero&lt;br /&gt;en las instalaciones de la universidad.&lt;/p&gt;
END:VEVENT
END:VCALENDAR

