BEGIN:VCALENDAR
VERSION:2.0
PRODID:IEEE vTools.Events//EN
CALSCALE:GREGORIAN
BEGIN:VTIMEZONE
TZID:America/Bogota
BEGIN:DAYLIGHT
DTSTART:20380118T221407
TZOFFSETFROM:-0500
TZOFFSETTO:-0500
RRULE:FREQ=YEARLY;BYDAY=3MO;BYMONTH=1
TZNAME:-05
END:DAYLIGHT
BEGIN:STANDARD
DTSTART:19930206T230000
TZOFFSETFROM:-0400
TZOFFSETTO:-0500
RRULE:FREQ=YEARLY;BYDAY=1SA;BYMONTH=2
TZNAME:-05
END:STANDARD
END:VTIMEZONE
BEGIN:VEVENT
DTSTAMP:20240106T191207Z
UID:9EDF3046-9E48-4386-BEDA-87FDA54AA67F
DTSTART;TZID=America/Bogota:20240102T090000
DTEND;TZID=America/Bogota:20240106T130000
DESCRIPTION:La Universidad de Panamá\, la Facultad de Informática\, Elect
 rónica y Comunicación y el Capitulo de Computación de IEEE\, buscando p
 romover el aprendizaje de la tecnología de la información y comunicació
 n en especial para niñas y niños dentro de la sociedad\, presenta El Ver
 anito Feliz - Divirtámonos Programando.\n\nEn la actualidad\, los avances
  tecnológicos requieren de un ciudadano con nuevas competencias que lo ha
 ga capaz de interactuar dentro de una sociedad digital\; es por ello\, que
  ofrecemos formar a estas futuras generaciones -niñas y niños entre 8 y 
 12 años- para conocer sobre computación\, tecnología\, para que aprenda
 n a ser creativos\, utilicen la lógica\, resuelvan problemas y gestionen 
 proyectos de manera ágil y desde sus tempranas edades. Esperamos aportar 
 un granito de arena\, mejorar los índices panameños que marcan el perfil
  de las futuras generaciones.\n\nExisten tres grupos de niños:\n- Program
 a básico\n- Programa intermedio (segunda promoción verano 2023)\n- Progr
 ama avanzado (primera promoción verano 2022)\n\nCo-sponsored by: Facultad
  de Informática\, Electrónica y Comunicación de la Universidad de Panam
 á \n\nPanama\, Panama\, Panama\, Virtual: https://events.vtools.ieee.org/
 m/398659
LOCATION:Panama\, Panama\, Panama\, Virtual: https://events.vtools.ieee.org
 /m/398659
ORGANIZER:donna.roper@up.ac.pa
SEQUENCE:10
SUMMARY:Taller de Mentores del Veranito Feliz 2024: Divirtámonos Programan
 do
URL;VALUE=URI:https://events.vtools.ieee.org/m/398659
X-ALT-DESC:Description: &lt;br /&gt;&lt;p&gt;La Universidad de Panam&amp;aacute\;\, la Facu
 ltad de Inform&amp;aacute\;tica\, Electr&amp;oacute\;nica y Comunicaci&amp;oacute\;n y
  el Capitulo de Computaci&amp;oacute\;n de IEEE\, buscando promover el aprendi
 zaje de la tecnolog&amp;iacute\;a de la informaci&amp;oacute\;n y comunicaci&amp;oacut
 e\;n en especial para ni&amp;ntilde\;as y ni&amp;ntilde\;os&amp;nbsp\;dentro de la soc
 iedad\,&amp;nbsp\;presenta &lt;strong&gt;El Veranito Feliz - Divirt&amp;aacute\;monos Pr
 ogramando.&amp;nbsp\;&amp;nbsp\;&lt;/strong&gt;&lt;/p&gt;\n&lt;div&gt;\n&lt;div&gt;En la actualidad\, los 
 avances tecnol&amp;oacute\;gicos requieren de un ciudadano con nuevas competen
 cias que lo haga capaz de interactuar dentro de una sociedad digital\; es 
 por ello\, que ofrecemos formar a estas futuras generaciones -&lt;strong&gt;ni&amp;n
 tilde\;as y ni&amp;ntilde\;os entre 8 y 12 a&amp;ntilde\;os&lt;/strong&gt;- para conocer
  sobre&amp;nbsp\;computaci&amp;oacute\;n\, tecnolog&amp;iacute\;a\, para que aprendan 
 a ser creativos\, utilicen la l&amp;oacute\;gica\,&amp;nbsp\; resuelvan problemas 
 y gestionen proyectos de manera &amp;aacute\;gil y desde sus tempranas edades.
  Esperamos aportar&amp;nbsp\;un granito de arena\, mejorar los &amp;iacute\;ndices
  paname&amp;ntilde\;os que marcan el perfil de las futuras generaciones.&lt;/div&gt;
 \n&lt;div&gt;&lt;br /&gt;Existen tres grupos de ni&amp;ntilde\;os: &lt;br /&gt;- Programa b&amp;aacu
 te\;sico&lt;br /&gt;- Programa intermedio (segunda promoci&amp;oacute\;n verano 2023
 )&lt;/div&gt;\n&lt;div&gt;- Programa avanzado (primera promoci&amp;oacute\;n verano 2022)&lt;
 /div&gt;\n&lt;/div&gt;
END:VEVENT
END:VCALENDAR

