BEGIN:VCALENDAR
VERSION:2.0
PRODID:IEEE vTools.Events//EN
CALSCALE:GREGORIAN
BEGIN:VTIMEZONE
TZID:America/Mexico_City
BEGIN:STANDARD
DTSTART:20221030T010000
TZOFFSETFROM:-0500
TZOFFSETTO:-0600
TZNAME:CST
END:STANDARD
END:VTIMEZONE
BEGIN:VEVENT
DTSTAMP:20240202T035433Z
UID:4BC2A218-87B4-4E09-9904-4669C9A8FAE3
DTSTART;TZID=America/Mexico_City:20240111T170000
DTEND;TZID=America/Mexico_City:20240111T180000
DESCRIPTION:Estimados miembros del Comité Ejecutivo de IEEE Sección Quer
 étaro\,\n\nEspero que este mensaje les encuentre bien. Me complace invita
 rlos a nuestra reunión mensual del Comité Ejecutivo\, que se llevará a 
 cabo el jueves 11 de enero de 2024 a las 5:00 p.m. de manera presencial en
  la sala de metrología del edificio B6.\n\nLa reunión se centrará en va
 rios puntos clave para nuestro desarrollo y crecimiento continuo. A contin
 uación\, les comparto el Orden del Día.\n\nSolicito a los diferentes ofi
 ciales que se acerquen a mí antes de la fecha de la reunión para compart
 ir información relevante y preparar sus respectivos puntos de discusión.
 \n\nSu participación activa y sus valiosas aportaciones son fundamentales
  para el éxito de nuestra Sección. Por favor\, confirmen su asistencia a
  la brevedad posible.\n\nAgradezco de antemano su compromiso y dedicación
 . Espero verlos a todos y trabajar juntos en pos de nuestros objetivos com
 unes.\n\nSaludos muy cordiales\,\n\nAgenda: \n- Apertura de la Reunión\n\
 n- Bienvenida por parte del Presidente.\n- Verificación de quórum.\n\n- 
 Informe del Presidente\n\n- Resumen de logros del año anterior.\n- Visió
 n y objetivos para el año 2024.\n\n- Propuestas de Actividades y Eventos 
 Sociales\n\n- Presentación de propuestas de actividades.\n- Discusión y 
 planificación de eventos sociales para la Sección.\n\n- Vinculación Int
 erinstitucional y con el Sector Industrial\n\n- Estrategias para visitas a
  instituciones.\n- Propuestas de colaboración y vinculación.\n\n- Planif
 icación de Reportes Financieros\n\n- Informe de la situación financiera 
 actual de la Sección.\n- Planificación de reportes financieros de los ca
 pítulos\, ramas y grupos de afinidades.\n\n- Propuestas de Mejora y Estra
 tegias de Trabajo\n\n- Sugerencias para optimizar las operaciones de la Se
 cción.\n- Estrategias para fortalecer la colaboración interna.\n\n- Rond
 a de Preguntas y Comentarios\n\n- Espacio para preguntas y comentarios de 
 los miembros.\n\n- Fijación de Fecha y Tema para la Próxima Reunión\n\n
 - Cierre de la Reunión\n\n- Palabras finales del Presidente.\n- Clausura 
 oficial de la reunión.\n\nRoom: Sala Metrología\, Bldg: B6\, Av. pie de 
 la cuesta\, Queretaro\, Queretaro de Arteaga\, Mexico\, 76125
LOCATION:Room: Sala Metrología\, Bldg: B6\, Av. pie de la cuesta\, Quereta
 ro\, Queretaro de Arteaga\, Mexico\, 76125
ORGANIZER:elodie.claire@cidesi.edu.mx
SEQUENCE:9
SUMMARY:Reunión Mensual del Comité Ejecutivo IEEE Sección Querétaro
URL;VALUE=URI:https://events.vtools.ieee.org/m/398869
X-ALT-DESC:Description: &lt;br /&gt;&lt;p&gt;Estimados miembros del Comit&amp;eacute\; Ejec
 utivo de IEEE Secci&amp;oacute\;n Quer&amp;eacute\;taro\,&lt;/p&gt;\n&lt;p&gt;Espero que este 
 mensaje les encuentre bien. Me complace invitarlos a nuestra reuni&amp;oacute\
 ;n mensual del Comit&amp;eacute\; Ejecutivo\, que se llevar&amp;aacute\; a cabo el
  jueves 11 de enero de 2024 a las 5:00 p.m. de manera presencial en la sal
 a de metrolog&amp;iacute\;a del edificio B6.&lt;/p&gt;\n&lt;p&gt;La reuni&amp;oacute\;n se cen
 trar&amp;aacute\; en varios puntos clave para nuestro desarrollo y crecimiento
  continuo. A continuaci&amp;oacute\;n\, les comparto el Orden del D&amp;iacute\;a.
 &lt;/p&gt;\n&lt;p&gt;Solicito a los diferentes oficiales que se acerquen a m&amp;iacute\; 
 antes de la fecha de la reuni&amp;oacute\;n para compartir informaci&amp;oacute\;n
  relevante y preparar sus respectivos puntos de discusi&amp;oacute\;n.&lt;/p&gt;\n&lt;p
 &gt;Su participaci&amp;oacute\;n activa y sus valiosas aportaciones son fundament
 ales para el &amp;eacute\;xito de nuestra Secci&amp;oacute\;n. Por favor\, confirm
 en su asistencia a la brevedad posible.&lt;/p&gt;\n&lt;p&gt;Agradezco de antemano su c
 ompromiso y dedicaci&amp;oacute\;n. Espero verlos a todos y trabajar juntos en
  pos de nuestros objetivos comunes.&lt;/p&gt;\n&lt;p&gt;Saludos muy cordiales\,&lt;/p&gt;&lt;br
  /&gt;&lt;br /&gt;Agenda: &lt;br /&gt;&lt;ol&gt;\n&lt;li&gt;Apertura de la Reuni&amp;oacute\;n&lt;/li&gt;\n&lt;/ol
 &gt;\n&lt;ul&gt;\n&lt;li&gt;Bienvenida por parte del Presidente.&lt;/li&gt;\n&lt;li&gt;Verificaci&amp;oac
 ute\;n de qu&amp;oacute\;rum.&lt;/li&gt;\n&lt;/ul&gt;\n&lt;ol start=&quot;2&quot;&gt;\n&lt;li&gt;Informe del Pre
 sidente&lt;/li&gt;\n&lt;/ol&gt;\n&lt;ul&gt;\n&lt;li&gt;Resumen de logros del a&amp;ntilde\;o anterior.
 &lt;/li&gt;\n&lt;li&gt;Visi&amp;oacute\;n y objetivos para el a&amp;ntilde\;o 2024.&lt;/li&gt;\n&lt;/ul
 &gt;\n&lt;ol start=&quot;3&quot;&gt;\n&lt;li&gt;Propuestas de Actividades y Eventos Sociales&lt;/li&gt;\n
 &lt;/ol&gt;\n&lt;ul&gt;\n&lt;li&gt;Presentaci&amp;oacute\;n de propuestas de actividades.&lt;/li&gt;\n
 &lt;li&gt;Discusi&amp;oacute\;n y planificaci&amp;oacute\;n de eventos sociales para la 
 Secci&amp;oacute\;n.&lt;/li&gt;\n&lt;/ul&gt;\n&lt;ol start=&quot;4&quot;&gt;\n&lt;li&gt;Vinculaci&amp;oacute\;n Inte
 rinstitucional y con el Sector Industrial&lt;/li&gt;\n&lt;/ol&gt;\n&lt;ul&gt;\n&lt;li&gt;Estrategi
 as para visitas a instituciones.&lt;/li&gt;\n&lt;li&gt;Propuestas de colaboraci&amp;oacute
 \;n y vinculaci&amp;oacute\;n.&lt;/li&gt;\n&lt;/ul&gt;\n&lt;p&gt;&amp;nbsp\;&lt;/p&gt;\n&lt;ol start=&quot;5&quot;&gt;\n&lt;l
 i&gt;Planificaci&amp;oacute\;n de Reportes Financieros&lt;/li&gt;\n&lt;/ol&gt;\n&lt;ul&gt;\n&lt;li&gt;Inf
 orme de la situaci&amp;oacute\;n financiera actual de la Secci&amp;oacute\;n.&lt;/li&gt;
 \n&lt;li&gt;Planificaci&amp;oacute\;n de reportes financieros de los cap&amp;iacute\;tul
 os\, ramas y grupos de afinidades.&lt;/li&gt;\n&lt;/ul&gt;\n&lt;ol start=&quot;6&quot;&gt;\n&lt;li&gt;Propue
 stas de Mejora y Estrategias de Trabajo&lt;/li&gt;\n&lt;/ol&gt;\n&lt;ul&gt;\n&lt;li&gt;Sugerencias
  para optimizar las operaciones de la Secci&amp;oacute\;n.&lt;/li&gt;\n&lt;li&gt;Estrategi
 as para fortalecer la colaboraci&amp;oacute\;n interna.&lt;/li&gt;\n&lt;/ul&gt;\n&lt;ol start
 =&quot;7&quot;&gt;\n&lt;li&gt;Ronda de Preguntas y Comentarios&lt;/li&gt;\n&lt;/ol&gt;\n&lt;ul&gt;\n&lt;li&gt;Espacio
  para preguntas y comentarios de los miembros.&lt;/li&gt;\n&lt;/ul&gt;\n&lt;ol start=&quot;8&quot;&gt;
 \n&lt;li&gt;Fijaci&amp;oacute\;n de Fecha y Tema para la Pr&amp;oacute\;xima Reuni&amp;oacut
 e\;n&lt;/li&gt;\n&lt;/ol&gt;\n&lt;ol start=&quot;9&quot;&gt;\n&lt;li&gt;Cierre de la Reuni&amp;oacute\;n&lt;/li&gt;\n&lt;
 /ol&gt;\n&lt;ul&gt;\n&lt;li&gt;Palabras finales del Presidente.&lt;/li&gt;\n&lt;li&gt;Clausura oficia
 l de la reuni&amp;oacute\;n.&lt;/li&gt;\n&lt;/ul&gt;
END:VEVENT
END:VCALENDAR

