BEGIN:VCALENDAR
VERSION:2.0
PRODID:IEEE vTools.Events//EN
CALSCALE:GREGORIAN
BEGIN:VTIMEZONE
TZID:Asia/Karachi
BEGIN:STANDARD
DTSTART:20091031T230000
TZOFFSETFROM:+0600
TZOFFSETTO:+0500
TZNAME:PKT
END:STANDARD
END:VTIMEZONE
BEGIN:VEVENT
DTSTAMP:20240109T130108Z
UID:45329B67-DB92-419A-9B8C-91029B1F96D1
DTSTART;TZID=Asia/Karachi:20220502T190000
DTEND;TZID=Asia/Karachi:20240102T220000
DESCRIPTION:- We Celebrated Chaand Raat with our female volunteers and gift
 ed them Eidi with mehndi and bangles.\n\nAgenda: \nEid al-Fitr is a Muslim
  festival marks the end of Ramadan. The celebration with WIE team involved
  special gift’s giving. This pre-Eid celebration brought happiness to ou
 r volunteer’s faces.\n\nBldg: ssuet\, Sirsyeduniversity of tecnology and
  engineering\, Karachi\, Sindh\, Pakistan
LOCATION:Bldg: ssuet\, Sirsyeduniversity of tecnology and engineering\, Kar
 achi\, Sindh\, Pakistan
ORGANIZER:sundus@ieee.org
SEQUENCE:9
SUMMARY:Celebrated Chaand Raat with our female volunteers 
URL;VALUE=URI:https://events.vtools.ieee.org/m/399156
X-ALT-DESC:Description: &lt;br /&gt;&lt;ol&gt;\n&lt;li&gt;We Celebrated Chaand Raat with our 
 female volunteers and gifted them Eidi with mehndi and bangles.&lt;/li&gt;\n&lt;/ol
 &gt;\n&lt;p&gt;&amp;nbsp\;&lt;/p&gt;&lt;br /&gt;&lt;br /&gt;Agenda: &lt;br /&gt;&lt;p&gt;Eid al-Fitr is a Muslim fest
 ival marks the end of Ramadan. The celebration with WIE team involved spec
 ial gift&amp;rsquo\;s giving. This pre-Eid celebration brought happiness to ou
 r volunteer&amp;rsquo\;s faces.&lt;/p&gt;
END:VEVENT
END:VCALENDAR

