BEGIN:VCALENDAR
VERSION:2.0
PRODID:IEEE vTools.Events//EN
CALSCALE:GREGORIAN
BEGIN:VTIMEZONE
TZID:Asia/Kolkata
BEGIN:STANDARD
DTSTART:19451014T230000
TZOFFSETFROM:+0630
TZOFFSETTO:+0530
TZNAME:IST
END:STANDARD
END:VTIMEZONE
BEGIN:VEVENT
DTSTAMP:20240302T110123Z
UID:B3B9E9CB-2CC8-4EA8-9511-021D29229472
DTSTART;TZID=Asia/Kolkata:20240224T190000
DTEND;TZID=Asia/Kolkata:20240224T203000
DESCRIPTION:Programme Objectives: At the end of the Programme\, participant
 s should have:\n\n- Resolved Basic versus Applied Research Dilemma/Conflic
 t.\n- Systematically Explored the Breadth and Depth of the Research\n- Des
 igned a Smart Research Portfolio\n- Learned to Leverage on Simulation\, Mo
 delling\, Technology\, and Experience.\n- Infused Artistic features in the
  nurturing research portfolio.\n\nWho can benefit from the programme?\n\n-
  Post-graduate (Master&#39;s and Ph.D.) students\, Recent Graduates\, Research
 ers\, Faculty Members\, and those interested in designing and nurturing a 
 smart research portfolio for transforming their career profile.\n\nDuratio
 n: One Day on 30th December 2023\n\nOutline of the Programme\n\n- Basic ve
 rsus Applied Research Dilemma\n- Design a Decision Matrix to select the Co
 re Research Domain and topic of interest.\n- Design a Smart research\n- Dr
 aft an outline of a typical research article\, report\, funding proposal\,
  and/or R &amp; D road map.\n- Strategies for nurturing a smart research portf
 olio\n\nCo-sponsored by: RNSIT Bangalore\, Manipal Institute of Technology
  Bangalore Campus\, IEEE Education Society Singapore Chapter\, REVA Univer
 sity\n\nSpeaker(s): Deepak\, \n\nAgenda: \nWelcome-Chair\n\nIntroduction o
 f Guest: Vice-chair\n\nInteractive Session: Dr. Deepak Waikar\n\nVote of t
 hanks: Dr. M . Riyaz\, Secretary\n\nVirtual: https://events.vtools.ieee.or
 g/m/399678
LOCATION:Virtual: https://events.vtools.ieee.org/m/399678
ORGANIZER:bharathi_hiremutt@rediffmail.com
SEQUENCE:41
SUMMARY:Pre-IEEE-TALE-2024 Conference Workshop
URL;VALUE=URI:https://events.vtools.ieee.org/m/399678
X-ALT-DESC:Description: &lt;br /&gt;&lt;p&gt;&lt;strong&gt;Programme Objectives: &lt;/strong&gt;At 
 the end of the Programme\, participants should have:&lt;/p&gt;\n&lt;ul&gt;\n&lt;li&gt;&lt;stron
 g&gt;Resolved &lt;/strong&gt;Basic&amp;nbsp\;&amp;nbsp\;&amp;nbsp\;&amp;nbsp\; versus&amp;nbsp\;&amp;nbsp\;
 &amp;nbsp\; Applied&amp;nbsp\;&amp;nbsp\;&amp;nbsp\;&amp;nbsp\; Research Dilemma/Conflict.&lt;/li
 &gt;\n&lt;li&gt;&lt;strong&gt;Systematically Explored &lt;/strong&gt;the Breadth and Depth of t
 he Research&lt;/li&gt;\n&lt;li&gt;&lt;strong&gt;Designed &lt;/strong&gt;a Smart Research Portfolio
 &lt;/li&gt;\n&lt;li&gt;&lt;strong&gt;Learned &lt;/strong&gt;to &lt;strong&gt;Leverage &lt;/strong&gt;on Simula
 tion\, Modelling\, Technology\, and Experience.&lt;/li&gt;\n&lt;li&gt;&lt;strong&gt;Infused 
 &lt;/strong&gt;Artistic features in the nurturing research portfolio.&lt;/li&gt;\n&lt;/ul
 &gt;\n&lt;h1&gt;Who can benefit from the programme?&lt;/h1&gt;\n&lt;ul&gt;\n&lt;li&gt;Post-graduate (
 Master&#39;s and Ph.D.) students\, Recent Graduates\, Researchers\, Faculty Me
 mbers\, and those interested in designing and nurturing a smart research p
 ortfolio for transforming their career profile.&lt;/li&gt;\n&lt;/ul&gt;\n&lt;p&gt;&lt;strong&gt;Du
 ration: &lt;/strong&gt;One Day on 30&lt;sup&gt;th&lt;/sup&gt; December 2023&lt;/p&gt;\n&lt;h1&gt;Outline
  of the Programme&lt;/h1&gt;\n&lt;ul&gt;\n&lt;li&gt;&lt;strong&gt;Basic &lt;/strong&gt;versus &lt;strong&gt;Ap
 plied &lt;/strong&gt;Research Dilemma&lt;/li&gt;\n&lt;li&gt;Design &lt;strong&gt;a Decision Matrix
  &lt;/strong&gt;to select the Core Research Domain and topic of interest.&lt;/li&gt;\n
 &lt;li&gt;&lt;strong&gt;Design &lt;/strong&gt;a Smart research&lt;/li&gt;\n&lt;li&gt;&lt;strong&gt;Draft &lt;/str
 ong&gt;an outline of a typical research article\, report\, funding proposal\,
  and/or R &amp;amp\; D road map.&lt;/li&gt;\n&lt;li&gt;&lt;strong&gt;Strategies &lt;/strong&gt;for nur
 turing a smart research portfolio&lt;/li&gt;\n&lt;/ul&gt;&lt;br /&gt;&lt;br /&gt;Agenda: &lt;br /&gt;&lt;p&gt;
 Welcome-Chair&lt;/p&gt;\n&lt;p&gt;Introduction of Guest: Vice-chair&lt;/p&gt;\n&lt;p&gt;Interactiv
 e Session: Dr. Deepak Waikar&lt;/p&gt;\n&lt;p&gt;Vote of thanks: Dr. M . Riyaz\, Secre
 tary&lt;/p&gt;
END:VEVENT
END:VCALENDAR

