BEGIN:VCALENDAR
VERSION:2.0
PRODID:IEEE vTools.Events//EN
CALSCALE:GREGORIAN
BEGIN:VTIMEZONE
TZID:America/New_York
BEGIN:DAYLIGHT
DTSTART:20240310T030000
TZOFFSETFROM:-0500
TZOFFSETTO:-0400
RRULE:FREQ=YEARLY;BYDAY=2SU;BYMONTH=3
TZNAME:EDT
END:DAYLIGHT
BEGIN:STANDARD
DTSTART:20231105T010000
TZOFFSETFROM:-0400
TZOFFSETTO:-0500
RRULE:FREQ=YEARLY;BYDAY=1SU;BYMONTH=11
TZNAME:EST
END:STANDARD
END:VTIMEZONE
BEGIN:VEVENT
DTSTAMP:20241210T235956Z
UID:F30C6FF5-C65A-46D1-803D-604760169796
DTSTART;TZID=America/New_York:20240131T140000
DTEND;TZID=America/New_York:20240131T150000
DESCRIPTION:IEEE Atlanta SSCS Chapter is proud to host a technical seminar 
 on the topic of millimeter wave IC presented by the leading scholar Prof. 
 Ken O. Prof. O is a professor of UT Dallas\, and the director of the SRC C
 enter: Texas Analog Center of Excellence (TxACE).\n\nCo-sponsored by: Sili
 con Creations LLC\n\nSpeaker(s): Kenneth O\, \n\nRoom: 1280\, Bldg: Price 
 Gilbert Memorial Library\, 686-704 Cherry St NW\, Atlanta\, Georgia\, Unit
 ed States\, 30332
LOCATION:Room: 1280\, Bldg: Price Gilbert Memorial Library\, 686-704 Cherry
  St NW\, Atlanta\, Georgia\, United States\, 30332
ORGANIZER:shaolan.li@ece.gatech.edu
SEQUENCE:47
SUMMARY:IEEE Atlanta SSCS/CASS Joint Chapter Seminar: Prof. Ken O of UT Dal
 las and TxACE
URL;VALUE=URI:https://events.vtools.ieee.org/m/400081
X-ALT-DESC:Description: &lt;br /&gt;&lt;p&gt;IEEE Atlanta SSCS Chapter is proud to host
  a technical seminar on the topic of millimeter wave IC presented by the l
 eading scholar Prof. Ken O. Prof. O is a professor of UT Dallas\, and the 
 director of the SRC Center: Texas Analog Center of Excellence (TxACE).&lt;/p&gt;
 \n&lt;h3 class=&quot;page-subheader&quot;&gt;&amp;nbsp\;&lt;/h3&gt;
END:VEVENT
END:VCALENDAR

