BEGIN:VCALENDAR
VERSION:2.0
PRODID:IEEE vTools.Events//EN
CALSCALE:GREGORIAN
BEGIN:VTIMEZONE
TZID:America/Chicago
BEGIN:DAYLIGHT
DTSTART:20240310T030000
TZOFFSETFROM:-0600
TZOFFSETTO:-0500
RRULE:FREQ=YEARLY;BYDAY=2SU;BYMONTH=3
TZNAME:CDT
END:DAYLIGHT
BEGIN:STANDARD
DTSTART:20231105T010000
TZOFFSETFROM:-0500
TZOFFSETTO:-0600
RRULE:FREQ=YEARLY;BYDAY=1SU;BYMONTH=11
TZNAME:CST
END:STANDARD
END:VTIMEZONE
BEGIN:VEVENT
DTSTAMP:20240211T033727Z
UID:7FC3ADA2-9F67-4CBC-A148-0B99483CC11A
DTSTART;TZID=America/Chicago:20240208T180000
DTEND;TZID=America/Chicago:20240208T200000
DESCRIPTION:There is a popular misconception that patenting software innova
 tions is prohibited in the United States. There is also a mistaken belief 
 that &quot;software patents&quot; are unenforceable.\n\nThis Software Patent Present
 ation\, as presented by Benjamin Edlavitch of Edlavitch Law PLLC\, will de
 bunk these myths and provide practical approaches to procuring patents on 
 software innovations as well as enforcing\, defending\, and monetizing suc
 h patents.\n\nBen is a USPTO registered patent attorney with unique techni
 cal backgrounds in the life sciences\, software\, and electrical and compu
 ter engineering. Also\, with over 26 years of experience in the IT industr
 y (8+ years as a software developer and 18+ years as an IP law specialist)
 \, Ben advises clients on complex commercial agreements and technology lic
 enses. This includes counseling clients on open source software issues and
  other legal concerns associated with computing and e-commerce.\n\nThis ev
 ent is a rechedule of the original January 18 date.\n\nSpeaker(s): Benjami
 n Edlavtich\n\nAgenda: \n6-6:30 networking/pizza time\n6:30-6:45 INCOSE/IE
 EE intros\n6:45-7:45 presentation\n7:45-8:00 questions\n8:00 Library meeti
 ng rooms close\n\nThis event is a reschedule of the original January 18 da
 te\n\nRoom: Robert H. Rohlf Room\, 12601 Ridgedale Dr.\, Minnetonka\, Minn
 esota\, United States\, 55305
LOCATION:Room: Robert H. Rohlf Room\, 12601 Ridgedale Dr.\, Minnetonka\, Mi
 nnesota\, United States\, 55305
ORGANIZER:Jack.Pope@ieee.org
SEQUENCE:35
SUMMARY:Software Patents - Twin Cities IEEE Computer Society
URL;VALUE=URI:https://events.vtools.ieee.org/m/400279
X-ALT-DESC:Description: &lt;br /&gt;&lt;p&gt;&lt;span style=&quot;font-size: 14pt\;&quot;&gt;&lt;strong&gt;Th
 ere is a popular misconception&lt;/strong&gt;&lt;/span&gt; that patenting software inn
 ovations is prohibited in the United States.&amp;nbsp\; There is also a mistak
 en belief that &quot;software patents&quot; are unenforceable. &amp;nbsp\;&lt;/p&gt;\n&lt;p&gt;This 
 Software Patent Presentation\, as presented by Benjamin Edlavitch of Edlav
 itch Law PLLC\, will debunk these myths and provide practical approaches t
 o procuring patents on software innovations as well as enforcing\, defendi
 ng\, and monetizing such patents.&lt;/p&gt;\n&lt;p&gt;Ben is a USPTO registered patent
  attorney with unique technical backgrounds in the life sciences\, softwar
 e\, and electrical and computer engineering. &amp;nbsp\;Also\, with over 26 ye
 ars of experience in the IT industry (8+ years as a software developer and
  18+ years as an IP law specialist)\, Ben advises clients on complex comme
 rcial agreements and technology licenses. This includes counseling clients
  on open source software issues and other legal concerns associated with c
 omputing and e-commerce.&lt;/p&gt;\n&lt;p&gt;&amp;nbsp\;&lt;/p&gt;\n&lt;p&gt;This event is a rechedule
  of the original January 18 date.&lt;/p&gt;&lt;br /&gt;&lt;br /&gt;Agenda: &lt;br /&gt;&lt;p&gt;6-6:30 n
 etworking/pizza time&lt;br /&gt;6:30-6:45 INCOSE/IEEE intros&lt;br /&gt;6:45-7:45 pres
 entation&lt;br /&gt;7:45-8:00 questions&lt;br /&gt;8:00 Library meeting rooms close&lt;/p
 &gt;\n&lt;p&gt;This event is a reschedule of the original January 18 date&lt;/p&gt;
END:VEVENT
END:VCALENDAR

