BEGIN:VCALENDAR
VERSION:2.0
PRODID:IEEE vTools.Events//EN
CALSCALE:GREGORIAN
BEGIN:VTIMEZONE
TZID:America/Lima
BEGIN:DAYLIGHT
DTSTART:20380118T221407
TZOFFSETFROM:-0500
TZOFFSETTO:-0500
RRULE:FREQ=YEARLY;BYDAY=3MO;BYMONTH=1
TZNAME:-05
END:DAYLIGHT
BEGIN:STANDARD
DTSTART:19940331T230000
TZOFFSETFROM:-0400
TZOFFSETTO:-0500
RRULE:FREQ=YEARLY;BYDAY=-1TH;BYMONTH=3
TZNAME:-05
END:STANDARD
END:VTIMEZONE
BEGIN:VEVENT
DTSTAMP:20240115T203926Z
UID:77F849D6-C3DF-4D08-9CB4-6C78350A4F3D
DTSTART;TZID=America/Lima:20231205T100000
DTEND;TZID=America/Lima:20231206T170000
DESCRIPTION:Únete al emocionante &quot;Festival Cultural Científico y Artísti
 co&quot; donde convergen la tecnología\, la creatividad y la exploración. Des
 cubre un fascinante mundo de conocimiento a través de presentaciones cien
 tíficas\, exposiciones culturales y expresiones artísticas innovadoras. 
 Desde charlas educativas hasta demostraciones en vivo\, este festival te s
 umergirá en la intersección de la ciencia\, la cultura y el arte.\n\nPre
 párate para una experiencia enriquecedora que celebra la diversidad de la
  mente humana\, desde los avances científicos más recientes hasta las ex
 presiones artísticas más cautivadoras.\n\n¡No te pierdas la oportunidad
  de participar en este evento único que despierta la curiosidad\, fomenta
  la creatividad y promueve el aprendizaje interdisciplinario! 🚀🎨🔍
 \n\nAv. Túpac Amaru 210\, Rímac\, Lima\, Lima\, Peru
LOCATION:Av. Túpac Amaru 210\, Rímac\, Lima\, Lima\, Peru
ORGANIZER:ieee.aess@uni.edu.pe
SEQUENCE:25
SUMMARY:🛰️ Hatun Mayu &amp; AESS UNI en Festival Cultural Científico y Ar
 tístico 🔬
URL;VALUE=URI:https://events.vtools.ieee.org/m/400540
X-ALT-DESC:Description: &lt;br /&gt;&lt;div class=&quot;flex-1 overflow-hidden&quot;&gt;\n&lt;div cl
 ass=&quot;react-scroll-to-bottom--css-ztacs-79elbk h-full&quot;&gt;\n&lt;div class=&quot;react-
 scroll-to-bottom--css-ztacs-1n7m0yu&quot;&gt;\n&lt;div class=&quot;flex flex-col pb-9 text
 -sm&quot;&gt;\n&lt;div class=&quot;w-full text-token-text-primary&quot; data-testid=&quot;conversati
 on-turn-7&quot;&gt;\n&lt;div class=&quot;px-4 py-2 justify-center text-base md:gap-6 m-aut
 o&quot;&gt;\n&lt;div class=&quot;flex flex-1 text-base mx-auto gap-3 md:px-5 lg:px-1 xl:px
 -5 md:max-w-3xl lg:max-w-[40rem] xl:max-w-[48rem] group final-completion&quot;&gt;
 \n&lt;div class=&quot;relative flex w-full flex-col lg:w-[calc(100%-115px)] agent-
 turn&quot;&gt;\n&lt;div class=&quot;flex-col gap-1 md:gap-3&quot;&gt;\n&lt;div class=&quot;flex flex-grow 
 flex-col max-w-full&quot;&gt;\n&lt;div class=&quot;min-h-[20px] text-message flex flex-col
  items-start gap-3 whitespace-pre-wrap break-words [.text-message+&amp;amp\;]:
 mt-5 overflow-x-auto&quot; data-message-author-role=&quot;assistant&quot; data-message-id
 =&quot;66ffd915-8ebb-4a73-b669-eab96f2e09de&quot;&gt;\n&lt;div class=&quot;markdown prose w-ful
 l break-words dark:prose-invert dark&quot;&gt;\n&lt;p&gt;&amp;Uacute\;nete al emocionante &quot;F
 estival Cultural Cient&amp;iacute\;fico y Art&amp;iacute\;stico&quot; donde convergen l
 a tecnolog&amp;iacute\;a\, la creatividad y la exploraci&amp;oacute\;n.&amp;nbsp\;Desc
 ubre un fascinante mundo de conocimiento a trav&amp;eacute\;s de presentacione
 s cient&amp;iacute\;ficas\, exposiciones culturales y expresiones art&amp;iacute\;
 sticas innovadoras. Desde charlas educativas hasta demostraciones en vivo\
 , este festival te sumergir&amp;aacute\; en la intersecci&amp;oacute\;n de la cien
 cia\, la cultura y el arte.&lt;/p&gt;\n&lt;p&gt;Prep&amp;aacute\;rate para una experiencia
  enriquecedora que celebra la diversidad de la mente humana\, desde los av
 ances cient&amp;iacute\;ficos m&amp;aacute\;s recientes hasta las expresiones art&amp;
 iacute\;sticas m&amp;aacute\;s cautivadoras.&lt;/p&gt;\n&lt;p&gt;&amp;iexcl\;No te pierdas la 
 oportunidad de participar en este evento &amp;uacute\;nico que despierta la cu
 riosidad\, fomenta la creatividad y promueve el aprendizaje interdisciplin
 ario! 🚀🎨🔍&lt;/p&gt;\n&lt;/div&gt;\n&lt;/div&gt;\n&lt;/div&gt;\n&lt;/div&gt;\n&lt;/div&gt;\n&lt;/div&gt;\n&lt;/
 div&gt;\n&lt;/div&gt;\n&lt;/div&gt;\n&lt;/div&gt;\n&lt;/div&gt;\n&lt;/div&gt;
END:VEVENT
END:VCALENDAR

