BEGIN:VCALENDAR
VERSION:2.0
PRODID:IEEE vTools.Events//EN
CALSCALE:GREGORIAN
BEGIN:VTIMEZONE
TZID:America/New_York
BEGIN:DAYLIGHT
DTSTART:20240310T030000
TZOFFSETFROM:-0500
TZOFFSETTO:-0400
RRULE:FREQ=YEARLY;BYDAY=2SU;BYMONTH=3
TZNAME:EDT
END:DAYLIGHT
BEGIN:STANDARD
DTSTART:20241103T010000
TZOFFSETFROM:-0400
TZOFFSETTO:-0500
RRULE:FREQ=YEARLY;BYDAY=1SU;BYMONTH=11
TZNAME:EST
END:STANDARD
END:VTIMEZONE
BEGIN:VEVENT
DTSTAMP:20240414T183021Z
UID:B707580F-1391-4664-A9B3-B1B978AEE656
DTSTART;TZID=America/New_York:20240410T170000
DTEND;TZID=America/New_York:20240410T190000
DESCRIPTION:AI for Wireless: Application Areas\n\nArtificial Intelligence (
 AI) became popular for identifying dog and cats in images and now it is in
  every part of our lives. It is even showing up in wireless systems. It fi
 rst started with identifying modulation types in an academic paper. Now 3G
 PP is considering physical layer algorithms to boost system performance. R
 esearchers are looking into designing communication links using AI without
  explicit modulation and error correction algorithms. In this talk\, we ar
 e going to go over application areas of AI in the wireless communications 
 systems focusing on physical layer algorithm. One of the hardest parts for
  communications systems engineers who have been using MATLAB is to get int
 o a new field using a new tool. So\, we will use MATLAB as our main platfo
 rm but also talk about interoperability with Python-based tools.\n\nEvent 
 Date changed to\n\nApril 3\, 2024\n\nFurther Date Change due to Snow Storm
  on April 3rd 2024\n\nApril 10\, 2024\n\nRoom also changed to 128 B from 1
 04-113.\n\nSpeaker(s): Dr. Ethem Mutlu Sozer\, \n\nAgenda: \n5:00 PM Pizza
  and Refreshments (Please register for this event so that we will know how
  many pizzas and refreshments we will order)\n\n5:15 PM Introducing Speake
 r\n\n5:20 PM Talk\n\n6:30 Questions\n\nRoom: 128 B \, Bldg: School of Engi
 neering\, Technology and Aeronautics\, 2500 N River Rd\, Hooksett\, New Ha
 mpshire\, United States\, 03106\, Virtual: https://events.vtools.ieee.org/
 m/400825
LOCATION:Room: 128 B \, Bldg: School of Engineering\, Technology and Aerona
 utics\, 2500 N River Rd\, Hooksett\, New Hampshire\, United States\, 03106
 \, Virtual: https://events.vtools.ieee.org/m/400825
ORGANIZER:baris.kazar@oracle.com
SEQUENCE:28
SUMMARY:AI for Wireless: Application Areas
URL;VALUE=URI:https://events.vtools.ieee.org/m/400825
X-ALT-DESC:Description: &lt;br /&gt;&lt;p&gt;&lt;span style=&quot;text-decoration: underline\;&quot;
 &gt;&lt;strong&gt;AI for Wireless: Application Areas&lt;/strong&gt;&lt;/span&gt;&lt;/p&gt;\n&lt;p&gt;Artifi
 cial Intelligence (AI) became popular for identifying dog and cats in imag
 es and now it is in every part of our lives. It is even showing up in wire
 less systems. It first started with identifying modulation types in an aca
 demic paper. Now 3GPP is considering physical layer algorithms to boost sy
 stem performance. Researchers are looking into designing communication lin
 ks using AI without explicit modulation and error correction algorithms. I
 n this talk\, we are going to go over application areas of AI in the wirel
 ess communications systems focusing on physical layer algorithm. One of th
 e hardest parts for communications systems engineers who have been using M
 ATLAB is to get into a new field using a new tool. So\, we will use MATLAB
  as our main platform but also talk about interoperability with Python-bas
 ed tools.&lt;/p&gt;\n&lt;p&gt;Event Date changed to&lt;/p&gt;\n&lt;p&gt;April 3\, 2024&lt;/p&gt;\n&lt;p&gt;Fur
 ther Date Change due to Snow Storm on April 3rd 2024&lt;/p&gt;\n&lt;p&gt;April 10\, 20
 24&lt;/p&gt;\n&lt;p&gt;Room also changed to 128 B from 104-113.&lt;/p&gt;&lt;br /&gt;&lt;br /&gt;Agenda:
  &lt;br /&gt;&lt;p&gt;5:00 PM Pizza and Refreshments (Please register for this event s
 o that we will know how many pizzas and refreshments we will order)&lt;/p&gt;\n&lt;
 p&gt;5:15 PM Introducing Speaker&lt;/p&gt;\n&lt;p&gt;5:20 PM Talk&lt;/p&gt;\n&lt;p&gt;6:30 Questions&lt;
 /p&gt;
END:VEVENT
END:VCALENDAR

