BEGIN:VCALENDAR
VERSION:2.0
PRODID:IEEE vTools.Events//EN
CALSCALE:GREGORIAN
BEGIN:VTIMEZONE
TZID:America/New_York
BEGIN:DAYLIGHT
DTSTART:20240310T030000
TZOFFSETFROM:-0500
TZOFFSETTO:-0400
RRULE:FREQ=YEARLY;BYDAY=2SU;BYMONTH=3
TZNAME:EDT
END:DAYLIGHT
BEGIN:STANDARD
DTSTART:20231105T010000
TZOFFSETFROM:-0400
TZOFFSETTO:-0500
RRULE:FREQ=YEARLY;BYDAY=1SU;BYMONTH=11
TZNAME:EST
END:STANDARD
END:VTIMEZONE
BEGIN:VEVENT
DTSTAMP:20240210T231820Z
UID:B018C9CA-6159-4020-BD2A-62D8CC2B0A35
DTSTART;TZID=America/New_York:20240205T193000
DTEND;TZID=America/New_York:20240205T203000
DESCRIPTION:This is a planning meeting for the Lehigh Valley WIE Affinity G
 roup. Interested Lehigh Valley Section WIE members or prospective members 
 are welcome to attend.\n\nVirtual: https://events.vtools.ieee.org/m/401162
LOCATION:Virtual: https://events.vtools.ieee.org/m/401162
ORGANIZER:christine.gerveshi@live.com
SEQUENCE:15
SUMMARY:Lehigh Valley WIE Planning Meeting 2/5/24
URL;VALUE=URI:https://events.vtools.ieee.org/m/401162
X-ALT-DESC:Description: &lt;br /&gt;&lt;p&gt;This is a planning meeting for the Lehigh 
 Valley WIE Affinity Group. Interested Lehigh Valley Section WIE members or
  prospective members are welcome to attend.&lt;/p&gt;\n&lt;p&gt;&amp;nbsp\;&lt;/p&gt;
END:VEVENT
END:VCALENDAR

