BEGIN:VCALENDAR
VERSION:2.0
PRODID:IEEE vTools.Events//EN
CALSCALE:GREGORIAN
BEGIN:VTIMEZONE
TZID:Asia/Kolkata
BEGIN:STANDARD
DTSTART:19451014T230000
TZOFFSETFROM:+0630
TZOFFSETTO:+0530
TZNAME:IST
END:STANDARD
END:VTIMEZONE
BEGIN:VEVENT
DTSTAMP:20240417T010106Z
UID:1E5D349D-6424-4305-8603-F1CA7855BA7F
DTSTART;TZID=Asia/Kolkata:20240408T101800
DTEND;TZID=Asia/Kolkata:20240410T101800
DESCRIPTION:workshop is designed to help cloud builders gain the skills and
  knowledge required to effectively build\, manage and own their own servic
 es in AWS using modern DevOps best practices. Participating will take part
 icipants through the application lifecycle end-to-end where they’ll rece
 ive free instructor-led training paired with tutorial style labs to practi
 ce implementation using a selection of leading-edge DevOps tools from AWS 
 Marketplace.\n\nS D M College of Engineering and Technology\, Dharwad\, Ka
 rnataka\, India
LOCATION:S D M College of Engineering and Technology\, Dharwad\, Karnataka\
 , India
ORGANIZER:shnsdmcet@gnail.com
SEQUENCE:16
SUMMARY:Workshop on DevOps tools 
URL;VALUE=URI:https://events.vtools.ieee.org/m/401225
X-ALT-DESC:Description: &lt;br /&gt;&lt;p style=&quot;margin: 0cm\; background: #F9FAFA\;
 &quot;&gt;&lt;span style=&quot;font-family: &#39;AmazonEmberLight&#39;\,serif\; color: #161d2c\;&quot;&gt;
 workshop is designed to help cloud&amp;nbsp\;builders gain the skills and know
 ledge required to effectively build\, manage and own their own services in
  AWS using modern DevOps best practices. Participating will take participa
 nts through the application lifecycle end-to-end where they&amp;rsquo\;ll rece
 ive free instructor-led training paired with tutorial style labs to practi
 ce implementation using a selection of leading-edge DevOps tools from AWS 
 Marketplace.&lt;/span&gt;&lt;/p&gt;\n&lt;p&gt;&amp;nbsp\;&lt;/p&gt;
END:VEVENT
END:VCALENDAR

