BEGIN:VCALENDAR
VERSION:2.0
PRODID:IEEE vTools.Events//EN
CALSCALE:GREGORIAN
BEGIN:VTIMEZONE
TZID:America/New_York
BEGIN:DAYLIGHT
DTSTART:20240310T030000
TZOFFSETFROM:-0500
TZOFFSETTO:-0400
RRULE:FREQ=YEARLY;BYDAY=2SU;BYMONTH=3
TZNAME:EDT
END:DAYLIGHT
BEGIN:STANDARD
DTSTART:20241103T010000
TZOFFSETFROM:-0400
TZOFFSETTO:-0500
RRULE:FREQ=YEARLY;BYDAY=1SU;BYMONTH=11
TZNAME:EST
END:STANDARD
END:VTIMEZONE
BEGIN:VEVENT
DTSTAMP:20240317T223211Z
UID:E08CEFB1-EC9A-4901-BFC8-3492012D97A2
DTSTART;TZID=America/New_York:20240315T150000
DTEND;TZID=America/New_York:20240315T163000
DESCRIPTION:Sense of touch is said to be unique when compared to the other 
 sensors of the\n\nhuman. Action from the human and the reaction from the e
 nvironment should be\n\ntransmitted bidirectionally (bilaterally) if the t
 ouch sense to be effectively\n\ntransmitted. Dr. Abeykoon will discuss abo
 ut his research work of successfully\n\ntransmitting the sense of touch. H
 e will present examples from tele-surgery and\n\ntele-rehabilitation. He w
 ill further present about his research work related to other\n\nareas of r
 obotics including\, sound source localization\, mobile robotics and haptic
 \n\nsensing.\n\nSpeaker(s): Dr. Harsha Abeykoon\, \n\nRoom: 128\, Bldg: Sc
 hool of Engineering\, Technology and Aeronatics\, 2500 North River Rd.\, M
 anchester\, New Hampshire\, United States\, 03106
LOCATION:Room: 128\, Bldg: School of Engineering\, Technology and Aeronatic
 s\, 2500 North River Rd.\, Manchester\, New Hampshire\, United States\, 03
 106
ORGANIZER:bbancroft@ieee.org
SEQUENCE:28
SUMMARY:Touching Remotely – a reality for Virtual Reality (VR)
URL;VALUE=URI:https://events.vtools.ieee.org/m/401317
X-ALT-DESC:Description: &lt;br /&gt;&lt;p class=&quot;p1&quot;&gt;&lt;strong&gt;Sense of touch is said 
 to be unique when compared to the other sensors of the&lt;/strong&gt;&lt;/p&gt;\n&lt;p cl
 ass=&quot;p1&quot;&gt;&lt;strong&gt;human. Action from the human and the reaction from the en
 vironment should be&lt;/strong&gt;&lt;/p&gt;\n&lt;p class=&quot;p1&quot;&gt;&lt;strong&gt;transmitted bidire
 ctionally (bilaterally) if the touch sense to be effectively&lt;/strong&gt;&lt;/p&gt;\
 n&lt;p class=&quot;p1&quot;&gt;&lt;strong&gt;transmitted. Dr. Abeykoon will discuss about his re
 search work of successfully&lt;/strong&gt;&lt;/p&gt;\n&lt;p class=&quot;p1&quot;&gt;&lt;strong&gt;transmitti
 ng the sense of touch. He will present examples from tele-surgery and&lt;/str
 ong&gt;&lt;/p&gt;\n&lt;p class=&quot;p1&quot;&gt;&lt;strong&gt;tele-rehabilitation. He will further prese
 nt about his research work related to other&lt;/strong&gt;&lt;/p&gt;\n&lt;p class=&quot;p1&quot;&gt;&lt;s
 trong&gt;areas of robotics including\, sound source localization\, mobile rob
 otics and haptic&lt;/strong&gt;&lt;/p&gt;\n&lt;p class=&quot;p1&quot;&gt;&lt;strong&gt;sensing.&lt;/strong&gt;&lt;/p&gt;
END:VEVENT
END:VCALENDAR

