BEGIN:VCALENDAR
VERSION:2.0
PRODID:IEEE vTools.Events//EN
CALSCALE:GREGORIAN
BEGIN:VTIMEZONE
TZID:America/Los_Angeles
BEGIN:DAYLIGHT
DTSTART:20240310T030000
TZOFFSETFROM:-0800
TZOFFSETTO:-0700
RRULE:FREQ=YEARLY;BYDAY=2SU;BYMONTH=3
TZNAME:PDT
END:DAYLIGHT
BEGIN:STANDARD
DTSTART:20231105T010000
TZOFFSETFROM:-0700
TZOFFSETTO:-0800
RRULE:FREQ=YEARLY;BYDAY=1SU;BYMONTH=11
TZNAME:PST
END:STANDARD
END:VTIMEZONE
BEGIN:VEVENT
DTSTAMP:20240204T062218Z
UID:6BEDDC74-9DDA-495B-822B-7ADBFEC5392E
DTSTART;TZID=America/Los_Angeles:20240203T083000
DTEND;TZID=America/Los_Angeles:20240203T130000
DESCRIPTION:Annual training event.\n\nAgenda: \nStart Time	End Time	Summary
 \nArrival	8:30	8:50	Arrive\, set up\, and coffee\nPart 1	8:50	9:35	Welcome
  &amp; Agenda\, followed by Vancouver Section Overview\, then IEEE Canada Upda
 tes &amp; Relationship\, diving into About IEEE: Societies &amp; Chapters\, next H
 ow to Run a Successful OU &amp; Event Life Cycles\, and concluding with Concur
  Expense Reporting &amp; Financial Guidelines\nQ&amp;A / Break	9:35	10:05	General 
 Questions and Break\nPart 2	10:05	11:10	Meeting &amp; Volunteer Decorum\, foll
 owed by Conducting Business Meetings (Robert’s Rules of Order)\, then Or
 ganizing Technical Meetings: Hackathon Case Study\, moving to Web\, Commun
 ications &amp; Publicity\, and concluding with Elections &amp; Nominations Cycle\n
 Q&amp;A / Lunch	11:20	12:05	General Questions and Lunch Break\nPart 3	12:05	12
 :50	Conferences - hosting &amp; sponsorships (evaluating opportunities)\, foll
 owed by IEEE Awards/Nominations\, then Member Recruitment\, moving to Offi
 cer Reporting\, followed by IEEE Online Community\, Collabratec\, &amp; List S
 erv\, and concluding with Setting up IEEE Email Account (Google\, Collabra
 tec\, etc)\nAdditional information for location and parking:\nhttps://driv
 e.google.com/file/d/1W88esSPAXe3az2GZOeOAhMa5vJEgCtJq/view?usp=sharing\n\n
 Room: 3119\, Bldg: 2925 Virtual Way Suite #310\, New York Institute of Tec
 hnology - Vancouver Campus\, Vancouver\, British Columbia\, Canada\, V5M 4
 X5\, Virtual: https://events.vtools.ieee.org/m/401433
LOCATION:Room: 3119\, Bldg: 2925 Virtual Way Suite #310\, New York Institut
 e of Technology - Vancouver Campus\, Vancouver\, British Columbia\, Canada
 \, V5M 4X5\, Virtual: https://events.vtools.ieee.org/m/401433
ORGANIZER:zhidali@ieee.org
SEQUENCE:25
SUMMARY:IEEE Vancouver Section 2024 Officer Training
URL;VALUE=URI:https://events.vtools.ieee.org/m/401433
X-ALT-DESC:Description: &lt;br /&gt;&lt;p&gt;Annual training event.&lt;/p&gt;&lt;br /&gt;&lt;br /&gt;Agen
 da: &lt;br /&gt;&lt;p&gt;&amp;nbsp\;&lt;/p&gt;\n&lt;p&gt;&amp;nbsp\;&lt;/p&gt;\n&lt;table style=&quot;height: 516px\;&quot; b
 order=&quot;1&quot; width=&quot;864&quot;&gt;\n&lt;tbody&gt;\n&lt;tr&gt;\n&lt;th&gt;&amp;nbsp\;&lt;/th&gt;\n&lt;th&gt;Start Time&lt;/t
 h&gt;\n&lt;th&gt;End Time&lt;/th&gt;\n&lt;th&gt;Summary&lt;/th&gt;\n&lt;/tr&gt;\n&lt;tr&gt;\n&lt;td&gt;Arrival&lt;/td&gt;\n&lt;t
 d&gt;8:30&lt;/td&gt;\n&lt;td&gt;8:50&lt;/td&gt;\n&lt;td&gt;Arrive\, set up\, and coffee&lt;/td&gt;\n&lt;/tr&gt;\n
 &lt;tr&gt;\n&lt;td&gt;Part 1&lt;/td&gt;\n&lt;td&gt;8:50&lt;/td&gt;\n&lt;td&gt;9:35&lt;/td&gt;\n&lt;td&gt;Welcome &amp;amp\; Ag
 enda\, followed by Vancouver Section Overview\, then IEEE Canada Updates &amp;
 amp\; Relationship\, diving into About IEEE: Societies &amp;amp\; Chapters\, n
 ext How to Run a Successful OU &amp;amp\; Event Life Cycles\, and concluding w
 ith Concur Expense Reporting &amp;amp\; Financial Guidelines&lt;/td&gt;\n&lt;/tr&gt;\n&lt;tr&gt;
 \n&lt;td&gt;Q&amp;amp\;A / Break&lt;/td&gt;\n&lt;td&gt;9:35&lt;/td&gt;\n&lt;td&gt;10:05&lt;/td&gt;\n&lt;td&gt;General Qu
 estions and Break&lt;/td&gt;\n&lt;/tr&gt;\n&lt;tr&gt;\n&lt;td&gt;Part 2&lt;/td&gt;\n&lt;td&gt;10:05&lt;/td&gt;\n&lt;td&gt;
 11:10&lt;/td&gt;\n&lt;td&gt;Meeting &amp;amp\; Volunteer Decorum\, followed by Conducting 
 Business Meetings (Robert&amp;rsquo\;s Rules of Order)\, then Organizing Techn
 ical Meetings: Hackathon Case Study\, moving to Web\, Communications &amp;amp\
 ; Publicity\, and concluding with Elections &amp;amp\; Nominations Cycle&lt;/td&gt;\
 n&lt;/tr&gt;\n&lt;tr&gt;\n&lt;td&gt;Q&amp;amp\;A / Lunch&lt;/td&gt;\n&lt;td&gt;11:20&lt;/td&gt;\n&lt;td&gt;12:05&lt;/td&gt;\n&lt;
 td&gt;General Questions and Lunch Break&lt;/td&gt;\n&lt;/tr&gt;\n&lt;tr&gt;\n&lt;td&gt;Part 3&lt;/td&gt;\n&lt;
 td&gt;12:05&lt;/td&gt;\n&lt;td&gt;12:50&lt;/td&gt;\n&lt;td&gt;Conferences - hosting &amp;amp\; sponsorshi
 ps (evaluating opportunities)\, followed by IEEE Awards/Nominations\, then
  Member Recruitment\, moving to Officer Reporting\, followed by IEEE Onlin
 e Community\, Collabratec\, &amp;amp\; List Serv\, and concluding with Setting
  up IEEE Email Account (Google\, Collabratec\, etc)&lt;/td&gt;\n&lt;/tr&gt;\n&lt;/tbody&gt;\
 n&lt;/table&gt;\n&lt;p&gt;Additional information for &lt;strong&gt;location&lt;/strong&gt; and &lt;st
 rong&gt;parking&lt;/strong&gt;:&lt;br /&gt;&lt;a href=&quot;https://drive.google.com/file/d/1W88e
 sSPAXe3az2GZOeOAhMa5vJEgCtJq/view?usp=sharing&quot;&gt;https://drive.google.com/fi
 le/d/1W88esSPAXe3az2GZOeOAhMa5vJEgCtJq/view?usp=sharing&lt;/a&gt;&lt;/p&gt;
END:VEVENT
END:VCALENDAR

