BEGIN:VCALENDAR
VERSION:2.0
PRODID:IEEE vTools.Events//EN
CALSCALE:GREGORIAN
BEGIN:VTIMEZONE
TZID:America/New_York
BEGIN:DAYLIGHT
DTSTART:20240310T030000
TZOFFSETFROM:-0500
TZOFFSETTO:-0400
RRULE:FREQ=YEARLY;BYDAY=2SU;BYMONTH=3
TZNAME:EDT
END:DAYLIGHT
BEGIN:STANDARD
DTSTART:20231105T010000
TZOFFSETFROM:-0400
TZOFFSETTO:-0500
RRULE:FREQ=YEARLY;BYDAY=1SU;BYMONTH=11
TZNAME:EST
END:STANDARD
END:VTIMEZONE
BEGIN:VEVENT
DTSTAMP:20240225T233803Z
UID:77D90033-B38E-45F9-80E4-8F6173EC20C4
DTSTART;TZID=America/New_York:20240206T180000
DTEND;TZID=America/New_York:20240206T210000
DESCRIPTION:First IEEE PCJS ExCom for 2024\n\nAgenda: \n- Welcome note and 
 Dinner\n\n- Chair/ViceChair/Treasurer/Secretary Report Out\n\n- Society/Ch
 apter Report Out\n\n- ISEC \, Sarnoff\, Awards and Open discussion\n\nRoom
 : 123\, Bldg: Engineering Building\, Armstrong Hall 123\, TCNJ\, Metzger D
 r\, Ewing Township\, New Jersey\, United States\, 08618\, Virtual: https:/
 /events.vtools.ieee.org/m/401570
LOCATION:Room: 123\, Bldg: Engineering Building\, Armstrong Hall 123\, TCNJ
 \, Metzger Dr\, Ewing Township\, New Jersey\, United States\, 08618\, Virt
 ual: https://events.vtools.ieee.org/m/401570
ORGANIZER:
SEQUENCE:16
SUMMARY:IEEE PCJS ExCom Meeting February 2024
URL;VALUE=URI:https://events.vtools.ieee.org/m/401570
X-ALT-DESC:Description: &lt;br /&gt;&lt;p&gt;First IEEE PCJS ExCom for 2024&lt;/p&gt;&lt;br /&gt;&lt;b
 r /&gt;Agenda: &lt;br /&gt;&lt;p&gt;- Welcome note and Dinner&lt;/p&gt;\n&lt;p&gt;- Chair/ViceChair/T
 reasurer/Secretary Report Out&lt;/p&gt;\n&lt;p&gt;- Society/Chapter Report Out&lt;/p&gt;\n&lt;p
 &gt;- ISEC \, Sarnoff\, Awards and Open discussion&lt;/p&gt;
END:VEVENT
END:VCALENDAR

