BEGIN:VCALENDAR
VERSION:2.0
PRODID:IEEE vTools.Events//EN
CALSCALE:GREGORIAN
BEGIN:VTIMEZONE
TZID:America/New_York
BEGIN:DAYLIGHT
DTSTART:20240310T030000
TZOFFSETFROM:-0500
TZOFFSETTO:-0400
RRULE:FREQ=YEARLY;BYDAY=2SU;BYMONTH=3
TZNAME:EDT
END:DAYLIGHT
BEGIN:STANDARD
DTSTART:20241103T010000
TZOFFSETFROM:-0400
TZOFFSETTO:-0500
RRULE:FREQ=YEARLY;BYDAY=1SU;BYMONTH=11
TZNAME:EST
END:STANDARD
END:VTIMEZONE
BEGIN:VEVENT
DTSTAMP:20240429T070032Z
UID:30CBF3AB-9F70-4884-88B5-43D452EE4BF1
DTSTART;TZID=America/New_York:20240426T180000
DTEND;TZID=America/New_York:20240426T190000
DESCRIPTION:Executive board meeting to plan for Spring 2024\n\nRoom: 175\, 
 Bldg: Light Engineering\, Light Engineering\, Stony Brook\, New York\, Uni
 ted States\, 11790
LOCATION:Room: 175\, Bldg: Light Engineering\, Light Engineering\, Stony Br
 ook\, New York\, United States\, 11790
ORGANIZER:ieeesunysb@gmail.com
SEQUENCE:2
SUMMARY:2024-04-26 IEEE at SBU Executive Board Meeting
URL;VALUE=URI:https://events.vtools.ieee.org/m/401628
X-ALT-DESC:Description: &lt;br /&gt;&lt;p&gt;Executive board meeting to plan for Spring
  2024&lt;/p&gt;
END:VEVENT
END:VCALENDAR

